BEGIN:VCALENDAR
VERSION:2.0
PRODID:-// - ECPv6.15.20//NONSGML v1.0//EN
CALSCALE:GREGORIAN
METHOD:PUBLISH
X-ORIGINAL-URL:https://unc-alpes.fr
X-WR-CALDESC:Évènements pour 
REFRESH-INTERVAL;VALUE=DURATION:PT1H
X-Robots-Tag:noindex
X-PUBLISHED-TTL:PT1H
BEGIN:VTIMEZONE
TZID:Europe/Paris
BEGIN:DAYLIGHT
TZOFFSETFROM:+0100
TZOFFSETTO:+0200
TZNAME:CEST
DTSTART:20250330T010000
END:DAYLIGHT
BEGIN:STANDARD
TZOFFSETFROM:+0200
TZOFFSETTO:+0100
TZNAME:CET
DTSTART:20251026T010000
END:STANDARD
BEGIN:DAYLIGHT
TZOFFSETFROM:+0100
TZOFFSETTO:+0200
TZNAME:CEST
DTSTART:20260329T010000
END:DAYLIGHT
BEGIN:STANDARD
TZOFFSETFROM:+0200
TZOFFSETTO:+0100
TZNAME:CET
DTSTART:20261025T010000
END:STANDARD
BEGIN:DAYLIGHT
TZOFFSETFROM:+0100
TZOFFSETTO:+0200
TZNAME:CEST
DTSTART:20270328T010000
END:DAYLIGHT
BEGIN:STANDARD
TZOFFSETFROM:+0200
TZOFFSETTO:+0100
TZNAME:CET
DTSTART:20271031T010000
END:STANDARD
END:VTIMEZONE
BEGIN:VEVENT
DTSTART;TZID=Europe/Paris:20260116T190000
DTEND;TZID=Europe/Paris:20260116T190000
DTSTAMP:20260424T085636
CREATED:20260109T162729Z
LAST-MODIFIED:20260109T162729Z
UID:6013-1768590000-1768590000@unc-alpes.fr
SUMMARY:Conférence
DESCRIPTION:Vendredi 16 janvier\, 19 heures\, Auditorium du Juvénat – 19 rue Fernand David / Ville-la-Grand :\n« Les passages franco-suisses durant la seconde guerre mondiale »
URL:https://unc-alpes.fr/event/conference/
END:VEVENT
BEGIN:VEVENT
DTSTART;TZID=Europe/Paris:20260117T080000
DTEND;TZID=Europe/Paris:20260117T170000
DTSTAMP:20260424T085636
CREATED:20251108T134910Z
LAST-MODIFIED:20251108T134910Z
UID:5329-1768636800-1768669200@unc-alpes.fr
SUMMARY:AG UNC Groisy
DESCRIPTION:
URL:https://unc-alpes.fr/event/ag-unc-groisy-2/
END:VEVENT
BEGIN:VEVENT
DTSTART;TZID=Europe/Paris:20260118T113000
DTEND;TZID=Europe/Paris:20260118T170000
DTSTAMP:20260424T085636
CREATED:20251219T190239Z
LAST-MODIFIED:20260105T123111Z
UID:5910-1768735800-1768755600@unc-alpes.fr
SUMMARY:Hommage à Léon Bouvard et Richard Andrès
DESCRIPTION:Invitation_82eme_anniversaire_MortRAndresLBouvard_dimanche18janvier2026
URL:https://unc-alpes.fr/event/hommage-a-leon-bouvard-et-richard-andres/
END:VEVENT
BEGIN:VEVENT
DTSTART;TZID=Europe/Paris:20260122T080000
DTEND;TZID=Europe/Paris:20260122T170000
DTSTAMP:20260424T085636
CREATED:20260122T091842Z
LAST-MODIFIED:20260122T091842Z
UID:6063-1769068800-1769101200@unc-alpes.fr
SUMMARY:AG de l'UNC Semnoz
DESCRIPTION:
URL:https://unc-alpes.fr/event/ag-de-lunc-semnoz-2/
END:VEVENT
BEGIN:VEVENT
DTSTART;TZID=Europe/Paris:20260124T130000
DTEND;TZID=Europe/Paris:20260124T173000
DTSTAMP:20260424T085636
CREATED:20251108T140841Z
LAST-MODIFIED:20251124T093016Z
UID:5361-1769259600-1769275800@unc-alpes.fr
SUMMARY:CÉRÉMONIE DES VOEUX DE L'UNC 74
DESCRIPTION:L’UNC 74 aura le plaisir de vous accueillir à l' »Espace Rencontre »  d’Annecy le Vieux\, pour vous présenter ses vœux 2026\, un bel après-midi vous attend avec d’abord : \nUne expérience musicale différente \nVeyrier Orchestra est un orchestre composé d’amateurs passionnés\, réunis autour de leur chef et directeur artistique Eric Moron qui\, après avoir dirigé et grandement participé au rayonnement de la fanfare du 27éme BCA\, a décidé de créer cette nouvelle formation. \nAu travers de son répertoire éclectique Veyrier Orchestra sait revêtir différents aspects\, de la formation classique au big band et souhaite ainsi faire partager sa passion. \n  \n  \nPuis ensuite un moment de convivialité et d’échange\, autour du verre de l’amitié.
URL:https://unc-alpes.fr/event/voeux-de-lunc-74/
LOCATION:Espace Rencontre\, 39 route de Thônes\, ANNECY\, AURA\, 74940\, France
END:VEVENT
BEGIN:VEVENT
DTSTART;TZID=Europe/Paris:20260125T080000
DTEND;TZID=Europe/Paris:20260125T170000
DTSTAMP:20260424T085636
CREATED:20251108T135041Z
LAST-MODIFIED:20251108T135041Z
UID:5331-1769328000-1769360400@unc-alpes.fr
SUMMARY:AG UNC Poisy
DESCRIPTION:
URL:https://unc-alpes.fr/event/ag-unc-poisy/
END:VEVENT
BEGIN:VEVENT
DTSTART;TZID=Europe/Paris:20260126T170000
DTEND;TZID=Europe/Paris:20260126T170000
DTSTAMP:20260424T085636
CREATED:20251108T140921Z
LAST-MODIFIED:20251108T140921Z
UID:5363-1769446800-1769446800@unc-alpes.fr
SUMMARY:Vœux des associations Annecy
DESCRIPTION:
URL:https://unc-alpes.fr/event/voeux-des-associations-annecy/
END:VEVENT
BEGIN:VEVENT
DTSTART;TZID=Europe/Paris:20260127T080000
DTEND;TZID=Europe/Paris:20260127T170000
DTSTAMP:20260424T085636
CREATED:20251108T135126Z
LAST-MODIFIED:20251108T135126Z
UID:5334-1769500800-1769533200@unc-alpes.fr
SUMMARY:AG UNC Sallanches
DESCRIPTION:
URL:https://unc-alpes.fr/event/ag-unc-sallanches/
END:VEVENT
BEGIN:VEVENT
DTSTART;TZID=Europe/Paris:20260128T080000
DTEND;TZID=Europe/Paris:20260128T170000
DTSTAMP:20260424T085636
CREATED:20260108T101054Z
LAST-MODIFIED:20260108T101054Z
UID:6008-1769587200-1769619600@unc-alpes.fr
SUMMARY:AG de l'UNC Bons en Chablais
DESCRIPTION:
URL:https://unc-alpes.fr/event/ag-de-lunc-bons-en-chablais-2/
END:VEVENT
BEGIN:VEVENT
DTSTART;TZID=Europe/Paris:20260128T150000
DTEND;TZID=Europe/Paris:20260128T170000
DTSTAMP:20260424T085636
CREATED:20251213T120059Z
LAST-MODIFIED:20251213T120059Z
UID:5848-1769612400-1769619600@unc-alpes.fr
SUMMARY:Les services spéciaux alliés et la résistance en Savoie par Jean-Louis Perquin
DESCRIPTION:Les services spéciaux alliés et la résistance en Savoie par Jean-Louis Perquin\nLa Seconde Guerre mondiale voit la naissance des services spéciaux tels qu’entendus de nos jours encore\, alliant mission traditionnelle de renseignement et besoin nouveau d’action clandestine. Or leur rôle en Savoie reste mal connu à ce jour\, alors même qu’il fut essentiel\, en particulier en matière d’organisation de parachutages permettant d’armer la résistance locale\, puis de conduite des opérations militaires de libération du territoire. Il contribue à donner aux combats en Savoie une dimension internationale. \nLes recherches actuelles permettent de détecter la présence de dix-huit réseaux alliés en Savoie. \nOrganisé par la Société Savoisienne d’Histoire et d’Archéologie\, mercredi 28 janvier à 15h00 aux Archives départementales de la Savoie\, 244 quai de la Rize à Chambéry
URL:https://unc-alpes.fr/event/les-services-speciaux-allies-et-la-resistance-en-savoie-par-jean-louis-perquin/
END:VEVENT
BEGIN:VEVENT
DTSTART;TZID=Europe/Paris:20260128T150000
DTEND;TZID=Europe/Paris:20260128T170000
DTSTAMP:20260424T085636
CREATED:20260109T162845Z
LAST-MODIFIED:20260109T162845Z
UID:6017-1769612400-1769619600@unc-alpes.fr
SUMMARY:Conférence
DESCRIPTION:Mercredi 28 janvier\, 15 heures\, Salle de conférences des archives départementales de la Savoie 244\, quai de la Rize / Chambéry :\n« Les services spéciaux alliés en Savoie pendant la Seconde Guerre mondiale »
URL:https://unc-alpes.fr/event/conference-2/
END:VEVENT
BEGIN:VEVENT
DTSTART;TZID=Europe/Paris:20260131T080000
DTEND;TZID=Europe/Paris:20260131T170000
DTSTAMP:20260424T085636
CREATED:20251108T135225Z
LAST-MODIFIED:20251108T135729Z
UID:5336-1769846400-1769878800@unc-alpes.fr
SUMMARY:AG UNC Publier-Amphion
DESCRIPTION:
URL:https://unc-alpes.fr/event/ag-unc-publier-amphion/
END:VEVENT
BEGIN:VEVENT
DTSTART;TZID=Europe/Paris:20260131T080000
DTEND;TZID=Europe/Paris:20260131T170000
DTSTAMP:20260424T085636
CREATED:20251108T135832Z
LAST-MODIFIED:20260122T201355Z
UID:5338-1769846400-1769878800@unc-alpes.fr
SUMMARY:AG de l'UNC Sillingy
DESCRIPTION:
URL:https://unc-alpes.fr/event/unc-sillingy/
END:VEVENT
BEGIN:VEVENT
DTSTART;TZID=Europe/Paris:20260131T080000
DTEND;TZID=Europe/Paris:20260131T170000
DTSTAMP:20260424T085636
CREATED:20251116T101059Z
LAST-MODIFIED:20251116T101059Z
UID:5478-1769846400-1769878800@unc-alpes.fr
SUMMARY:AG de l'UNC Nancy / Cluses - Le Reposoir
DESCRIPTION:
URL:https://unc-alpes.fr/event/ag-de-lunc-nancy-cluses-le-reposoir/
END:VEVENT
BEGIN:VEVENT
DTSTART;TZID=Europe/Paris:20260131T080000
DTEND;TZID=Europe/Paris:20260131T170000
DTSTAMP:20260424T085636
CREATED:20260122T075723Z
LAST-MODIFIED:20260122T075734Z
UID:6059-1769846400-1769878800@unc-alpes.fr
SUMMARY:portes ouvertes Domitile
DESCRIPTION:JPO 31.01 .26
URL:https://unc-alpes.fr/event/portes-ouvertes-domitile/
END:VEVENT
BEGIN:VEVENT
DTSTART;TZID=Europe/Paris:20260131T080000
DTEND;TZID=Europe/Paris:20260131T170000
DTSTAMP:20260424T085636
CREATED:20260122T201427Z
LAST-MODIFIED:20260122T201427Z
UID:6066-1769846400-1769878800@unc-alpes.fr
SUMMARY:AG de l'UNC Semnoz
DESCRIPTION:
URL:https://unc-alpes.fr/event/ag-de-lunc-semnoz-3/
END:VEVENT
END:VCALENDAR