BEGIN:VCALENDAR
VERSION:2.0
PRODID:-// - ECPv6.15.20//NONSGML v1.0//EN
CALSCALE:GREGORIAN
METHOD:PUBLISH
X-ORIGINAL-URL:https://unc-alpes.fr
X-WR-CALDESC:Évènements pour 
REFRESH-INTERVAL;VALUE=DURATION:PT1H
X-Robots-Tag:noindex
X-PUBLISHED-TTL:PT1H
BEGIN:VTIMEZONE
TZID:Europe/Paris
BEGIN:DAYLIGHT
TZOFFSETFROM:+0100
TZOFFSETTO:+0200
TZNAME:CEST
DTSTART:20240331T010000
END:DAYLIGHT
BEGIN:STANDARD
TZOFFSETFROM:+0200
TZOFFSETTO:+0100
TZNAME:CET
DTSTART:20241027T010000
END:STANDARD
BEGIN:DAYLIGHT
TZOFFSETFROM:+0100
TZOFFSETTO:+0200
TZNAME:CEST
DTSTART:20250330T010000
END:DAYLIGHT
BEGIN:STANDARD
TZOFFSETFROM:+0200
TZOFFSETTO:+0100
TZNAME:CET
DTSTART:20251026T010000
END:STANDARD
BEGIN:DAYLIGHT
TZOFFSETFROM:+0100
TZOFFSETTO:+0200
TZNAME:CEST
DTSTART:20260329T010000
END:DAYLIGHT
BEGIN:STANDARD
TZOFFSETFROM:+0200
TZOFFSETTO:+0100
TZNAME:CET
DTSTART:20261025T010000
END:STANDARD
END:VTIMEZONE
BEGIN:VEVENT
DTSTART;TZID=Europe/Paris:20251114T080000
DTEND;TZID=Europe/Paris:20251220T170000
DTSTAMP:20260424T104756
CREATED:20251028T195640Z
LAST-MODIFIED:20251119T174227Z
UID:5250-1763107200-1766250000@unc-alpes.fr
SUMMARY:Exposition "Top secret" château de Morges
DESCRIPTION:
URL:https://unc-alpes.fr/event/conference-top-secret/
LOCATION:Château de Morges\, MORGES\, Switzerland
END:VEVENT
BEGIN:VEVENT
DTSTART;TZID=Europe/Paris:20251204T183000
DTEND;TZID=Europe/Paris:20251204T183000
DTSTAMP:20260424T104756
CREATED:20251113T200046Z
LAST-MODIFIED:20251113T200046Z
UID:5451-1764873000-1764873000@unc-alpes.fr
SUMMARY:AOR74 - soirée conférence OFLAG XVIIA 1940-1945  La véritable histoire de La Grande Evasion
DESCRIPTION:AnnConf251204Decisier
URL:https://unc-alpes.fr/event/aor74-soiree-conference-oflag-xviia-1940-1945-la-veritable-histoire-de-la-grande-evasion/
END:VEVENT
BEGIN:VEVENT
DTSTART;TZID=Europe/Paris:20251205T080000
DTEND;TZID=Europe/Paris:20251205T170000
DTSTAMP:20260424T104756
CREATED:20251108T134258Z
LAST-MODIFIED:20251108T134336Z
UID:5319-1764921600-1764954000@unc-alpes.fr
SUMMARY:AG UNC Magland
DESCRIPTION:
URL:https://unc-alpes.fr/event/ag-unc-magland/
END:VEVENT
BEGIN:VEVENT
DTSTART;TZID=Europe/Paris:20251205T110000
DTEND;TZID=Europe/Paris:20251205T120000
DTSTAMP:20260424T104756
CREATED:20250630T135429Z
LAST-MODIFIED:20251128T194021Z
UID:4789-1764932400-1764936000@unc-alpes.fr
SUMMARY:J. d’hommage aux morts pour la  France pdt la guerre d’Algérie et les combats au Maroc et en Tunisie
DESCRIPTION:Circulaire prefectorale 05 12 2025\n20251126_NP_DMD74_Cérémonie-AFN-5DEC2025
URL:https://unc-alpes.fr/event/j-dhommage-aux-morts-pour-la-france-pdt-la-guerre-dalgerie-et-les-combats-au-maroc-et-en-tunisie/
LOCATION:Mémorial des AFN\, Square Galbert\, ANNECY\, 74000\, France
END:VEVENT
BEGIN:VEVENT
DTSTART;TZID=Europe/Paris:20251207T080000
DTEND;TZID=Europe/Paris:20251207T170000
DTSTAMP:20260424T104756
CREATED:20251116T101136Z
LAST-MODIFIED:20251116T101156Z
UID:5480-1765094400-1765126800@unc-alpes.fr
SUMMARY:AG de l'UNC Passy
DESCRIPTION:
URL:https://unc-alpes.fr/event/ag-de-lunc-passy-2/
END:VEVENT
BEGIN:VEVENT
DTSTART;TZID=Europe/Paris:20251207T080000
DTEND;TZID=Europe/Paris:20251207T170000
DTSTAMP:20260424T104756
CREATED:20251201T172004Z
LAST-MODIFIED:20251201T172156Z
UID:5763-1765094400-1765126800@unc-alpes.fr
SUMMARY:AG de l'UNC Lugrin
DESCRIPTION:
URL:https://unc-alpes.fr/event/aqg-de-lunc-lugrin/
END:VEVENT
BEGIN:VEVENT
DTSTART;TZID=Europe/Paris:20251208T093000
DTEND;TZID=Europe/Paris:20251208T120000
DTSTAMP:20260424T104756
CREATED:20251125T082137Z
LAST-MODIFIED:20251125T082137Z
UID:5720-1765186200-1765195200@unc-alpes.fr
SUMMARY:Assemblée Générale de l'UDAACM
DESCRIPTION:
URL:https://unc-alpes.fr/event/assemblee-generale-de-ludaacm/
LOCATION:Maison du Combattant et de la Mémoire 13 bis Boulvard du Fier 74000\, 13 bis Boulevard du Fier\, ANNECY\, 74000\, France
END:VEVENT
BEGIN:VEVENT
DTSTART;TZID=Europe/Paris:20251209T080000
DTEND;TZID=Europe/Paris:20251209T170000
DTSTAMP:20260424T104756
CREATED:20251108T134500Z
LAST-MODIFIED:20251108T134500Z
UID:5322-1765267200-1765299600@unc-alpes.fr
SUMMARY:AG UNC du Vuache
DESCRIPTION:
URL:https://unc-alpes.fr/event/ag-unc-du-vuache/
END:VEVENT
BEGIN:VEVENT
DTSTART;TZID=Europe/Paris:20251209T120000
DTEND;TZID=Europe/Paris:20251209T150000
DTSTAMP:20260424T104756
CREATED:20251001T204443Z
LAST-MODIFIED:20251203T105554Z
UID:5118-1765281600-1765292400@unc-alpes.fr
SUMMARY:Banquet des associations à MONTAGNY-LES-LANCHES
DESCRIPTION:Organisé par l’ONAcVG
URL:https://unc-alpes.fr/event/banquet-des-associations-a-montagny-les-lanches-ou-a-thones/
END:VEVENT
BEGIN:VEVENT
DTSTART;TZID=Europe/Paris:20251213T080000
DTEND;TZID=Europe/Paris:20251213T170000
DTSTAMP:20260424T104756
CREATED:20251108T134536Z
LAST-MODIFIED:20251108T134626Z
UID:5324-1765612800-1765645200@unc-alpes.fr
SUMMARY:UNC La Balme de Sillingy
DESCRIPTION:
URL:https://unc-alpes.fr/event/unc-la-balme-de-sillingy/
END:VEVENT
BEGIN:VEVENT
DTSTART;TZID=Europe/Paris:20251213T103000
DTEND;TZID=Europe/Paris:20251213T170000
DTSTAMP:20260424T104756
CREATED:20251210T173854Z
LAST-MODIFIED:20251210T174039Z
UID:5840-1765621800-1765645200@unc-alpes.fr
SUMMARY:Remise de fanion à la préparation militaire marine
DESCRIPTION:carton_d'invitation_FANION_PMM_ANNECY_2025_V3_MJR
URL:https://unc-alpes.fr/event/remise-de-fanion-a-la-preparation-militaire-marine/
LOCATION:1 Place de l’hôtel de ville\, 74600 Annecy
END:VEVENT
BEGIN:VEVENT
DTSTART;TZID=Europe/Paris:20251215T173000
DTEND;TZID=Europe/Paris:20251215T173000
DTSTAMP:20260424T104756
CREATED:20251211T103706Z
LAST-MODIFIED:20251211T103706Z
UID:5844-1765819800-1765819800@unc-alpes.fr
SUMMARY:Réunion préparatoire des cérémonies du premier semestre
DESCRIPTION:
URL:https://unc-alpes.fr/event/reunion-preparatoire-des-ceremonies-du-premier-semestre/
END:VEVENT
BEGIN:VEVENT
DTSTART;TZID=Europe/Paris:20251216T113000
DTEND;TZID=Europe/Paris:20251216T170000
DTSTAMP:20260424T104756
CREATED:20251204T075049Z
LAST-MODIFIED:20251204T075049Z
UID:5790-1765884600-1765904400@unc-alpes.fr
SUMMARY:DÉVOILEMENT DE LA PLAQUE COMMÉMORATIVE EN HOMMAGE AUX  VICTIMES CIVILES DU BOMBARDEMENT DU 11 NOVEMBRE 1943
DESCRIPTION:Invitation_Inauguration_PlaqueLoverchy_mardi16decembre2025\n 
URL:https://unc-alpes.fr/event/devoilement-de-la-plaque-commemorative-en-hommage-aux-victimes-civiles-du-bombardement-du-11-novembre-1943/
END:VEVENT
BEGIN:VEVENT
DTSTART;TZID=Europe/Paris:20251220T080000
DTEND;TZID=Europe/Paris:20251220T170000
DTSTAMP:20260424T104756
CREATED:20251108T134702Z
LAST-MODIFIED:20251108T134702Z
UID:5326-1766217600-1766250000@unc-alpes.fr
SUMMARY:AG UNC Samoëns
DESCRIPTION:
URL:https://unc-alpes.fr/event/ag-unc-samoens-2/
END:VEVENT
BEGIN:VEVENT
DTSTART;TZID=Europe/Paris:20251221T110000
DTEND;TZID=Europe/Paris:20251221T170000
DTSTAMP:20260424T104756
CREATED:20251215T155447Z
LAST-MODIFIED:20251215T155447Z
UID:5891-1766314800-1766336400@unc-alpes.fr
SUMMARY:Commémoration de la tragédie de Noel 1943
DESCRIPTION:
URL:https://unc-alpes.fr/event/commemoration-de-la-tragedie-de-noel-1943/
END:VEVENT
BEGIN:VEVENT
DTSTART;TZID=Europe/Paris:20251222T110000
DTEND;TZID=Europe/Paris:20251222T170000
DTSTAMP:20260424T104756
CREATED:20251215T101453Z
LAST-MODIFIED:20251219T185933Z
UID:5880-1766401200-1766422800@unc-alpes.fr
SUMMARY:Remise de la médaille militaire coréenne à Albert Juventin\, ancien du bataillon français de Corée
DESCRIPTION:
URL:https://unc-alpes.fr/event/commemoration-de-la-tragedie-du-22-12-1943-a-habere-lullin/
END:VEVENT
BEGIN:VEVENT
DTSTART;TZID=Europe/Paris:20251231T101500
DTEND;TZID=Europe/Paris:20251231T170000
DTSTAMP:20260424T104756
CREATED:20251218T084428Z
LAST-MODIFIED:20251218T090123Z
UID:5902-1767176100-1767200400@unc-alpes.fr
SUMMARY:Commémoration de la tragédie de Saint Eustache
DESCRIPTION:
URL:https://unc-alpes.fr/event/commemoration-de-la-tragedie-de-saint-eustache/
END:VEVENT
END:VCALENDAR