BEGIN:VCALENDAR
VERSION:2.0
PRODID:-// - ECPv6.15.20//NONSGML v1.0//EN
CALSCALE:GREGORIAN
METHOD:PUBLISH
X-ORIGINAL-URL:https://unc-alpes.fr
X-WR-CALDESC:Évènements pour 
REFRESH-INTERVAL;VALUE=DURATION:PT1H
X-Robots-Tag:noindex
X-PUBLISHED-TTL:PT1H
BEGIN:VTIMEZONE
TZID:Europe/Paris
BEGIN:DAYLIGHT
TZOFFSETFROM:+0100
TZOFFSETTO:+0200
TZNAME:CEST
DTSTART:20240331T010000
END:DAYLIGHT
BEGIN:STANDARD
TZOFFSETFROM:+0200
TZOFFSETTO:+0100
TZNAME:CET
DTSTART:20241027T010000
END:STANDARD
BEGIN:DAYLIGHT
TZOFFSETFROM:+0100
TZOFFSETTO:+0200
TZNAME:CEST
DTSTART:20250330T010000
END:DAYLIGHT
BEGIN:STANDARD
TZOFFSETFROM:+0200
TZOFFSETTO:+0100
TZNAME:CET
DTSTART:20251026T010000
END:STANDARD
BEGIN:DAYLIGHT
TZOFFSETFROM:+0100
TZOFFSETTO:+0200
TZNAME:CEST
DTSTART:20260329T010000
END:DAYLIGHT
BEGIN:STANDARD
TZOFFSETFROM:+0200
TZOFFSETTO:+0100
TZNAME:CET
DTSTART:20261025T010000
END:STANDARD
END:VTIMEZONE
BEGIN:VEVENT
DTSTART;TZID=Europe/Paris:20250704T110000
DTEND;TZID=Europe/Paris:20250704T170000
DTSTAMP:20260424T192223
CREATED:20250618T173653Z
LAST-MODIFIED:20250702T200730Z
UID:4759-1751626800-1751648400@unc-alpes.fr
SUMMARY:Remise du Mérite UNC Grand Or à Robert BUGNET
DESCRIPTION:invitation cérémonie du 04 juillet 2025
URL:https://unc-alpes.fr/event/remise-du-merite-unc-grand-or-a-robert-bugnet/
END:VEVENT
BEGIN:VEVENT
DTSTART;TZID=Europe/Paris:20250704T110000
DTEND;TZID=Europe/Paris:20250704T170000
DTSTAMP:20260424T192223
CREATED:20250624T070928Z
LAST-MODIFIED:20250626T080438Z
UID:4766-1751626800-1751648400@unc-alpes.fr
SUMMARY:Passation de commandement du 27e BCA
DESCRIPTION:invitation passation de commandement (1)\n20250625_NP_27BCA-OSA_NDS801607-CEREMONIE-DE-PASSATION-DE-COMMANDEMENT DU 27E BCA
URL:https://unc-alpes.fr/event/passation-de-commandement-du-27e-bca/
END:VEVENT
BEGIN:VEVENT
DTSTART;VALUE=DATE:20250705
DTEND;VALUE=DATE:20250706
DTSTAMP:20260424T192223
CREATED:20250517T072456Z
LAST-MODIFIED:20250616T061837Z
UID:4643-1751673600-1751759999@unc-alpes.fr
SUMMARY:Concours de pétanque de l'UNC 74 à Minzier
DESCRIPTION:inscrivez vous auprès de votre président\nNB : pas de frais d’inscription cette année!\ndéjeuner sous chapiteau : 16€ / personne\n\nouvert aux adhérents\, familles\, amis
URL:https://unc-alpes.fr/event/concours-de-petanque-de-lunc-74-a-minzier/
END:VEVENT
BEGIN:VEVENT
DTSTART;TZID=Europe/Paris:20250714T100000
DTEND;TZID=Europe/Paris:20250714T235900
DTSTAMP:20260424T192223
CREATED:20250517T072559Z
LAST-MODIFIED:20250708T162847Z
UID:4646-1752487200-1752537540@unc-alpes.fr
SUMMARY:FETE NATIONALE
DESCRIPTION:20250708_NP_DMD74_NOTE_Cérémonie-14 juillet-2025-ANNECY
URL:https://unc-alpes.fr/event/fete-nationale/
END:VEVENT
BEGIN:VEVENT
DTSTART;TZID=Europe/Paris:20250714T183000
DTEND;TZID=Europe/Paris:20250714T183000
DTSTAMP:20260424T192223
CREATED:20250710T160544Z
LAST-MODIFIED:20250710T160544Z
UID:4834-1752517800-1752517800@unc-alpes.fr
SUMMARY:Remise LH à G.Bugnet
DESCRIPTION:utf-8''Invitation remise médaille légion dHonneur M.BUGNET
URL:https://unc-alpes.fr/event/remise-lh-a-g-bugnet/
LOCATION:Péron
END:VEVENT
BEGIN:VEVENT
DTSTART;TZID=Europe/Paris:20250720T100000
DTEND;TZID=Europe/Paris:20250720T170000
DTSTAMP:20260424T192223
CREATED:20250702T195757Z
LAST-MODIFIED:20250702T195757Z
UID:4799-1753005600-1753030800@unc-alpes.fr
SUMMARY:Hommage aux Justes de France - Thonon-les-Bains
DESCRIPTION:
URL:https://unc-alpes.fr/event/hommage-aux-justes-de-france-thonon-les-bains/
END:VEVENT
BEGIN:VEVENT
DTSTART;TZID=Europe/Paris:20250720T110000
DTEND;TZID=Europe/Paris:20250720T170000
DTSTAMP:20260424T192223
CREATED:20250630T134839Z
LAST-MODIFIED:20250715T131510Z
UID:4777-1753009200-1753030800@unc-alpes.fr
SUMMARY:J. natle en hommage à la mémoire des victimes des crimes racistes et antisémites de l’Etat français et d’hommage aux Justes de France
DESCRIPTION:250715 Invitation mémoire victime des crimes racistes et antisémites\n20250715-NDS-ONaCVG- 20-07-2025
URL:https://unc-alpes.fr/event/j-natle-en-hommage-a-la-memoire-des-victimes-des-crimes-racistes-et-antisemites-de-letat-francais-et-dhommage-aux-justes-de-france/
END:VEVENT
BEGIN:VEVENT
DTSTART;TZID=Europe/Paris:20250730T100000
DTEND;TZID=Europe/Paris:20250730T120000
DTSTAMP:20260424T192223
CREATED:20250717T080423Z
LAST-MODIFIED:20250728T073742Z
UID:4851-1753869600-1753876800@unc-alpes.fr
SUMMARY:Cérémonie commémorative du maquis de la Mandallaz à la Balme
DESCRIPTION:250717 invitation 30-07 Maquisard LA BALME
URL:https://unc-alpes.fr/event/ceremonie-commemorative-du-maquis-de-la-mandallaz/
END:VEVENT
BEGIN:VEVENT
DTSTART;TZID=Europe/Paris:20250730T113000
DTEND;TZID=Europe/Paris:20250730T170000
DTSTAMP:20260424T192223
CREATED:20250728T073646Z
LAST-MODIFIED:20250728T073646Z
UID:4877-1753875000-1753894800@unc-alpes.fr
SUMMARY:Cérémonie commémorative du maquis de la Mandallaz à Epagny
DESCRIPTION:
URL:https://unc-alpes.fr/event/ceremonie-commemorative-du-maquis-de-la-mandallaz-a-epagny/
END:VEVENT
BEGIN:VEVENT
DTSTART;TZID=Europe/Paris:20250730T143000
DTEND;TZID=Europe/Paris:20250730T170000
DTSTAMP:20260424T192223
CREATED:20250728T061950Z
LAST-MODIFIED:20250728T062010Z
UID:4873-1753885800-1753894800@unc-alpes.fr
SUMMARY:Obsèques de Gaston RUHIN
DESCRIPTION:14h30 église de St Jean de Boege
URL:https://unc-alpes.fr/event/obseques-de-gaston-ruhin/
END:VEVENT
END:VCALENDAR