BEGIN:VCALENDAR
VERSION:2.0
PRODID:-// - ECPv6.15.20//NONSGML v1.0//EN
CALSCALE:GREGORIAN
METHOD:PUBLISH
X-ORIGINAL-URL:https://unc-alpes.fr
X-WR-CALDESC:Évènements pour 
REFRESH-INTERVAL;VALUE=DURATION:PT1H
X-Robots-Tag:noindex
X-PUBLISHED-TTL:PT1H
BEGIN:VTIMEZONE
TZID:Europe/Paris
BEGIN:DAYLIGHT
TZOFFSETFROM:+0100
TZOFFSETTO:+0200
TZNAME:CEST
DTSTART:20240331T010000
END:DAYLIGHT
BEGIN:STANDARD
TZOFFSETFROM:+0200
TZOFFSETTO:+0100
TZNAME:CET
DTSTART:20241027T010000
END:STANDARD
BEGIN:DAYLIGHT
TZOFFSETFROM:+0100
TZOFFSETTO:+0200
TZNAME:CEST
DTSTART:20250330T010000
END:DAYLIGHT
BEGIN:STANDARD
TZOFFSETFROM:+0200
TZOFFSETTO:+0100
TZNAME:CET
DTSTART:20251026T010000
END:STANDARD
BEGIN:DAYLIGHT
TZOFFSETFROM:+0100
TZOFFSETTO:+0200
TZNAME:CEST
DTSTART:20260329T010000
END:DAYLIGHT
BEGIN:STANDARD
TZOFFSETFROM:+0200
TZOFFSETTO:+0100
TZNAME:CET
DTSTART:20261025T010000
END:STANDARD
END:VTIMEZONE
BEGIN:VEVENT
DTSTART;TZID=Europe/Paris:20250603T110000
DTEND;TZID=Europe/Paris:20250603T170000
DTSTAMP:20260424T204740
CREATED:20250519T123330Z
LAST-MODIFIED:20250519T123330Z
UID:4665-1748948400-1748970000@unc-alpes.fr
SUMMARY:22e Journée internationale  des Casques bleus des Nations Unies
DESCRIPTION:250506 Invitation Journée Casques Bleus 3 juin 2025 Thonon
URL:https://unc-alpes.fr/event/22e-journee-internationale-des-casques-bleus-des-nations-unies/
END:VEVENT
BEGIN:VEVENT
DTSTART;TZID=Europe/Paris:20250604T080000
DTEND;TZID=Europe/Paris:20250604T143000
DTSTAMP:20260424T204740
CREATED:20250517T070033Z
LAST-MODIFIED:20250517T070033Z
UID:4628-1749024000-1749047400@unc-alpes.fr
SUMMARY:REMISE DU PRIX DÉPARTEMENTAL DE LA RÉSISTANCE ET DE LA DÉPORTATION
DESCRIPTION:Invitation-CNRD-2025-V2
URL:https://unc-alpes.fr/event/remise-du-prix-departemental-de-la-resistance-et-de-la-deportation/
END:VEVENT
BEGIN:VEVENT
DTSTART;TZID=Europe/Paris:20250608T110000
DTEND;TZID=Europe/Paris:20250608T120000
DTSTAMP:20260424T204740
CREATED:20250313T091651Z
LAST-MODIFIED:20250602T065842Z
UID:4376-1749380400-1749384000@unc-alpes.fr
SUMMARY:Hommage national aux morts pour la France en Indochine
DESCRIPTION:250520 invitation hommage morts Indo le 8 juin 2025 à Annecy\n2025_05_13_Message UNC_Indochine\n20250527_NP_DMD74_NORG-1155_Cérémonie-Indochine-08-juin-2025-Annecy
URL:https://unc-alpes.fr/event/hommage-national-aux-morts-pour-la-france-en-indochine/
ATTACH;FMTTYPE=image/jpeg:https://unc-alpes.fr/wp-content/uploads/2025/03/Indo.jpg
END:VEVENT
BEGIN:VEVENT
DTSTART;TZID=Europe/Paris:20250611T160000
DTEND;TZID=Europe/Paris:20250611T170000
DTSTAMP:20260424T204740
CREATED:20250526T122832Z
LAST-MODIFIED:20250526T122832Z
UID:4697-1749657600-1749661200@unc-alpes.fr
SUMMARY:Sports Armées Jeunesse - Cérémonie de clôture et remise des médailles
DESCRIPTION:Invitation - les Puisots (1)
URL:https://unc-alpes.fr/event/sports-armees-jeunesse-ceremonie-de-cloture-et-remise-des-medailles/
END:VEVENT
BEGIN:VEVENT
DTSTART;TZID=Europe/Paris:20250614T090000
DTEND;TZID=Europe/Paris:20250614T140000
DTSTAMP:20260424T204740
CREATED:20250313T091943Z
LAST-MODIFIED:20250313T091943Z
UID:4378-1749891600-1749909600@unc-alpes.fr
SUMMARY:Journée des nouveaux présidents des associations UNC locales
DESCRIPTION:
URL:https://unc-alpes.fr/event/journee-des-nouveaux-presidents-des-associations-unc-locales/
LOCATION:Maison du Combattant et de la Mémoire 13 bis Boulvard du Fier 74000\, 13 bis Boulevard du Fier\, ANNECY\, 74000\, France
END:VEVENT
BEGIN:VEVENT
DTSTART;TZID=Europe/Paris:20250615T100000
DTEND;TZID=Europe/Paris:20250615T140000
DTSTAMP:20260424T204740
CREATED:20250313T092237Z
LAST-MODIFIED:20250602T095934Z
UID:4380-1749981600-1749996000@unc-alpes.fr
SUMMARY:Mémoire des 450 fusillés de Haute-Savoie durant l'occupation
DESCRIPTION:Invitation_PuisotsSacconges_Dimanche15juin2025
URL:https://unc-alpes.fr/event/memoire-des-450-fusilles-de-haute-savoie-durant-loccupation/
END:VEVENT
BEGIN:VEVENT
DTSTART;TZID=Europe/Paris:20250617T143000
DTEND;TZID=Europe/Paris:20250617T170000
DTSTAMP:20260424T204740
CREATED:20250517T072156Z
LAST-MODIFIED:20250517T072156Z
UID:4638-1750170600-1750179600@unc-alpes.fr
SUMMARY:Commission solidarité - ONaCVG - Maison du combattant
DESCRIPTION:
URL:https://unc-alpes.fr/event/commission-solidarite-onacvg-maison-du-combattant/
END:VEVENT
BEGIN:VEVENT
DTSTART;TZID=Europe/Paris:20250617T163000
DTEND;TZID=Europe/Paris:20250617T170000
DTSTAMP:20260424T204740
CREATED:20250515T115147Z
LAST-MODIFIED:20250515T115147Z
UID:4624-1750177800-1750179600@unc-alpes.fr
SUMMARY:Réunion de coordination des associations réservistes et patriotiques
DESCRIPTION:ConvocPt250617 (2)
URL:https://unc-alpes.fr/event/reunion-de-coordination-des-associations-reservistes-et-patriotiques/
END:VEVENT
BEGIN:VEVENT
DTSTART;TZID=Europe/Paris:20250617T180000
DTEND;TZID=Europe/Paris:20250617T180000
DTSTAMP:20260424T204740
CREATED:20250517T072250Z
LAST-MODIFIED:20250517T072250Z
UID:4640-1750183200-1750183200@unc-alpes.fr
SUMMARY:Réunion plen. du bureau de l'UNC74
DESCRIPTION:
URL:https://unc-alpes.fr/event/reunion-plen-du-bureau-de-lunc74/
END:VEVENT
BEGIN:VEVENT
DTSTART;TZID=Europe/Paris:20250618T100000
DTEND;TZID=Europe/Paris:20250618T170000
DTSTAMP:20260424T204740
CREATED:20250517T070412Z
LAST-MODIFIED:20250615T183222Z
UID:4631-1750240800-1750266000@unc-alpes.fr
SUMMARY:CEREMONIE APPEL DU 18 JUIN AUX GLIERES
DESCRIPTION:La cérémonie départementale organisée à l’occasion de la journée nationale commémorative de l’appel historique du Général de Gaulle du 18 juin 1940 se déroulera le mercredi 18 juin 2025 à 10h00 sur le plateau des Glières. \nÀ cet effet\, la ville d’Annecy mettra à votre disposition un autocar qui assurera le transport entre le centre-ville d’Annecy et le Plateau des Glières. \nLes horaires de transferts sont les suivants : \n\nÀ partir de 08h00 : RDV place du Souvenir (le car sera stationné dans la rue Sommeiller\, sur les places matérialisées ‘Police Municipale’ et ‘Motos’\, accolées à la place du Souvenir)\n08h30 : départ de l’autocar pour le Plateau des Glières\n09h30 : arrivée sur le Plateau (horaire estimatif)\n12h00 : RDV à l’emplacement de stationnement de l’autocar\, sur le Plateau\n12h30 : départ de l’autocar en direction d’Annecy\n13h30 : arrivée à Annecy (horaire estimatif)\, au lieu de RDV du matin (Place du Souvenir)\n\nAfin de garantir les horaires annoncés et le bon déroulement de la cérémonie dans son ensemble\, nous vous remercions de bien vouloir respecter les horaires indiqués\, faute de quoi\, vous ne pourrez être certain d’être pris en charge comme prévu\, les horaires de départ des sites étant inflexibles. \nNous vous remercions de bien vouloir nous confirmer\, par retour de mail à cette adresse\, votre souhait d’être véhiculé par l’autocar à cette occasion et le nombre de personnes concernées par votre demande.  \nComme à l’accoutumée\, nous privilégions le principe « premières réservations confirmées\, premières accordées ». \nJulie CAHEN \nCabinet du Maire – Service Protocole  \nAssistante de Direction \nMairie d’Annecy : Esplanade de l’Hôtel de Ville – BP 2305 – 74011 ANNECY CEDEX \nAdresse physique de la direction : Mairie de Seynod – 1 Place de l’Hôtel de Ville\, Seynod – 74600 ANNECY \nTéléphone : 04.85.46.70.34 \nMail : julie.cahen@annecy.fr \n20250612_NP_DMD74_NORG_APPEL-18JUIN_Cérémonie-2025-GLIERES\n2024_05_28_Message UNC_18-Juin\n \n  \n 
URL:https://unc-alpes.fr/event/ceremonie-appel-du-18-juin-aux-glieres/
END:VEVENT
BEGIN:VEVENT
DTSTART;TZID=Europe/Paris:20250618T131500
DTEND;TZID=Europe/Paris:20250618T171500
DTSTAMP:20260424T204740
CREATED:20250615T182910Z
LAST-MODIFIED:20250615T182910Z
UID:4735-1750252500-1750266900@unc-alpes.fr
SUMMARY:Marine nationale : la corvette aérienne de l'École Navale de passage à Annecy le 18 juin 2025
DESCRIPTION:L’aéroport Annecy Mont-Blanc recevra le 18 juin prochain\, entre 13h15 et 17h15\, la corvette aérienne de l’École Navale de Brest. Deux appareils Cirrus SR20 de l’escadrille 50S de la Marine nationale et leurs équipages\, ainsi que le CIRFA Marine de Grenoble\, viendront à votre rencontre pour échanger sur leur formation de marin du ciel et sur la Marine nationale. \nEn ce 18 juin 2025\, 85ème anniversaire de l’Appel du général de GAULLE\, un hommage sera rendu aux marins hauts-savoyards morts pour la France et aux marins de l’aéronautique navale morts pour la France. Il sera présidé par le lieutenant-colonel Ludovic ROUGELOT\, Délégué Militaire Départemental Adjoint de Haute-Savoie. \nLes éleves-officiers de l’École Navale\, leurs instructeurs et toute l’équipe des marins réservistes de Haute-Savoie seront ravis de vous accueillir sur le tarmac ! Venez nombreux et n’hésitez pas à amener vos enfants et adolescents à cette occasion. \nPour plus de renseignements : \nhttps://archives.defense.gouv.fr/marine/operations/forces/aeronautique-navale/escadrilles/escadrille-50s.html \nhttps://www.escadrilles.org/aeronavale/escadrille-50s/
URL:https://unc-alpes.fr/event/marine-nationale-la-corvette-aerienne-de-lecole-navale-de-passage-a-annecy-le-18-juin-2025/
END:VEVENT
BEGIN:VEVENT
DTSTART;TZID=Europe/Paris:20250624T181500
DTEND;TZID=Europe/Paris:20250624T181500
DTSTAMP:20260424T204740
CREATED:20250519T131545Z
LAST-MODIFIED:20250519T131847Z
UID:4669-1750788900-1750788900@unc-alpes.fr
SUMMARY:cérémonie de remise des diplômes des élèves porte-drapeaux
DESCRIPTION:utf-8''2025 Invitation remise diplôme
URL:https://unc-alpes.fr/event/ceremonie-de-remise-des-diplomes-des-eleves-porte-drapeaux/
LOCATION:CLUSES
END:VEVENT
BEGIN:VEVENT
DTSTART;TZID=Europe/Paris:20250626T143000
DTEND;TZID=Europe/Paris:20250626T170000
DTSTAMP:20260424T204740
CREATED:20250616T073206Z
LAST-MODIFIED:20250616T073206Z
UID:4741-1750948200-1750957200@unc-alpes.fr
SUMMARY:Reco pétanque Minzier
DESCRIPTION:
URL:https://unc-alpes.fr/event/reco-petanque-minzier/
END:VEVENT
BEGIN:VEVENT
DTSTART;TZID=Europe/Paris:20250626T143000
DTEND;TZID=Europe/Paris:20250626T170000
DTSTAMP:20260424T204740
CREATED:20250616T120637Z
LAST-MODIFIED:20250616T120637Z
UID:4746-1750948200-1750957200@unc-alpes.fr
SUMMARY:Réunion préparatoire des cérémonies du second semestre 2025
DESCRIPTION:DOC160625-16062025133638
URL:https://unc-alpes.fr/event/reunion-preparatoire-des-ceremonies-du-second-semestre-2025/
END:VEVENT
BEGIN:VEVENT
DTSTART;TZID=Europe/Paris:20250627T090000
DTEND;TZID=Europe/Paris:20250627T170000
DTSTAMP:20260424T204740
CREATED:20250618T173455Z
LAST-MODIFIED:20250618T173455Z
UID:4756-1751014800-1751043600@unc-alpes.fr
SUMMARY:Prise de fonction de Monsieur Stéphane DONNOT\, sous-préfet de l’arrondissement de BONNEVILLE
DESCRIPTION:La prise de fonction de Monsieur Stéphane DONNOT\, sous-préfet de l’arrondissement de BONNEVILLE aura lieu le 27 juin 2025 à 9H00 au monument aux Morts\, Quai des Francs-tireurs à BONNEVILLE.
URL:https://unc-alpes.fr/event/prise-de-fonction-de-monsieur-stephane-donnot-sous-prefet-de-larrondissement-de-bonneville/
END:VEVENT
BEGIN:VEVENT
DTSTART;TZID=Europe/Paris:20250628T110000
DTEND;TZID=Europe/Paris:20250628T170000
DTSTAMP:20260424T204740
CREATED:20250617T064451Z
LAST-MODIFIED:20250617T064451Z
UID:4752-1751108400-1751130000@unc-alpes.fr
SUMMARY:Cérémonie du Corps Franc Simon
DESCRIPTION:Stèle du Corps Franc Simon à Saint Martin Bellevue <Mercier>.
URL:https://unc-alpes.fr/event/ceremonie-du-corps-franc-simon/
END:VEVENT
BEGIN:VEVENT
DTSTART;VALUE=DATE:20250629
DTEND;VALUE=DATE:20250630
DTSTAMP:20260424T204740
CREATED:20250527T073122Z
LAST-MODIFIED:20250527T073136Z
UID:4700-1751155200-1751241599@unc-alpes.fr
SUMMARY:Concours pétanque UNC 7Laux
DESCRIPTION:2025-06-29 - Affiche Tournoi Petanque - UNC7Laux
URL:https://unc-alpes.fr/event/concours-petanque-unc-7laux/
END:VEVENT
END:VCALENDAR