BEGIN:VCALENDAR
VERSION:2.0
PRODID:-// - ECPv6.15.20//NONSGML v1.0//EN
CALSCALE:GREGORIAN
METHOD:PUBLISH
X-ORIGINAL-URL:https://unc-alpes.fr
X-WR-CALDESC:Évènements pour 
REFRESH-INTERVAL;VALUE=DURATION:PT1H
X-Robots-Tag:noindex
X-PUBLISHED-TTL:PT1H
BEGIN:VTIMEZONE
TZID:Europe/Paris
BEGIN:DAYLIGHT
TZOFFSETFROM:+0100
TZOFFSETTO:+0200
TZNAME:CEST
DTSTART:20240331T010000
END:DAYLIGHT
BEGIN:STANDARD
TZOFFSETFROM:+0200
TZOFFSETTO:+0100
TZNAME:CET
DTSTART:20241027T010000
END:STANDARD
BEGIN:DAYLIGHT
TZOFFSETFROM:+0100
TZOFFSETTO:+0200
TZNAME:CEST
DTSTART:20250330T010000
END:DAYLIGHT
BEGIN:STANDARD
TZOFFSETFROM:+0200
TZOFFSETTO:+0100
TZNAME:CET
DTSTART:20251026T010000
END:STANDARD
BEGIN:DAYLIGHT
TZOFFSETFROM:+0100
TZOFFSETTO:+0200
TZNAME:CEST
DTSTART:20260329T010000
END:DAYLIGHT
BEGIN:STANDARD
TZOFFSETFROM:+0200
TZOFFSETTO:+0100
TZNAME:CET
DTSTART:20261025T010000
END:STANDARD
END:VTIMEZONE
BEGIN:VEVENT
DTSTART;VALUE=DATE:20250501
DTEND;VALUE=DATE:20250509
DTSTAMP:20260424T222129
CREATED:20250423T151948Z
LAST-MODIFIED:20250423T151948Z
UID:4575-1746057600-1746748799@unc-alpes.fr
SUMMARY:BLEUET DE FRANCE
DESCRIPTION:
URL:https://unc-alpes.fr/event/bleuet-de-france/
END:VEVENT
BEGIN:VEVENT
DTSTART;VALUE=DATE:20250503
DTEND;VALUE=DATE:20250504
DTSTAMP:20260424T222129
CREATED:20250417T134931Z
LAST-MODIFIED:20250417T134931Z
UID:4497-1746230400-1746316799@unc-alpes.fr
SUMMARY:AG de l'UNC Arâches-La Frasse-Flaine
DESCRIPTION:
URL:https://unc-alpes.fr/event/ag-de-lunc-araches-la-frasse-flaine/
END:VEVENT
BEGIN:VEVENT
DTSTART;TZID=Europe/Paris:20250504T100000
DTEND;TZID=Europe/Paris:20250504T110000
DTSTAMP:20260424T222129
CREATED:20250213T174305Z
LAST-MODIFIED:20250423T142514Z
UID:4261-1746352800-1746356400@unc-alpes.fr
SUMMARY:Hommage aux victimes de la cour martiale des 22 février et 4 mai 1944
DESCRIPTION:Invitation_81e_Ceremonie_CourMartiale_MariusVallin_04mai2025
URL:https://unc-alpes.fr/event/memoire-des-victimes-de-la-cour-martiale/
END:VEVENT
BEGIN:VEVENT
DTSTART;VALUE=DATE:20250507
DTEND;VALUE=DATE:20250508
DTSTAMP:20260424T222129
CREATED:20250119T200220Z
LAST-MODIFIED:20250423T142259Z
UID:4051-1746576000-1746662399@unc-alpes.fr
SUMMARY:Colloque ONaCVG avec les 6 classes défense départementale
DESCRIPTION:AFFICHE COLLOQUE 7 mai 2025\nProgramme du colloque du 7 mai 2025 de 10H à 17H00 (Espace rencontre à ANNECY réservé par UNC 74) plus une journée « terrain » sur sites de passages le 21 ou 22 juin : \n• Les passages en Suisse entre 1940 et 1944 (réseaux de Résistance\, services secrets\, exfiltration d’agents et d’équipages d’avions abattus\, populations menacées) ; \nJournée de formation académique\, plus monde combattant et mémoriel 74 plus classe de Monsieur MEROUANI (lycée des Glières de Annemasse) \nØ Programme : \nIntervenants : \n· Le poste du SR Suisse à Genève et son rôle dans les passages par Monsieur David VON FELTEN\, Enseignant au collège secondaire de la commune d’Aigle dans le Chablais vaudois \n· Passage par les réseaux d’évasion et SOE par Monsieur Jean-Louis PERQUIN\, Conférencier ; \n· Les passages de Juifs par Madame Ruth FIVAZ-SILBERMANN\, Docteure en histoire contemporaine ; \n· Les passages dans le Chablais (Réseaux Religieux et Chrétiens) par le Docteur Laurent GENTHON-NEURY\, Chercheur-enseignant à l’Université de Genève ; \n· Douaniers et policiers à ANNEMASSE. Monsieur Thierry LORON\, Président de l’Association Union locale des associations d’anciens combattants d’Annemasse. \nLe programme de la journée « terrain » du 21 ou 22 juin sera précisé ultérieurement. \nContact avec les intervenants extérieurs à charge RRM \nAlimentation : autonome (sauf intervenants) \nTransports : à charge des associations
URL:https://unc-alpes.fr/event/colloque-onacvg-avec-les-6-classes-defense-departementale/
END:VEVENT
BEGIN:VEVENT
DTSTART;VALUE=DATE:20250508
DTEND;VALUE=DATE:20250509
DTSTAMP:20260424T222129
CREATED:20250429T070130Z
LAST-MODIFIED:20250429T070130Z
UID:4590-1746662400-1746748799@unc-alpes.fr
SUMMARY:AG de l’UNC du Chéran
DESCRIPTION:
URL:https://unc-alpes.fr/event/ag-de-lunc-du-cheran/
END:VEVENT
BEGIN:VEVENT
DTSTART;TZID=Europe/Paris:20250508T110000
DTEND;TZID=Europe/Paris:20250508T120000
DTSTAMP:20260424T222129
CREATED:20250213T174413Z
LAST-MODIFIED:20250425T193415Z
UID:4265-1746702000-1746705600@unc-alpes.fr
SUMMARY:CEREMONIE 08 MAI 2025 ANNECY
DESCRIPTION:Invitation_Ceremonies08mai2025_Annecy_Communesdeleguees\n250424 INVIT.PREFET 8 MAI20250423_NP_DMD74_NO_1152_Cérémonie-8-mai-2025-Annecy
URL:https://unc-alpes.fr/event/victoire-liberation-1945/
END:VEVENT
BEGIN:VEVENT
DTSTART;TZID=Europe/Paris:20250508T110000
DTEND;TZID=Europe/Paris:20250508T170000
DTSTAMP:20260424T222129
CREATED:20250423T143407Z
LAST-MODIFIED:20250423T143407Z
UID:4563-1746702000-1746723600@unc-alpes.fr
SUMMARY:8 mai à Marignier
DESCRIPTION:
URL:https://unc-alpes.fr/event/8-mai-a-marignier/
END:VEVENT
BEGIN:VEVENT
DTSTART;TZID=Europe/Paris:20250508T143000
DTEND;TZID=Europe/Paris:20250508T170000
DTSTAMP:20260424T222129
CREATED:20250421T174803Z
LAST-MODIFIED:20250421T174803Z
UID:4537-1746714600-1746723600@unc-alpes.fr
SUMMARY:Film-documentaire sur la résistance 39/45 Cusy et alentours.
DESCRIPTION:
URL:https://unc-alpes.fr/event/film-documentaire-sur-la-resistance-39-45-cusy-et-alentours/
END:VEVENT
BEGIN:VEVENT
DTSTART;VALUE=DATE:20250509
DTEND;VALUE=DATE:20250510
DTSTAMP:20260424T222129
CREATED:20250429T070231Z
LAST-MODIFIED:20250505T122624Z
UID:4592-1746748800-1746835199@unc-alpes.fr
SUMMARY:AG de l’UNC "Pierres de Gué"
DESCRIPTION:
URL:https://unc-alpes.fr/event/ag-de-lunc-pierres-de-gue/
LOCATION:Morzine
END:VEVENT
BEGIN:VEVENT
DTSTART;TZID=Europe/Paris:20250509T203000
DTEND;TZID=Europe/Paris:20250509T203000
DTSTAMP:20260424T222129
CREATED:20250414T112645Z
LAST-MODIFIED:20250414T112645Z
UID:4477-1746822600-1746822600@unc-alpes.fr
SUMMARY:Evocation théâtrale des prisonniers de guerre 1940 - 1945
DESCRIPTION:
URL:https://unc-alpes.fr/event/evocation-theatrale-des-prisonniers-de-guerre-1940-1945/
END:VEVENT
BEGIN:VEVENT
DTSTART;TZID=Europe/Paris:20250512T083000
DTEND;TZID=Europe/Paris:20250512T170000
DTSTAMP:20260424T222129
CREATED:20250403T064556Z
LAST-MODIFIED:20250403T064556Z
UID:4459-1747038600-1747069200@unc-alpes.fr
SUMMARY:Signature des contrats au CIRFA
DESCRIPTION:
URL:https://unc-alpes.fr/event/signature-des-contrats-au-cirfa/
END:VEVENT
BEGIN:VEVENT
DTSTART;TZID=Europe/Paris:20250517T090000
DTEND;TZID=Europe/Paris:20250517T140000
DTSTAMP:20260424T222129
CREATED:20250313T090233Z
LAST-MODIFIED:20250313T090233Z
UID:4365-1747472400-1747490400@unc-alpes.fr
SUMMARY:CA UNC 74
DESCRIPTION:
URL:https://unc-alpes.fr/event/ca-unc-74/
END:VEVENT
BEGIN:VEVENT
DTSTART;TZID=Europe/Paris:20250519T093000
DTEND;TZID=Europe/Paris:20250519T103000
DTSTAMP:20260424T222129
CREATED:20250505T122057Z
LAST-MODIFIED:20250505T122315Z
UID:4615-1747647000-1747650600@unc-alpes.fr
SUMMARY:Cérémonie d'installation de la sous-préfète de Thonon-les-Bains
DESCRIPTION:Invitation
URL:https://unc-alpes.fr/event/ceremonie-dinstallation-de-la-sous-prefete-de-thonon-les-bains/
LOCATION:Thonon les Bains
END:VEVENT
BEGIN:VEVENT
DTSTART;TZID=Europe/Paris:20250520T100000
DTEND;TZID=Europe/Paris:20250520T170000
DTSTAMP:20260424T222129
CREATED:20250423T145330Z
LAST-MODIFIED:20250423T145330Z
UID:4566-1747735200-1747760400@unc-alpes.fr
SUMMARY:Réunion du comité animations - sports de l'UNC 74
DESCRIPTION:Préparation du concours de pétanque à Minzier avec le soutien de l’UNC Frangy-Val-des- Usses
URL:https://unc-alpes.fr/event/reunion-du-comite-animations-sports-de-lunc-74/
END:VEVENT
BEGIN:VEVENT
DTSTART;TZID=Europe/Paris:20250521T180000
DTEND;TZID=Europe/Paris:20250521T180000
DTSTAMP:20260424T222129
CREATED:20250423T141937Z
LAST-MODIFIED:20250423T141937Z
UID:4551-1747850400-1747850400@unc-alpes.fr
SUMMARY:conférence « La  Guerre du Golfe (1990-1991) Opération DAGUET» par Patrick LECUPPRE.
DESCRIPTION:AFFICHE CONFERENCE 21 mai 2025
URL:https://unc-alpes.fr/event/conference-la-guerre-du-golfe-1990-1991-operation-daguet-par-patrick-lecuppre/
END:VEVENT
BEGIN:VEVENT
DTSTART;VALUE=DATE:20250523
DTEND;VALUE=DATE:20250524
DTSTAMP:20260424T222129
CREATED:20250519T071110Z
LAST-MODIFIED:20250519T071110Z
UID:4656-1747958400-1748044799@unc-alpes.fr
SUMMARY:AG de l'UNC Siège
DESCRIPTION:
URL:https://unc-alpes.fr/event/ag-de-lunc-siege/
END:VEVENT
BEGIN:VEVENT
DTSTART;TZID=Europe/Paris:20250523T110000
DTEND;TZID=Europe/Paris:20250523T120000
DTSTAMP:20260424T222129
CREATED:20250313T090527Z
LAST-MODIFIED:20250517T070809Z
UID:4367-1747998000-1748001600@unc-alpes.fr
SUMMARY:Victimes de l'esclavage
DESCRIPTION:240523 Invitation hommage victimes esclavage 23 mai
URL:https://unc-alpes.fr/event/victimes-de-lesclavage/
END:VEVENT
BEGIN:VEVENT
DTSTART;VALUE=DATE:20250524
DTEND;VALUE=DATE:20250525
DTSTAMP:20260424T222129
CREATED:20250313T090715Z
LAST-MODIFIED:20250418T091437Z
UID:4369-1748044800-1748131199@unc-alpes.fr
SUMMARY:UNC siège - conseil des départements
DESCRIPTION:utf-8''2025_04_18_Conseil des departements_Convocation-Programme
URL:https://unc-alpes.fr/event/unc-siege-journee-des-conseils-des-departements/
LOCATION:Paris Ecole Militaire
END:VEVENT
BEGIN:VEVENT
DTSTART;TZID=Europe/Paris:20250524T090000
DTEND;TZID=Europe/Paris:20250524T140000
DTSTAMP:20260424T222129
CREATED:20250519T071520Z
LAST-MODIFIED:20250519T071520Z
UID:4658-1748077200-1748095200@unc-alpes.fr
SUMMARY:AG de l'association AS à Thônes
DESCRIPTION:250505 Invitation AG Armée Secrrète 25 mai 2025 à THONES
URL:https://unc-alpes.fr/event/ag-de-lassociation-as-a-thones/
END:VEVENT
BEGIN:VEVENT
DTSTART;TZID=Europe/Paris:20250527T110000
DTEND;TZID=Europe/Paris:20250527T120000
DTSTAMP:20260424T222129
CREATED:20250313T091412Z
LAST-MODIFIED:20250526T122121Z
UID:4374-1748343600-1748347200@unc-alpes.fr
SUMMARY:Journée nationale de la Résistance
DESCRIPTION:20250522_NP_DMD74_NORG__Cérémonie-JNR-27-mai-2025-Annecy\n250515 invitation cérémonie Journée de la Résistance le 27 mai 2025 à Annecy
URL:https://unc-alpes.fr/event/journee-nationale-de-la-resistance/
END:VEVENT
END:VCALENDAR