BEGIN:VCALENDAR
VERSION:2.0
PRODID:-// - ECPv6.15.20//NONSGML v1.0//EN
CALSCALE:GREGORIAN
METHOD:PUBLISH
X-ORIGINAL-URL:https://unc-alpes.fr
X-WR-CALDESC:Évènements pour 
REFRESH-INTERVAL;VALUE=DURATION:PT1H
X-Robots-Tag:noindex
X-PUBLISHED-TTL:PT1H
BEGIN:VTIMEZONE
TZID:Europe/Paris
BEGIN:DAYLIGHT
TZOFFSETFROM:+0100
TZOFFSETTO:+0200
TZNAME:CEST
DTSTART:20240331T010000
END:DAYLIGHT
BEGIN:STANDARD
TZOFFSETFROM:+0200
TZOFFSETTO:+0100
TZNAME:CET
DTSTART:20241027T010000
END:STANDARD
BEGIN:DAYLIGHT
TZOFFSETFROM:+0100
TZOFFSETTO:+0200
TZNAME:CEST
DTSTART:20250330T010000
END:DAYLIGHT
BEGIN:STANDARD
TZOFFSETFROM:+0200
TZOFFSETTO:+0100
TZNAME:CET
DTSTART:20251026T010000
END:STANDARD
BEGIN:DAYLIGHT
TZOFFSETFROM:+0100
TZOFFSETTO:+0200
TZNAME:CEST
DTSTART:20260329T010000
END:DAYLIGHT
BEGIN:STANDARD
TZOFFSETFROM:+0200
TZOFFSETTO:+0100
TZNAME:CET
DTSTART:20261025T010000
END:STANDARD
END:VTIMEZONE
BEGIN:VEVENT
DTSTART;VALUE=DATE:20250301
DTEND;VALUE=DATE:20250302
DTSTAMP:20260425T011540
CREATED:20250128T151012Z
LAST-MODIFIED:20250128T151203Z
UID:4197-1740787200-1740873599@unc-alpes.fr
SUMMARY:AG de l'UNC Frangy-Val-des-Usses
DESCRIPTION:
URL:https://unc-alpes.fr/event/ag-de-lunc-grangy-val-des-usses/
END:VEVENT
BEGIN:VEVENT
DTSTART;VALUE=DATE:20250301
DTEND;VALUE=DATE:20250302
DTSTAMP:20260425T011540
CREATED:20250206T103540Z
LAST-MODIFIED:20250206T103540Z
UID:4217-1740787200-1740873599@unc-alpes.fr
SUMMARY:AG de l'UNC Cruseilles
DESCRIPTION:
URL:https://unc-alpes.fr/event/ag-de-lunc-cruseilles/
END:VEVENT
BEGIN:VEVENT
DTSTART;VALUE=DATE:20250302
DTEND;VALUE=DATE:20250303
DTSTAMP:20260425T011540
CREATED:20250206T103635Z
LAST-MODIFIED:20250206T103635Z
UID:4220-1740873600-1740959999@unc-alpes.fr
SUMMARY:AG de l'UNC Plateau de Gavot
DESCRIPTION:
URL:https://unc-alpes.fr/event/ag-de-lunc-plateau-de-gavot/
END:VEVENT
BEGIN:VEVENT
DTSTART;TZID=Europe/Paris:20250304T090000
DTEND;TZID=Europe/Paris:20250304T100000
DTSTAMP:20260425T011540
CREATED:20250213T172226Z
LAST-MODIFIED:20250213T172343Z
UID:4241-1741078800-1741082400@unc-alpes.fr
SUMMARY:Parrainage de la signature de contrats des jeunes engagés volontaires de l'armée de terre
DESCRIPTION:
URL:https://unc-alpes.fr/event/petit-dejeuner-des-association-onacvg/
END:VEVENT
BEGIN:VEVENT
DTSTART;TZID=Europe/Paris:20250306T183000
DTEND;TZID=Europe/Paris:20250306T183000
DTSTAMP:20260425T011540
CREATED:20250115T190653Z
LAST-MODIFIED:20250214T210301Z
UID:4043-1741285800-1741285800@unc-alpes.fr
SUMMARY:Conférence « Jean Vallette d’Osia : la bravoure au service de la France et de la Résistance savoyarde ».
DESCRIPTION:Je 06/03 à 18h30 à Annecy (27° BCA) : soirée conférence de l’AOR74 et du Souvenir Français sur le général\nValette d’OsiAnnConf250306Viouta par Jean-Olivier Viout. Descriptif et inscription début février.
URL:https://unc-alpes.fr/event/soiree-conference-sur-le-general-valette-dosia/
END:VEVENT
BEGIN:VEVENT
DTSTART;VALUE=DATE:20250307
DTEND;VALUE=DATE:20250308
DTSTAMP:20260425T011540
CREATED:20250224T141803Z
LAST-MODIFIED:20250224T141803Z
UID:4289-1741305600-1741391999@unc-alpes.fr
SUMMARY:AG de l'UNC Argonay
DESCRIPTION:
URL:https://unc-alpes.fr/event/ag-de-lunc-argonay/
END:VEVENT
BEGIN:VEVENT
DTSTART;TZID=Europe/Paris:20250309T110000
DTEND;TZID=Europe/Paris:20250309T120000
DTSTAMP:20260425T011540
CREATED:20250213T173719Z
LAST-MODIFIED:20250220T103844Z
UID:4253-1741518000-1741521600@unc-alpes.fr
SUMMARY:cérémonie d'hommage au LTN Tom MOREL
DESCRIPTION:250220 Invitation Cérémonie Tom Morel Entremont
URL:https://unc-alpes.fr/event/ceremonies-tom-morel/
END:VEVENT
BEGIN:VEVENT
DTSTART;TZID=Europe/Paris:20250311T110000
DTEND;TZID=Europe/Paris:20250311T120000
DTSTAMP:20260425T011540
CREATED:20250213T172812Z
LAST-MODIFIED:20250227T084429Z
UID:4246-1741690800-1741694400@unc-alpes.fr
SUMMARY:Hommage national aux victimes des attentats terroristes
DESCRIPTION:202502220- cérémonie 11-03-2025
URL:https://unc-alpes.fr/event/reunion-preparatoire-aux-colloques-onacvg/
END:VEVENT
BEGIN:VEVENT
DTSTART;VALUE=DATE:20250315
DTEND;VALUE=DATE:20250316
DTSTAMP:20260425T011540
CREATED:20250128T151336Z
LAST-MODIFIED:20250128T151336Z
UID:4200-1741996800-1742083199@unc-alpes.fr
SUMMARY:AG de l'UNC Thorens-Glières
DESCRIPTION:
URL:https://unc-alpes.fr/event/ag-de-lunc-thorens-glieres/
END:VEVENT
BEGIN:VEVENT
DTSTART;VALUE=DATE:20250315
DTEND;VALUE=DATE:20250316
DTSTAMP:20260425T011540
CREATED:20250213T171907Z
LAST-MODIFIED:20250213T172044Z
UID:4239-1741996800-1742083199@unc-alpes.fr
SUMMARY:AG de l'UNC Thônes
DESCRIPTION:
URL:https://unc-alpes.fr/event/ag-de-lunc-thones/
END:VEVENT
BEGIN:VEVENT
DTSTART;VALUE=DATE:20250315
DTEND;VALUE=DATE:20250316
DTSTAMP:20260425T011540
CREATED:20250224T141848Z
LAST-MODIFIED:20250224T141848Z
UID:4292-1741996800-1742083199@unc-alpes.fr
SUMMARY:AG de l'UNC Evian
DESCRIPTION:
URL:https://unc-alpes.fr/event/ag-de-lunc-evian/
END:VEVENT
BEGIN:VEVENT
DTSTART;VALUE=DATE:20250316
DTEND;VALUE=DATE:20250317
DTSTAMP:20260425T011540
CREATED:20241207T180230Z
LAST-MODIFIED:20241207T180244Z
UID:3781-1742083200-1742169599@unc-alpes.fr
SUMMARY:AG de l’UNC Sallanches-Domancy-Cordon
DESCRIPTION:
URL:https://unc-alpes.fr/event/ag-de-lunc-sallanches-domancy-cordon/
END:VEVENT
BEGIN:VEVENT
DTSTART;VALUE=DATE:20250316
DTEND;VALUE=DATE:20250317
DTSTAMP:20260425T011540
CREATED:20250108T193037Z
LAST-MODIFIED:20250108T193037Z
UID:4005-1742083200-1742169599@unc-alpes.fr
SUMMARY:AG de l'UNC Seyssel
DESCRIPTION:
URL:https://unc-alpes.fr/event/ag-de-lunc-seyssel/
END:VEVENT
BEGIN:VEVENT
DTSTART;VALUE=DATE:20250317
DTEND;VALUE=DATE:20250329
DTSTAMP:20260425T011540
CREATED:20250320T085948Z
LAST-MODIFIED:20250320T090027Z
UID:4396-1742169600-1743206399@unc-alpes.fr
SUMMARY:Exposition sur le retour des déportés à Thonon
DESCRIPTION:Expo grangette
URL:https://unc-alpes.fr/event/exposition-sur-le-retour-des-deportes-a-thonon/
END:VEVENT
BEGIN:VEVENT
DTSTART;TZID=Europe/Paris:20250318T093000
DTEND;TZID=Europe/Paris:20250318T120000
DTSTAMP:20260425T011540
CREATED:20250306T103305Z
LAST-MODIFIED:20250306T103305Z
UID:4339-1742290200-1742299200@unc-alpes.fr
SUMMARY:AG Maison du Combattant et de la Mémoire
DESCRIPTION:
URL:https://unc-alpes.fr/event/ag-maison-du-combattant-et-de-la-memoire/
END:VEVENT
BEGIN:VEVENT
DTSTART;TZID=Europe/Paris:20250318T160000
DTEND;TZID=Europe/Paris:20250318T170000
DTSTAMP:20260425T011540
CREATED:20241207T180533Z
LAST-MODIFIED:20250310T085154Z
UID:3789-1742313600-1742317200@unc-alpes.fr
SUMMARY:Commission solidarité de l’ONaCVG74
DESCRIPTION:
URL:https://unc-alpes.fr/event/commission-solidarite-de-lonacvg74-2/
END:VEVENT
BEGIN:VEVENT
DTSTART;TZID=Europe/Paris:20250320T183000
DTEND;TZID=Europe/Paris:20250320T203000
DTSTAMP:20260425T011540
CREATED:20240504T144403Z
LAST-MODIFIED:20250310T072225Z
UID:3096-1742495400-1742502600@unc-alpes.fr
SUMMARY:Conférence CD74 " la restitution des biens spoliés"
DESCRIPTION:Dans le cadre du cycle de conférences organisé par les directions des Archives départementales et de la Culture-Patrimoine du Département en lien avec les commémorations du 80e anniversaire de la Libération\, Monsieur David Zivie présentera la conférence : « La restitution des biens spoliés ».\nHaut fonctionnaire au ministère de la Culture\, David Zivie est responsable de la Mission de recherche et de restitution des biens culturels spoliés (1933-1945) depuis sa création en 2019\, après avoir publié un rapport sur les politiques de recherche des biens spoliés (Des traces subsistent dans des registres\, 2018).\nDe nombreux biens culturels ont subi pillage\, vol\, confiscation… et peuvent aujourd’hui être conservés par de particuliers ou des institutions publiques.\nMonsieur Zivie présentera notamment comment ces biens sont susceptibles d’être identifiés pour ensuite être restitués à leurs propriétaires.\nCette conférence se tiendra le jeudi 20 mars à 18h30 aux Archives départementales. L’entrée est gratuite\, mais la réservation obligatoire au 04 50 33 20 80 ou à archedep@hautesavoie.fr en précisant vos coordonnées téléphoniques.
URL:https://unc-alpes.fr/event/conference-la-restitution-des-biens-spolies/
LOCATION:Archives départementales\, ANNECY
END:VEVENT
BEGIN:VEVENT
DTSTART;TZID=Europe/Paris:20250320T190000
DTEND;TZID=Europe/Paris:20250320T210000
DTSTAMP:20260425T011540
CREATED:20250227T180511Z
LAST-MODIFIED:20250227T180511Z
UID:4322-1742497200-1742504400@unc-alpes.fr
SUMMARY:Conférence « Proche et Moyen-Orient\, un nouveau Yalta ? »
DESCRIPTION:invitation CLD 3
URL:https://unc-alpes.fr/event/conference-proche-et-moyen-orient-un-nouveau-yalta/
END:VEVENT
BEGIN:VEVENT
DTSTART;TZID=Europe/Paris:20250321T200000
DTEND;TZID=Europe/Paris:20250321T220000
DTSTAMP:20260425T011540
CREATED:20250311T161154Z
LAST-MODIFIED:20250311T161336Z
UID:4351-1742587200-1742594400@unc-alpes.fr
SUMMARY:Conférence "Mai 1945 : Le retour des prisonniers et des déportés" 
DESCRIPTION:Mesdames\, Messieurs \nVALLEE VERTE – SAINT-ANDRE-DE-BOEGE \nA l’occasion du 80ème anniversaire de le libération\, le Comité du Souvenir Français Vallée Verte – Quatre Rivières \nvous propose un conférence « Mai 1945 : Le retour des prisonniers et des déportés » par Michel GERMAIN\, agrégé d’histoire\, spécialiste de l’histoire contemporaine de la haute-Savoie\, le vendredi 21 mars 2025 à 20 heures 00 \nà la salle des fêtes de Saint-André-de-Boëge. Entrée libre. \nAprès une présentation rapide de la situation au printemps 1945\, Michel Germain expliquera qui sont les prisonniers \nde guerre\, puis ce que fut la solidarité en France pour ces derniers et enfin leur retrou en mai 1945 (avec une incursion \nsur les PG évadés de retour en Haute-Savoie). Enfin\, le conférencier nous parlera du retour des déportés : marches de la mort\, attitude des liiers vis à vis des camps\, retour en France et bilan. \nA l’issue de la conférence\, présence le la librairie « Les Bouquineuses » et possibilité de faire dédicasser vos ouvrages.
URL:https://unc-alpes.fr/event/conference-mai-1945-le-retour-des-prisonniers-et-des-deportes/
END:VEVENT
BEGIN:VEVENT
DTSTART;VALUE=DATE:20250322
DTEND;VALUE=DATE:20250323
DTSTAMP:20260425T011540
CREATED:20250108T193151Z
LAST-MODIFIED:20250108T193151Z
UID:4008-1742601600-1742687999@unc-alpes.fr
SUMMARY:AG de l'UNC Mieussy
DESCRIPTION:
URL:https://unc-alpes.fr/event/ag-de-lunc-mieussy/
END:VEVENT
BEGIN:VEVENT
DTSTART;VALUE=DATE:20250322
DTEND;VALUE=DATE:20250323
DTSTAMP:20260425T011540
CREATED:20250227T171918Z
LAST-MODIFIED:20250227T171918Z
UID:4315-1742601600-1742687999@unc-alpes.fr
SUMMARY:AG de l'UNC la Vallée Verte
DESCRIPTION:
URL:https://unc-alpes.fr/event/ag-de-lunc-la-vallee-verte/
END:VEVENT
BEGIN:VEVENT
DTSTART;VALUE=DATE:20250325
DTEND;VALUE=DATE:20250326
DTSTAMP:20260425T011540
CREATED:20250306T103003Z
LAST-MODIFIED:20250306T103003Z
UID:4337-1742860800-1742947199@unc-alpes.fr
SUMMARY:AG de l'UNC LES VOIRONS
DESCRIPTION:
URL:https://unc-alpes.fr/event/ag-de-lunc-les-voirons/
END:VEVENT
BEGIN:VEVENT
DTSTART;VALUE=DATE:20250326
DTEND;VALUE=DATE:20250327
DTSTAMP:20260425T011540
CREATED:20250217T075757Z
LAST-MODIFIED:20250217T075757Z
UID:4274-1742947200-1743033599@unc-alpes.fr
SUMMARY:AG de l'UNC Annecy
DESCRIPTION:
URL:https://unc-alpes.fr/event/ag-de-lunc-annecy/
END:VEVENT
BEGIN:VEVENT
DTSTART;TZID=Europe/Paris:20250326T140000
DTEND;TZID=Europe/Paris:20250326T160000
DTSTAMP:20260425T011540
CREATED:20250213T173601Z
LAST-MODIFIED:20250313T084255Z
UID:4251-1742997600-1743004800@unc-alpes.fr
SUMMARY:Réunion programme colloque du 7 mai et du 8 novembre 2025
DESCRIPTION:PROGRAMME DES COLLOQUES DU 7 MAI ET 8 NOVEMBRE 2025 version 03-03-25 (1)
URL:https://unc-alpes.fr/event/reunion-preparatoire-aux-colloques/
LOCATION:ONaCVG
END:VEVENT
BEGIN:VEVENT
DTSTART;TZID=Europe/Paris:20250326T160000
DTEND;TZID=Europe/Paris:20250326T170000
DTSTAMP:20260425T011540
CREATED:20250320T091146Z
LAST-MODIFIED:20250320T091146Z
UID:4402-1743004800-1743008400@unc-alpes.fr
SUMMARY:Conférence retour des déportés et prisonniers - Thonon
DESCRIPTION:
URL:https://unc-alpes.fr/event/conference-retour-des-deportes-et-prisonniers-thonon/
LOCATION:Thonon
END:VEVENT
BEGIN:VEVENT
DTSTART;TZID=Europe/Paris:20250327T090000
DTEND;TZID=Europe/Paris:20250327T110000
DTSTAMP:20260425T011540
CREATED:20250324T080134Z
LAST-MODIFIED:20250324T080134Z
UID:4406-1743066000-1743073200@unc-alpes.fr
SUMMARY:Concert 27BCA et Ecole Jean Vallon
DESCRIPTION:A l’initiative de Cran Gevrier Animation\, Centre social de la commune déléguée de Cran-Gevrier\, une séance musicale unique est organisée entre la fanfare du 27BCA et les élèves de l’école du Vallon. \nCelle-ci aura lieu le jeudi 27 mars de 9h à 11h à la salle Jean Moulin. \nCet évènement a pour but de valoriser cette fanfare prestigieuse et d’encourager la pratique musicale auprès des jeunes. A l’occasion de ce fort moment de partage et de convivialité\, les équipes seraient honorées de votre présence. \nSi vous souhaitez participer\, nous vous remercions de vous signaler à cette adresse : proximite-crangevrier@annecy.fr. \nRestant à votre écoute et dans l’attente de vous retrouver\, \nBien cordialement\,
URL:https://unc-alpes.fr/event/concert-27bca-et-ecole-jean-vallon/
END:VEVENT
BEGIN:VEVENT
DTSTART;TZID=Europe/Paris:20250327T180000
DTEND;TZID=Europe/Paris:20250327T203000
DTSTAMP:20260425T011540
CREATED:20250214T205831Z
LAST-MODIFIED:20250214T205937Z
UID:4270-1743098400-1743107400@unc-alpes.fr
SUMMARY:Conférence « Le retour des déportés »
DESCRIPTION:AFFICHE CONFERENCE 27 mars 2025
URL:https://unc-alpes.fr/event/conference-le-retour-des-deportes/
END:VEVENT
BEGIN:VEVENT
DTSTART;VALUE=DATE:20250328
DTEND;VALUE=DATE:20250329
DTSTAMP:20260425T011540
CREATED:20250224T141946Z
LAST-MODIFIED:20250224T141946Z
UID:4294-1743120000-1743206399@unc-alpes.fr
SUMMARY:AG de l'UNC La Roche sur Foron
DESCRIPTION:
URL:https://unc-alpes.fr/event/ag-de-lunc-la-roche-sur-foron/
END:VEVENT
BEGIN:VEVENT
DTSTART;TZID=Europe/Paris:20250328T093000
DTEND;TZID=Europe/Paris:20250328T150000
DTSTAMP:20260425T011540
CREATED:20250313T084532Z
LAST-MODIFIED:20250313T084532Z
UID:4356-1743154200-1743174000@unc-alpes.fr
SUMMARY:Préparation - Installation de l'AG UNC 74
DESCRIPTION:
URL:https://unc-alpes.fr/event/preparation-installation-de-lag-unc-74/
END:VEVENT
BEGIN:VEVENT
DTSTART;VALUE=DATE:20250329
DTEND;VALUE=DATE:20250330
DTSTAMP:20260425T011540
CREATED:20241210T101657Z
LAST-MODIFIED:20241210T101657Z
UID:3857-1743206400-1743292799@unc-alpes.fr
SUMMARY:AG de l'UNC 74 à Féternes
DESCRIPTION:
URL:https://unc-alpes.fr/event/ag-de-lunc-74-a-feternes/
END:VEVENT
END:VCALENDAR