BEGIN:VCALENDAR
VERSION:2.0
PRODID:-// - ECPv6.15.20//NONSGML v1.0//EN
CALSCALE:GREGORIAN
METHOD:PUBLISH
X-ORIGINAL-URL:https://unc-alpes.fr
X-WR-CALDESC:Évènements pour 
REFRESH-INTERVAL;VALUE=DURATION:PT1H
X-Robots-Tag:noindex
X-PUBLISHED-TTL:PT1H
BEGIN:VTIMEZONE
TZID:Europe/Paris
BEGIN:DAYLIGHT
TZOFFSETFROM:+0100
TZOFFSETTO:+0200
TZNAME:CEST
DTSTART:20240331T010000
END:DAYLIGHT
BEGIN:STANDARD
TZOFFSETFROM:+0200
TZOFFSETTO:+0100
TZNAME:CET
DTSTART:20241027T010000
END:STANDARD
BEGIN:DAYLIGHT
TZOFFSETFROM:+0100
TZOFFSETTO:+0200
TZNAME:CEST
DTSTART:20250330T010000
END:DAYLIGHT
BEGIN:STANDARD
TZOFFSETFROM:+0200
TZOFFSETTO:+0100
TZNAME:CET
DTSTART:20251026T010000
END:STANDARD
BEGIN:DAYLIGHT
TZOFFSETFROM:+0100
TZOFFSETTO:+0200
TZNAME:CEST
DTSTART:20260329T010000
END:DAYLIGHT
BEGIN:STANDARD
TZOFFSETFROM:+0200
TZOFFSETTO:+0100
TZNAME:CET
DTSTART:20261025T010000
END:STANDARD
END:VTIMEZONE
BEGIN:VEVENT
DTSTART;VALUE=DATE:20250201
DTEND;VALUE=DATE:20250202
DTSTAMP:20260425T025416
CREATED:20241210T101525Z
LAST-MODIFIED:20241210T101525Z
UID:3855-1738368000-1738454399@unc-alpes.fr
SUMMARY:AG de l'UNC Parmelan
DESCRIPTION:
URL:https://unc-alpes.fr/event/ag-de-lunc-parmelan/
END:VEVENT
BEGIN:VEVENT
DTSTART;VALUE=DATE:20250202
DTEND;VALUE=DATE:20250203
DTSTAMP:20260425T025416
CREATED:20241207T184140Z
LAST-MODIFIED:20241207T184536Z
UID:3805-1738454400-1738540799@unc-alpes.fr
SUMMARY:Messe à la mémoire de tous les Morts pour la France et de ceux de l’UNC - Cathédrale Saint-Louis des Invalides -  Ravivage de la Flamme du soldat inconnu sous l’Arc de Triomphe
DESCRIPTION:31/01 au 02/02/2025 : CA de l’UNC – journées des présidents – messe solennelle à la mémoire de tous les Morts pour la France et de ceux de l’UNC en la Cathédrale Saint-Louis des Invalides –  Ravivage de la Flamme du soldat inconnu sous l’Arc de Triomphe
URL:https://unc-alpes.fr/event/messe-a-la-memoire-de-tous-les-morts-pour-la-france-et-de-ceux-de-lunc-cathedrale-saint-louis-des-invalides-ravivage-de-la-flamme-du-soldat-inconnu-sous-larc-de-triomphe/
END:VEVENT
BEGIN:VEVENT
DTSTART;VALUE=DATE:20250203
DTEND;VALUE=DATE:20250204
DTSTAMP:20260425T025416
CREATED:20241207T183723Z
LAST-MODIFIED:20250204T152215Z
UID:3803-1738540800-1738627199@unc-alpes.fr
SUMMARY:Journée des nouveaux présidents de l'UNC
DESCRIPTION:utf-8''2025_ODJ_Journée des nouveaux pre_sidents\n 
URL:https://unc-alpes.fr/event/journee-des-presidents-de-lunc/
END:VEVENT
BEGIN:VEVENT
DTSTART;TZID=Europe/Paris:20250203T180000
DTEND;TZID=Europe/Paris:20250203T180000
DTSTAMP:20260425T025416
CREATED:20250106T152529Z
LAST-MODIFIED:20250106T152529Z
UID:3974-1738605600-1738605600@unc-alpes.fr
SUMMARY:Conférence sur L’éducation populaire : une histoire de la Résistance
DESCRIPTION:Lettre CNRD Conférence 03-02-25
URL:https://unc-alpes.fr/event/conference-sur-leducation-populaire-une-histoire-de-la-resistance/
END:VEVENT
BEGIN:VEVENT
DTSTART;TZID=Europe/Paris:20250203T183000
DTEND;TZID=Europe/Paris:20250203T203000
DTSTAMP:20260425T025416
CREATED:20240504T144147Z
LAST-MODIFIED:20250115T185706Z
UID:3093-1738607400-1738614600@unc-alpes.fr
SUMMARY:Conférence CD74 "la Haute-Savoie : Libération et renouveaux"
DESCRIPTION:Dans le cadre du cycle de conférences organisé par les directions des Archives départementales et de la Culture-Patrimoine du Département en lien avec les commémorations du 80e anniversaire de la Libération\, j’ai le plaisir de vous signaler la prochaine conférence de Corinne Bonafoux et Anne-Sophie Nardelli\, maîtresses de conférences en histoire contemporaine à l’Université Savoie-Mont-Blanc : \n« Libération et sortie de guerre en Haute-Savoie ». \nElles proposent de découvrir l’histoire des lendemains de la Seconde Guerre mondiale en Haute-Savoie à travers plusieurs aspects : l’épuration qui concerne tous les domaines de la société\, la presse\, le retour des déportés et des prisonniers de guerre. Elles abordent également le retour à la vie républicaine\, la question des frontières et la sortie du marasme économique. \nCette conférence se tiendra le lundi 3 février prochain\, à 18h30 aux Archives départementales. \nL’entrée est gratuite\, mais la réservation obligatoire au 04 50 33 20 80 ou à l’adresse archedep@hautesavoie.fr en précisant vos coordonnées téléphoniques. \nPour compléter cette conférence\, une publication est disponible gratuitement à l’accueil des Archives départementales.
URL:https://unc-alpes.fr/event/conference-la-haute-savoie-liberation-et-renouveaux/
LOCATION:Archives départementales\, ANNECY
END:VEVENT
BEGIN:VEVENT
DTSTART;TZID=Europe/Paris:20250204T083000
DTEND;TZID=Europe/Paris:20250204T093000
DTSTAMP:20260425T025416
CREATED:20250121T125955Z
LAST-MODIFIED:20250121T125955Z
UID:4073-1738657800-1738661400@unc-alpes.fr
SUMMARY:Parrainage de la signature des contrats des EVAT
DESCRIPTION:
URL:https://unc-alpes.fr/event/parrainage-de-la-signature-des-contrats-des-evat/
LOCATION:CIRFA Annecy
END:VEVENT
BEGIN:VEVENT
DTSTART;TZID=Europe/Paris:20250204T180000
DTEND;TZID=Europe/Paris:20250204T200000
DTSTAMP:20260425T025416
CREATED:20250109T093954Z
LAST-MODIFIED:20250109T094050Z
UID:4010-1738692000-1738699200@unc-alpes.fr
SUMMARY:Réunion plénière du bureau de l'UNC 74
DESCRIPTION:
URL:https://unc-alpes.fr/event/reunion-pleniere-du-bureau-de-lunc-74/
END:VEVENT
BEGIN:VEVENT
DTSTART;TZID=Europe/Paris:20250205T140000
DTEND;TZID=Europe/Paris:20250205T160000
DTSTAMP:20260425T025416
CREATED:20250126T083939Z
LAST-MODIFIED:20250126T083939Z
UID:4137-1738764000-1738771200@unc-alpes.fr
SUMMARY:Séance plénière du CDAC
DESCRIPTION:séance plénière du Conseil départemental des anciens combattants\, des victimes de guerre et de la mémoire de la Nation de la Haute-Savoie \nmercredi 5 février 2025 de 14H00 à 16H00 à la salle Glières du Conseil départemental de la Haute-Savoie.
URL:https://unc-alpes.fr/event/seance-pleniere-du-cdac/
END:VEVENT
BEGIN:VEVENT
DTSTART;VALUE=DATE:20250208
DTEND;VALUE=DATE:20250209
DTSTAMP:20260425T025416
CREATED:20241207T175947Z
LAST-MODIFIED:20241207T175947Z
UID:3773-1738972800-1739059199@unc-alpes.fr
SUMMARY:AG de l’UNC Taninges-La Rivière Enverse
DESCRIPTION:
URL:https://unc-alpes.fr/event/ag-de-lunc-taninges-la-riviere-enverse/
END:VEVENT
BEGIN:VEVENT
DTSTART;TZID=Europe/Paris:20250208T090000
DTEND;TZID=Europe/Paris:20250208T150000
DTSTAMP:20260425T025416
CREATED:20250109T094639Z
LAST-MODIFIED:20250109T094820Z
UID:4012-1739005200-1739026800@unc-alpes.fr
SUMMARY:CONSEIL D'ADMINISTRATION  DE L'UNC 74
DESCRIPTION:
URL:https://unc-alpes.fr/event/conseil-dadministration-de-lunc-74/
END:VEVENT
BEGIN:VEVENT
DTSTART;TZID=Europe/Paris:20250208T140000
DTEND;TZID=Europe/Paris:20250208T170000
DTSTAMP:20260425T025416
CREATED:20250128T144008Z
LAST-MODIFIED:20250128T144008Z
UID:4179-1739023200-1739034000@unc-alpes.fr
SUMMARY:Réunion du comité Entente Solidarité Humanitaire
DESCRIPTION:
URL:https://unc-alpes.fr/event/reunion-du-comite-entente-solidarite-humanitaire/
END:VEVENT
BEGIN:VEVENT
DTSTART;TZID=Europe/Paris:20250214T180000
DTEND;TZID=Europe/Paris:20250214T200000
DTSTAMP:20260425T025416
CREATED:20250124T170551Z
LAST-MODIFIED:20250206T084054Z
UID:4127-1739556000-1739563200@unc-alpes.fr
SUMMARY:Conférence « Les combats du col du Midi de février 1945 »
DESCRIPTION:AFFICHE CONFERENCE 14 février 2025
URL:https://unc-alpes.fr/event/conference-les-combats-du-col-du-midi-de-fevrier-1945/
END:VEVENT
BEGIN:VEVENT
DTSTART;VALUE=DATE:20250215
DTEND;VALUE=DATE:20250216
DTSTAMP:20260425T025416
CREATED:20250108T192859Z
LAST-MODIFIED:20250108T192859Z
UID:4003-1739577600-1739663999@unc-alpes.fr
SUMMARY:AG de l'UNC Alpes Chartreuse
DESCRIPTION:
URL:https://unc-alpes.fr/event/ag-de-lunc-alpes-chartreuse/
END:VEVENT
BEGIN:VEVENT
DTSTART;VALUE=DATE:20250215
DTEND;VALUE=DATE:20250216
DTSTAMP:20260425T025416
CREATED:20250123T140929Z
LAST-MODIFIED:20250123T140929Z
UID:4090-1739577600-1739663999@unc-alpes.fr
SUMMARY:AG de l'UNC Metz-Tessy
DESCRIPTION:
URL:https://unc-alpes.fr/event/ag-de-lunc-metz-tessy/
END:VEVENT
BEGIN:VEVENT
DTSTART;VALUE=DATE:20250215
DTEND;VALUE=DATE:20250216
DTSTAMP:20260425T025416
CREATED:20250123T141041Z
LAST-MODIFIED:20250123T141041Z
UID:4092-1739577600-1739663999@unc-alpes.fr
SUMMARY:AG de l'UNC Semnoz
DESCRIPTION:
URL:https://unc-alpes.fr/event/ag-de-lunc-semnoz/
END:VEVENT
BEGIN:VEVENT
DTSTART;VALUE=DATE:20250215
DTEND;VALUE=DATE:20250216
DTSTAMP:20260425T025416
CREATED:20250128T144448Z
LAST-MODIFIED:20250128T144448Z
UID:4182-1739577600-1739663999@unc-alpes.fr
SUMMARY:AG de l'UNC Belledonne-Vercors
DESCRIPTION:
URL:https://unc-alpes.fr/event/ag-de-lunc-belledonne-vercors/
END:VEVENT
BEGIN:VEVENT
DTSTART;VALUE=DATE:20250215
DTEND;VALUE=DATE:20250216
DTSTAMP:20260425T025416
CREATED:20250206T102614Z
LAST-MODIFIED:20250206T102614Z
UID:4213-1739577600-1739663999@unc-alpes.fr
SUMMARY:AG de l'UNC Pringy
DESCRIPTION:
URL:https://unc-alpes.fr/event/ag-de-lunc-pringy/
END:VEVENT
BEGIN:VEVENT
DTSTART;VALUE=DATE:20250216
DTEND;VALUE=DATE:20250217
DTSTAMP:20260425T025416
CREATED:20241207T180025Z
LAST-MODIFIED:20241207T180025Z
UID:3776-1739664000-1739750399@unc-alpes.fr
SUMMARY:AG de l’UNC Poisy-Lovagny-Nonglard
DESCRIPTION:
URL:https://unc-alpes.fr/event/ag-de-lunc-poisy-lovagny-nonglard/
END:VEVENT
BEGIN:VEVENT
DTSTART;TZID=Europe/Paris:20250217T110000
DTEND;TZID=Europe/Paris:20250217T120000
DTSTAMP:20260425T025416
CREATED:20250123T124421Z
LAST-MODIFIED:20250123T124421Z
UID:4087-1739790000-1739793600@unc-alpes.fr
SUMMARY:Cérémonie d'hommage aux héros de la gendarmerie nationale
DESCRIPTION:
URL:https://unc-alpes.fr/event/ceremonie-dhommage-aux-heros-de-la-gendarmerie-nationale/
END:VEVENT
BEGIN:VEVENT
DTSTART;TZID=Europe/Paris:20250220T180000
DTEND;TZID=Europe/Paris:20250220T180000
DTSTAMP:20260425T025416
CREATED:20250213T171019Z
LAST-MODIFIED:20250213T171019Z
UID:4235-1740074400-1740074400@unc-alpes.fr
SUMMARY:Conférence sur invitation
DESCRIPTION:20250220-invitations-CLD2-diffusée (1)
URL:https://unc-alpes.fr/event/conference-sur-invitation/
END:VEVENT
BEGIN:VEVENT
DTSTART;VALUE=DATE:20250222
DTEND;VALUE=DATE:20250223
DTSTAMP:20260425T025416
CREATED:20250128T150600Z
LAST-MODIFIED:20250128T150611Z
UID:4191-1740182400-1740268799@unc-alpes.fr
SUMMARY:AG de l'UNC Cluses
DESCRIPTION:
URL:https://unc-alpes.fr/event/ag-de-lunc-cluses/
END:VEVENT
BEGIN:VEVENT
DTSTART;VALUE=DATE:20250222
DTEND;VALUE=DATE:20250223
DTSTAMP:20260425T025416
CREATED:20250128T150643Z
LAST-MODIFIED:20250128T150643Z
UID:4193-1740182400-1740268799@unc-alpes.fr
SUMMARY:AG de l'UNC St Martin Bellevue
DESCRIPTION:
URL:https://unc-alpes.fr/event/ag-de-lunc-st-martin-bellevue/
END:VEVENT
BEGIN:VEVENT
DTSTART;VALUE=DATE:20250222
DTEND;VALUE=DATE:20250223
DTSTAMP:20260425T025416
CREATED:20250206T103012Z
LAST-MODIFIED:20250206T103012Z
UID:4215-1740182400-1740268799@unc-alpes.fr
SUMMARY:AG de l'UNC Ville la Grand
DESCRIPTION:
URL:https://unc-alpes.fr/event/ag-de-lunc-ville-la-grand/
END:VEVENT
BEGIN:VEVENT
DTSTART;VALUE=DATE:20250223
DTEND;VALUE=DATE:20250224
DTSTAMP:20260425T025416
CREATED:20250128T150814Z
LAST-MODIFIED:20250128T150814Z
UID:4195-1740268800-1740355199@unc-alpes.fr
SUMMARY:AG de l'UNC Rumilly
DESCRIPTION:
URL:https://unc-alpes.fr/event/ag-de-lunc-rumilly/
END:VEVENT
BEGIN:VEVENT
DTSTART;TZID=Europe/Paris:20250227T093000
DTEND;TZID=Europe/Paris:20250227T103000
DTSTAMP:20260425T025417
CREATED:20250224T142213Z
LAST-MODIFIED:20250224T142213Z
UID:4299-1740648600-1740652200@unc-alpes.fr
SUMMARY:Petit déjeuner des associations - ONaCVG74
DESCRIPTION:
URL:https://unc-alpes.fr/event/petit-dejeuner-des-associations-onacvg74/
END:VEVENT
BEGIN:VEVENT
DTSTART;VALUE=DATE:20250228
DTEND;VALUE=DATE:20250301
DTSTAMP:20260425T025417
CREATED:20241207T180144Z
LAST-MODIFIED:20250206T103224Z
UID:3778-1740700800-1740787199@unc-alpes.fr
SUMMARY:AG de l’UNC Vétraz-Monthoux
DESCRIPTION:
URL:https://unc-alpes.fr/event/ag-de-lunc-vetraz-monthoux/
END:VEVENT
END:VCALENDAR