BEGIN:VCALENDAR
VERSION:2.0
PRODID:-// - ECPv6.15.20//NONSGML v1.0//EN
CALSCALE:GREGORIAN
METHOD:PUBLISH
X-ORIGINAL-URL:https://unc-alpes.fr
X-WR-CALDESC:Évènements pour 
REFRESH-INTERVAL;VALUE=DURATION:PT1H
X-Robots-Tag:noindex
X-PUBLISHED-TTL:PT1H
BEGIN:VTIMEZONE
TZID:Europe/Paris
BEGIN:DAYLIGHT
TZOFFSETFROM:+0100
TZOFFSETTO:+0200
TZNAME:CEST
DTSTART:20230326T010000
END:DAYLIGHT
BEGIN:STANDARD
TZOFFSETFROM:+0200
TZOFFSETTO:+0100
TZNAME:CET
DTSTART:20231029T010000
END:STANDARD
BEGIN:DAYLIGHT
TZOFFSETFROM:+0100
TZOFFSETTO:+0200
TZNAME:CEST
DTSTART:20240331T010000
END:DAYLIGHT
BEGIN:STANDARD
TZOFFSETFROM:+0200
TZOFFSETTO:+0100
TZNAME:CET
DTSTART:20241027T010000
END:STANDARD
BEGIN:DAYLIGHT
TZOFFSETFROM:+0100
TZOFFSETTO:+0200
TZNAME:CEST
DTSTART:20250330T010000
END:DAYLIGHT
BEGIN:STANDARD
TZOFFSETFROM:+0200
TZOFFSETTO:+0100
TZNAME:CET
DTSTART:20251026T010000
END:STANDARD
END:VTIMEZONE
BEGIN:VEVENT
DTSTART;TZID=Europe/Paris:20240913T180000
DTEND;TZID=Europe/Paris:20240913T200000
DTSTAMP:20260425T125711
CREATED:20240524T142019Z
LAST-MODIFIED:20240524T142549Z
UID:3244-1726250400-1726257600@unc-alpes.fr
SUMMARY:Conférence ONaCVG "1944-1945 les combats les plus hauts d'Europe"
DESCRIPTION:par le Général Pierre MARTRE et grand témoins René BOZON
URL:https://unc-alpes.fr/event/conference-onacvg-1944-1945-les-combats-les-plus-hauts-deurope/
LOCATION:Salle Glière du Conseil Départemental\, 1 rue du 30ème Régiment d'infanterie\, ANNECY
END:VEVENT
BEGIN:VEVENT
DTSTART;TZID=Europe/Paris:20240915T143000
DTEND;TZID=Europe/Paris:20240915T180000
DTSTAMP:20260425T125711
CREATED:20240504T143851Z
LAST-MODIFIED:20240524T143124Z
UID:3090-1726410600-1726423200@unc-alpes.fr
SUMMARY:Conférence CD74 "Les Traces des Maquis"
DESCRIPTION:Le maquis du Vercors: traces et ruines\npar Julien GUILLON\, docteur en histoire contemporaine\, référent scientifique du Mémorial de la Résistance du Vercors\nLecture paysagère des traces du maquis des Glières\, visite de terrain par les médiateurs culturels des sites des Glières 2 horaires 14h30 et 16h00
URL:https://unc-alpes.fr/event/conference-les-traces-des-maquis/
LOCATION:Espace d’accueil Mémoire du Maquis\, plateau des Glières
END:VEVENT
BEGIN:VEVENT
DTSTART;TZID=Europe/Paris:20240925T110000
DTEND;TZID=Europe/Paris:20240925T120000
DTSTAMP:20260425T125711
CREATED:20240927T130023Z
LAST-MODIFIED:20240927T130023Z
UID:3306-1727262000-1727265600@unc-alpes.fr
SUMMARY:Cérémonie nationale d'hommage aux harkis et autres membres des formations supplétives
DESCRIPTION:HARKIS 2024\nMonument aux morts AFN square Galbert Annecy
URL:https://unc-alpes.fr/event/ceremonie-nationale-dhommage-aux-harkis-et-autres-membres-des-formations-suppletives/
END:VEVENT
BEGIN:VEVENT
DTSTART;TZID=Europe/Paris:20240927T160000
DTEND;TZID=Europe/Paris:20240927T170000
DTSTAMP:20260425T125711
CREATED:20240927T172612Z
LAST-MODIFIED:20240927T172612Z
UID:3315-1727452800-1727456400@unc-alpes.fr
SUMMARY:COMMISSION MEMOIRE ET DHPD
DESCRIPTION:
URL:https://unc-alpes.fr/event/commission-memoire-et-dhpd/
END:VEVENT
BEGIN:VEVENT
DTSTART;TZID=Europe/Paris:20240927T170000
DTEND;TZID=Europe/Paris:20240927T190000
DTSTAMP:20260425T125711
CREATED:20240429T173522Z
LAST-MODIFIED:20240524T142242Z
UID:2996-1727456400-1727463600@unc-alpes.fr
SUMMARY:Conférence ONaCVG "la Toussaint sanglante\, 1er novembre 1954"
DESCRIPTION:par Patrick LECUPRE
URL:https://unc-alpes.fr/event/conference-la-toussaint-sanglante-1er-novembre-1954/
LOCATION:Salle Glière du Conseil Départemental\, 1 rue du 30ème Régiment d'infanterie\, ANNECY
END:VEVENT
BEGIN:VEVENT
DTSTART;TZID=Europe/Paris:20240928T180000
DTEND;TZID=Europe/Paris:20240928T180000
DTSTAMP:20260425T125711
CREATED:20240927T172304Z
LAST-MODIFIED:20240929T095839Z
UID:3312-1727546400-1727546400@unc-alpes.fr
SUMMARY:INAUGURATION DE LA STÈLE EN HOMMAGE  AU LIEUTENANT THÉODOSE MOREL
DESCRIPTION:TOM MOREL 20240928
URL:https://unc-alpes.fr/event/inauguration-de-la-stele-en-hommage-au-lieutenant-theodose-morel/
LOCATION:Maison Aussedat – 7 rue de la Providence\, 74000 ANNECY
END:VEVENT
BEGIN:VEVENT
DTSTART;TZID=Europe/Paris:20240930T140000
DTEND;TZID=Europe/Paris:20240930T150000
DTSTAMP:20260425T125711
CREATED:20240927T175110Z
LAST-MODIFIED:20240927T175352Z
UID:3328-1727704800-1727708400@unc-alpes.fr
SUMMARY:Hommage à Jacques Lespès++
DESCRIPTION:Invitation Journée dhommage Jacques Lespès - 30.09.2024
URL:https://unc-alpes.fr/event/hommage-a-jacques-lespes/
LOCATION:Loverchy
END:VEVENT
END:VCALENDAR