BEGIN:VCALENDAR
VERSION:2.0
PRODID:-// - ECPv6.15.20//NONSGML v1.0//EN
CALSCALE:GREGORIAN
METHOD:PUBLISH
X-ORIGINAL-URL:https://unc-alpes.fr
X-WR-CALDESC:Évènements pour 
REFRESH-INTERVAL;VALUE=DURATION:PT1H
X-Robots-Tag:noindex
X-PUBLISHED-TTL:PT1H
BEGIN:VTIMEZONE
TZID:Europe/Paris
BEGIN:DAYLIGHT
TZOFFSETFROM:+0100
TZOFFSETTO:+0200
TZNAME:CEST
DTSTART:20230326T010000
END:DAYLIGHT
BEGIN:STANDARD
TZOFFSETFROM:+0200
TZOFFSETTO:+0100
TZNAME:CET
DTSTART:20231029T010000
END:STANDARD
BEGIN:DAYLIGHT
TZOFFSETFROM:+0100
TZOFFSETTO:+0200
TZNAME:CEST
DTSTART:20240331T010000
END:DAYLIGHT
BEGIN:STANDARD
TZOFFSETFROM:+0200
TZOFFSETTO:+0100
TZNAME:CET
DTSTART:20241027T010000
END:STANDARD
BEGIN:DAYLIGHT
TZOFFSETFROM:+0100
TZOFFSETTO:+0200
TZNAME:CEST
DTSTART:20250330T010000
END:DAYLIGHT
BEGIN:STANDARD
TZOFFSETFROM:+0200
TZOFFSETTO:+0100
TZNAME:CET
DTSTART:20251026T010000
END:STANDARD
END:VTIMEZONE
BEGIN:VEVENT
DTSTART;TZID=Europe/Paris:20240503T100000
DTEND;TZID=Europe/Paris:20240503T100000
DTSTAMP:20260425T180520
CREATED:20240427T075221Z
LAST-MODIFIED:20240427T075221Z
UID:2924-1714730400-1714730400@unc-alpes.fr
SUMMARY:Cérémonie de la mémoire des victimes de la cour martiale des 22 février et 04 mai 1944
DESCRIPTION:Confirmer la présence avant le 29 avril à : protocole@annecy.fr
URL:https://unc-alpes.fr/event/ceremonie-de-la-memoire-des-victimes-de-la-cour-martiale-des-22-fevrier-et-04-mai-1944/
LOCATION:Stèle du stande de tir\, rue Marius VALLIN\, annecy
END:VEVENT
BEGIN:VEVENT
DTSTART;TZID=Europe/Paris:20240504T100000
DTEND;TZID=Europe/Paris:20240504T123000
DTSTAMP:20260425T180520
CREATED:20240425T125754Z
LAST-MODIFIED:20240425T125754Z
UID:2913-1714816800-1714825800@unc-alpes.fr
SUMMARY:REUNION DU C.A.
DESCRIPTION:
URL:https://unc-alpes.fr/event/reunion-du-c-a/
LOCATION:Maison du Combattant et de la Mémoire 13 bis Boulvard du Fier 74000\, 13 bis Boulevard du Fier\, ANNECY\, 74000\, France
END:VEVENT
BEGIN:VEVENT
DTSTART;TZID=Europe/Paris:20240506T160000
DTEND;TZID=Europe/Paris:20240506T170000
DTSTAMP:20260425T180520
CREATED:20240429T100409Z
LAST-MODIFIED:20240429T100409Z
UID:2981-1715011200-1715014800@unc-alpes.fr
SUMMARY:Cérémonie Commémoration du 70ème anniversaire de la chute de Dien Bien Phu et de la fin de la guerre d'Indochine
DESCRIPTION:
URL:https://unc-alpes.fr/event/ceremonie-commemoration-du-70eme-anniversaire-de-la-chute-de-dien-bien-phu-et-de-la-fin-de-la-guerre-dindochine/
LOCATION:monument départemental de la guerre d’Indochine Publier\, PUBLIER
END:VEVENT
BEGIN:VEVENT
DTSTART;TZID=Europe/Paris:20240506T173000
DTEND;TZID=Europe/Paris:20240506T173000
DTSTAMP:20260425T180520
CREATED:20240429T165831Z
LAST-MODIFIED:20240429T165831Z
UID:2984-1715016600-1715016600@unc-alpes.fr
SUMMARY:Conférence sur la chute de Dien Bien Phu et de la fin de la guerre d'Indochine par Eric Coudray
DESCRIPTION:Entrée Gratuite\nInscription par mail conferences.onacvg74@gmail.com\n            par tel 04-50-88-40-93
URL:https://unc-alpes.fr/event/conference-sur-la-chute-de-dien-bien-phu-et-de-la-fin-de-la-guerre-dindochine-par-eric-coudray/
LOCATION:Salle des Ursules\, 1 square Paul Jacquier\, Thonon les Bain
END:VEVENT
BEGIN:VEVENT
DTSTART;TZID=Europe/Paris:20240507T190000
DTEND;TZID=Europe/Paris:20240507T190000
DTSTAMP:20260425T180520
CREATED:20240427T080607Z
LAST-MODIFIED:20240427T081252Z
UID:2930-1715108400-1715108400@unc-alpes.fr
SUMMARY:Soirée conférence débat "Epreuves et Valeurs" avec projection du filme "frères d'armes; du Djebel au Sahel"
DESCRIPTION:
URL:https://unc-alpes.fr/event/soiree-conference-debat-epreuves-et-valeurs-avec-projection-du-filme-freres-darmes-du-djebel-au-sahel/
LOCATION:Auditorium de Seynod\, 1\, place de l'hôtel de ville\, Seynod
END:VEVENT
BEGIN:VEVENT
DTSTART;VALUE=DATE:20240508
DTEND;VALUE=DATE:20240509
DTSTAMP:20260425T180520
CREATED:20240427T081623Z
LAST-MODIFIED:20240427T081623Z
UID:2937-1715126400-1715212799@unc-alpes.fr
SUMMARY:Cérémonie du 8 mai dans vos communes
DESCRIPTION:
URL:https://unc-alpes.fr/event/ceremonie-du-8-mai-dans-vos-communes/
END:VEVENT
BEGIN:VEVENT
DTSTART;TZID=Europe/Paris:20240517T183000
DTEND;TZID=Europe/Paris:20240517T203000
DTSTAMP:20260425T180520
CREATED:20240504T142926Z
LAST-MODIFIED:20240504T142926Z
UID:3084-1715970600-1715977800@unc-alpes.fr
SUMMARY:Conférence "La guerre est aussi une affaire de Femmes"
DESCRIPTION:Le sauvetage et les femmes dans le département de la Haute Savoie\npar Cindy BIESSE historienne\, membre du LARHRA\, chercheure associée  et enseignante en classe préparatoire
URL:https://unc-alpes.fr/event/conference-la-guerre-est-aussi-une-affaire-de-femmes/
LOCATION:Auditorium du Pôle culturel de la visitation\, THONON LES BAINS
END:VEVENT
BEGIN:VEVENT
DTSTART;TZID=Europe/Paris:20240523T000000
DTEND;TZID=Europe/Paris:20240523T000000
DTSTAMP:20260425T180520
CREATED:20240504T145232Z
LAST-MODIFIED:20240504T145232Z
UID:3099-1716422400-1716422400@unc-alpes.fr
SUMMARY:Cérémonie Hommage aux Victimes de l'esclavage
DESCRIPTION:Heure à définir
URL:https://unc-alpes.fr/event/ceremonie-hommage-aux-victimes-de-lesclavage/
LOCATION:Cours d’Honneur de la Préfecture\, ANNECY
END:VEVENT
BEGIN:VEVENT
DTSTART;TZID=Europe/Paris:20240527T180000
DTEND;TZID=Europe/Paris:20240527T193000
DTSTAMP:20260425T180520
CREATED:20240504T145649Z
LAST-MODIFIED:20240504T145649Z
UID:3103-1716832800-1716838200@unc-alpes.fr
SUMMARY:Cérémonie pour la journée nationale de la Résistance
DESCRIPTION:
URL:https://unc-alpes.fr/event/ceremonie-pour-la-journee-nationale-de-la-resistance/
LOCATION:Monument AS-FTP\, LA ROCHE SUR FORON
END:VEVENT
BEGIN:VEVENT
DTSTART;TZID=Europe/Paris:20240531T160000
DTEND;TZID=Europe/Paris:20240531T180000
DTSTAMP:20260425T180520
CREATED:20240523T123510Z
LAST-MODIFIED:20240524T142840Z
UID:3217-1717171200-1717178400@unc-alpes.fr
SUMMARY:Conférence ONaCVG "il y a 80 ans\, le programme du Conseil national de la Résistance. Histoire et Mémoire"
DESCRIPTION:par Fabrice GRENARD et Raphaëlle BELLON de la Fondation de la Résistance\nInscription par mail : conferences.onacvg74@gmail.com\n            par téléphone : 04-50-88-40-93
URL:https://unc-alpes.fr/event/conference-les-operateurs-clandestins-pendant-le-2eme-guerre-mondiale/
LOCATION:Salle Glière du Conseil Départemental\, 1 rue du 30ème Régiment d'infanterie\, ANNECY
END:VEVENT
BEGIN:VEVENT
DTSTART;TZID=Europe/Paris:20240531T200000
DTEND;TZID=Europe/Paris:20240531T220000
DTSTAMP:20260425T180520
CREATED:20240524T135349Z
LAST-MODIFIED:20240524T135349Z
UID:3228-1717185600-1717192800@unc-alpes.fr
SUMMARY:Conférence "les opérateurs clandestins pendant le 2ème guerre mondiale
DESCRIPTION:par Didier CLARENCON\nEntrée libre
URL:https://unc-alpes.fr/event/conference-les-operateurs-clandestins-pendant-le-2eme-guerre-mondiale-2/
LOCATION:Salle du cinéma de FILLINGES\, FILLINGES
END:VEVENT
END:VCALENDAR