BEGIN:VCALENDAR
VERSION:2.0
PRODID:-// - ECPv6.15.20//NONSGML v1.0//EN
CALSCALE:GREGORIAN
METHOD:PUBLISH
X-ORIGINAL-URL:https://unc-alpes.fr
X-WR-CALDESC:Évènements pour 
REFRESH-INTERVAL;VALUE=DURATION:PT1H
X-Robots-Tag:noindex
X-PUBLISHED-TTL:PT1H
BEGIN:VTIMEZONE
TZID:Europe/Paris
BEGIN:DAYLIGHT
TZOFFSETFROM:+0100
TZOFFSETTO:+0200
TZNAME:CEST
DTSTART:20250330T010000
END:DAYLIGHT
BEGIN:STANDARD
TZOFFSETFROM:+0200
TZOFFSETTO:+0100
TZNAME:CET
DTSTART:20251026T010000
END:STANDARD
BEGIN:DAYLIGHT
TZOFFSETFROM:+0100
TZOFFSETTO:+0200
TZNAME:CEST
DTSTART:20260329T010000
END:DAYLIGHT
BEGIN:STANDARD
TZOFFSETFROM:+0200
TZOFFSETTO:+0100
TZNAME:CET
DTSTART:20261025T010000
END:STANDARD
BEGIN:DAYLIGHT
TZOFFSETFROM:+0100
TZOFFSETTO:+0200
TZNAME:CEST
DTSTART:20270328T010000
END:DAYLIGHT
BEGIN:STANDARD
TZOFFSETFROM:+0200
TZOFFSETTO:+0100
TZNAME:CET
DTSTART:20271031T010000
END:STANDARD
END:VTIMEZONE
BEGIN:VEVENT
DTSTART;TZID=Europe/Paris:20260424T080000
DTEND;TZID=Europe/Paris:20260424T170000
DTSTAMP:20260424T024753
CREATED:20260130T160821Z
LAST-MODIFIED:20260130T160821Z
UID:6143-1777017600-1777050000@unc-alpes.fr
SUMMARY:AG de l'UNC Annecy Le Vieux
DESCRIPTION:
URL:https://unc-alpes.fr/event/ag-de-lunc-annecy-le-vieux-2/
END:VEVENT
BEGIN:VEVENT
DTSTART;TZID=Europe/Paris:20260424T140000
DTEND;TZID=Europe/Paris:20260424T170000
DTSTAMP:20260424T024753
CREATED:20260414T153856Z
LAST-MODIFIED:20260414T153856Z
UID:6503-1777039200-1777050000@unc-alpes.fr
SUMMARY:Réunion préparatoire des cérémonies du second semestre
DESCRIPTION:La réunion préparatoire citée en objet aura lieu le vendredi 24 avril 2026 à 14H00 au Salon Periès de la Préfecture de la Haute-Savoie \nMerci de nous faire un retour de présence pour le 20 avril 2026 limite longue \nCordialement \nPatrick LECUPPRE \nDirecteur du service départemental  \nOffice national des combattants et des victimes de guerre \nservice departemental de HAUTE-SAVOIE \nCité administrative \n7\, rue Dupanloup \n74040 ANNECY Cedex \nwww.onac-vg.fr \n  \nT/  04 50 88 40 93 \n06 63 12 46 82 \n@/ patrick.lecuppre@onacvg.fr
URL:https://unc-alpes.fr/event/reunion-preparatoire-des-ceremonies-du-second-semestre/
END:VEVENT
BEGIN:VEVENT
DTSTART;TZID=Europe/Paris:20260426T110000
DTEND;TZID=Europe/Paris:20260426T170000
DTSTAMP:20260424T024753
CREATED:20251219T192652Z
LAST-MODIFIED:20260410T141819Z
UID:5927-1777201200-1777222800@unc-alpes.fr
SUMMARY:Hommage national du souvenir des victimes et héros de la déportation   (80 ans de la libération des camps de concentration)
DESCRIPTION:20260409_NP_DMD74_Cérémonie-déportation-Annecy-26-avril-2026
URL:https://unc-alpes.fr/event/hommage-national-du-souvenir-des-victimes-et-heros-de-la-deportation/
END:VEVENT
BEGIN:VEVENT
DTSTART;TZID=Europe/Paris:20260503T110000
DTEND;TZID=Europe/Paris:20260503T170000
DTSTAMP:20260424T024753
CREATED:20251219T192823Z
LAST-MODIFIED:20251219T192823Z
UID:5929-1777806000-1777827600@unc-alpes.fr
SUMMARY:Mémoire des victimes de la cour martiale
DESCRIPTION:
URL:https://unc-alpes.fr/event/memoire-des-victimes-de-la-cour-martiale-2/
END:VEVENT
BEGIN:VEVENT
DTSTART;TZID=Europe/Paris:20260507T190000
DTEND;TZID=Europe/Paris:20260507T190000
DTSTAMP:20260424T024753
CREATED:20260423T092833Z
LAST-MODIFIED:20260423T092844Z
UID:6541-1778180400-1778180400@unc-alpes.fr
SUMMARY:SOIREE MEMOIRE à Viuz la Chiesaz
DESCRIPTION:Pour commémorer le 8 mai\, comme chaque année vous participerez sans doute à la cérémonie dans votre ville ou village. A Viuz la Chiésaz\, à cette occasion et sous couvert de notre Association\, je présenterai une soirée « Mémoire de combattants »\, la veille à l’école primaire. Au cours de cette soirée du 7\, le film de témoignages que je diffuserai a été réalisé\, en partie\, par des jeunes adolescents du Service National Universel du secteur du Chéran\, en coopération avec des membres de notre Association « Mémoire des Pays du Chéran »\, travail effectué ces 4 dernières années. Pour vous\, familles et/ou amis de nos villages du secteur\, ne manquez pas cette soirée. Vous y apprendrez encore sur les événements dramatiques passés\, et comprendrez beaucoup sur le comportement de nos anciens\, dont les maquisards-2nde GM de nos villages du Chéran. Vous serez aussi amenés à réfléchir sur les opérations extérieures de ces cinquante dernières années qui ont vu nos militaires partir en mission. Vous pourrez aussi méditer sur l’avenir. Vous êtes invités à cette soirée d’éducation\, sérieuse et utile. Je compte sur vous. Merci.\n\n\n\n\n\n\n\n\n\n\n\n\n\n\n\n\n\n\n\n\n\nMarcel ABBONEN\n\n\n\n\n\n\n\n\n\n\n\n\n\n\n\n\n\n\n\n\n\n\n\n\n\n\n\n\n\n\n\n\n\n\n\n50 allée de la ravoire\n74 540 VIUZ LA CHIESAZ\ntél 06 95 60 48 47\n\n\n\n20260410 - Commémoration 8 mai - Flyers et affiches
URL:https://unc-alpes.fr/event/soiree-memoire-a-viuz-la-chiesaz/
END:VEVENT
BEGIN:VEVENT
DTSTART;TZID=Europe/Paris:20260508T110000
DTEND;TZID=Europe/Paris:20260508T170000
DTSTAMP:20260424T024753
CREATED:20260304T181035Z
LAST-MODIFIED:20260416T143353Z
UID:6321-1778238000-1778259600@unc-alpes.fr
SUMMARY:Victoire  1945
DESCRIPTION:DRAFT_20260401_NP_DMD74_Cérémonie-8-mai-2026-Annecy \nDRAFT_20260401_NP_DMD74_Cérémonie-8-mai-2026-Annecy
URL:https://unc-alpes.fr/event/victoire-1945/
END:VEVENT
BEGIN:VEVENT
DTSTART;TZID=Europe/Paris:20260508T200000
DTEND;TZID=Europe/Paris:20260508T200000
DTSTAMP:20260424T024753
CREATED:20260412T131324Z
LAST-MODIFIED:20260412T131447Z
UID:6484-1778270400-1778270400@unc-alpes.fr
SUMMARY:Conférence "Les femmes dans la Résistance"
DESCRIPTION:FLYER LES FEMMES DANS LA RESISTANCE\nLA RESISTANCE…..LES FEMMES AUSSI ! \nDans nos vallées\, dans nos villages\, l’histoire de la Seconde Guerre Mondiale n’est pas quelque chose de lointain. Elle s’est vécue ici avec les maquis\, les passages vers la Suisse\, les solidarités… mais aussi les risques. \nOn parle souvent des hommes. C’est normal\, ils ont été nombreux à s’engager. \nMais\, le 08 mai à 20 heures à la salle « La halle »\, 111\, clos le pré de la Cure à Viuz-en-Sallaz\, le comité du Souvenir français Vallée Verte – Quatre Rivière vous invite à porter votre regard autrement. \nNous allons parler des femmes\, des femmes qui elles aussi\, ont résisté. Des femmes qui ont transporté des messages\, aidé des fugitifs\, caché\, soigné\, organisé…. Des femmes qui ont pris des risques\, immenses\, souvent dans l’ombre\, sans reconnaissance. Et pourtant\, sans elles\, bien des actions n’auraient tout simplement pas été possibles. \nNous aurons le plaisir d’accueillir une historienne\, Madame Nadège Beraud Kauffman dont le travail rigoureux et passionné\, permet de faire émerger ces parcours oubliés. A travers son ouvrage « Parcours de Résistante »\, elle redonne toute leur place à ces femmes dans notre mémoire collective. \nNous vous attendons nombreux pour ce nouveau moment de mémoire et de partage.
URL:https://unc-alpes.fr/event/conference-les-femmes-dans-la-resistance/
END:VEVENT
BEGIN:VEVENT
DTSTART;TZID=Europe/Paris:20260517T080000
DTEND;TZID=Europe/Paris:20260522T170000
DTSTAMP:20260424T024753
CREATED:20260219T101927Z
LAST-MODIFIED:20260219T101927Z
UID:6258-1779004800-1779469200@unc-alpes.fr
SUMMARY:Transmission de la flamme du soldat  inconnu aux cadets de l'UNC 74
DESCRIPTION:
URL:https://unc-alpes.fr/event/transmission-de-la-flamme-du-soldat-inconnu-aux-cadets-de-lunc-74/
END:VEVENT
BEGIN:VEVENT
DTSTART;TZID=Europe/Paris:20260523T080000
DTEND;TZID=Europe/Paris:20260523T170000
DTSTAMP:20260424T024753
CREATED:20260303T214918Z
LAST-MODIFIED:20260303T214918Z
UID:6307-1779523200-1779555600@unc-alpes.fr
SUMMARY:AG de l'UNC pierres de gué
DESCRIPTION:
URL:https://unc-alpes.fr/event/ag-de-lunc-pierres-de-gue-2/
END:VEVENT
BEGIN:VEVENT
DTSTART;TZID=Europe/Paris:20260527T110000
DTEND;TZID=Europe/Paris:20260527T170000
DTSTAMP:20260424T024753
CREATED:20260304T181332Z
LAST-MODIFIED:20260304T181332Z
UID:6324-1779879600-1779901200@unc-alpes.fr
SUMMARY:Journée nationale de la Résistance
DESCRIPTION:
URL:https://unc-alpes.fr/event/journee-nationale-de-la-resistance-2/
END:VEVENT
BEGIN:VEVENT
DTSTART;TZID=Europe/Paris:20260528T183000
DTEND;TZID=Europe/Paris:20260528T213000
DTSTAMP:20260424T024753
CREATED:20260324T125753Z
LAST-MODIFIED:20260324T125753Z
UID:6403-1779993000-1780003800@unc-alpes.fr
SUMMARY:Conférence « Narvik Victoire oubliée » par le général (2S) Pierre MARTRE.
DESCRIPTION:AFFICHE Conférence 28 mai 2026
URL:https://unc-alpes.fr/event/conference-narvik-victoire-oubliee-par-le-general-2s-pierre-martre/
END:VEVENT
BEGIN:VEVENT
DTSTART;TZID=Europe/Paris:20260529T080000
DTEND;TZID=Europe/Paris:20260529T170000
DTSTAMP:20260424T024753
CREATED:20260219T134945Z
LAST-MODIFIED:20260219T134945Z
UID:6264-1780041600-1780074000@unc-alpes.fr
SUMMARY:AG de l'UNC siège
DESCRIPTION:
URL:https://unc-alpes.fr/event/ag-de-lunc-siege-2/
END:VEVENT
BEGIN:VEVENT
DTSTART;TZID=Europe/Paris:20260530T080000
DTEND;TZID=Europe/Paris:20260530T170000
DTSTAMP:20260424T024753
CREATED:20260219T135037Z
LAST-MODIFIED:20260219T135037Z
UID:6266-1780128000-1780160400@unc-alpes.fr
SUMMARY:UNC siège - Conseil des départements
DESCRIPTION:
URL:https://unc-alpes.fr/event/unc-siege-conseil-des-departements/
END:VEVENT
BEGIN:VEVENT
DTSTART;TZID=Europe/Paris:20260602T080000
DTEND;TZID=Europe/Paris:20260602T170000
DTSTAMP:20260424T024753
CREATED:20260304T180638Z
LAST-MODIFIED:20260304T180638Z
UID:6316-1780387200-1780419600@unc-alpes.fr
SUMMARY:Hommage à François de MENTHON
DESCRIPTION:
URL:https://unc-alpes.fr/event/hommage-a-francois-de-menthon/
END:VEVENT
BEGIN:VEVENT
DTSTART;TZID=Europe/Paris:20260608T110000
DTEND;TZID=Europe/Paris:20260608T170000
DTSTAMP:20260424T024753
CREATED:20260304T181505Z
LAST-MODIFIED:20260304T181505Z
UID:6326-1780916400-1780938000@unc-alpes.fr
SUMMARY:Journée nationale d’hommage aux « morts pour la France » en Indochine
DESCRIPTION:
URL:https://unc-alpes.fr/event/journee-nationale-dhommage-aux-morts-pour-la-france-en-indochine/
END:VEVENT
BEGIN:VEVENT
DTSTART;TZID=Europe/Paris:20260611T180000
DTEND;TZID=Europe/Paris:20260611T180000
DTSTAMP:20260424T024753
CREATED:20260423T092259Z
LAST-MODIFIED:20260423T092259Z
UID:6538-1781200800-1781200800@unc-alpes.fr
SUMMARY:CONFERENCE Vincent Jay\, un champion\, un homme\, un parcours…
DESCRIPTION:AnnConf260611Jay
URL:https://unc-alpes.fr/event/conference-vincent-jay-un-champion-un-homme-un-parcours/
END:VEVENT
BEGIN:VEVENT
DTSTART;TZID=Europe/Paris:20260614T110000
DTEND;TZID=Europe/Paris:20260614T170000
DTSTAMP:20260424T024753
CREATED:20260304T181632Z
LAST-MODIFIED:20260304T181711Z
UID:6328-1781434800-1781456400@unc-alpes.fr
SUMMARY:Mémoire des 450 fusillés de Haute-Savoie durant l'occupation
DESCRIPTION:
URL:https://unc-alpes.fr/event/memoire-des-450-fusilles-de-haute-savoie-durant-loccupation-2/
END:VEVENT
BEGIN:VEVENT
DTSTART;TZID=Europe/Paris:20260618T080000
DTEND;TZID=Europe/Paris:20260618T170000
DTSTAMP:20260424T024753
CREATED:20260304T181802Z
LAST-MODIFIED:20260304T181802Z
UID:6330-1781769600-1781802000@unc-alpes.fr
SUMMARY:Journée nationale commémorative de l’appel historique du Général de Gaulle à refuser la défaite et à poursuivre le combat contre l’ennemi
DESCRIPTION:
URL:https://unc-alpes.fr/event/journee-nationale-commemorative-de-lappel-historique-du-general-de-gaulle-a-refuser-la-defaite-et-a-poursuivre-le-combat-contre-lennemi/
END:VEVENT
END:VCALENDAR