BEGIN:VCALENDAR
VERSION:2.0
PRODID:-// - ECPv6.15.20//NONSGML v1.0//EN
CALSCALE:GREGORIAN
METHOD:PUBLISH
X-ORIGINAL-URL:https://unc-alpes.fr
X-WR-CALDESC:Évènements pour 
REFRESH-INTERVAL;VALUE=DURATION:PT1H
X-Robots-Tag:noindex
X-PUBLISHED-TTL:PT1H
BEGIN:VTIMEZONE
TZID:Europe/Paris
BEGIN:DAYLIGHT
TZOFFSETFROM:+0100
TZOFFSETTO:+0200
TZNAME:CEST
DTSTART:20250330T010000
END:DAYLIGHT
BEGIN:STANDARD
TZOFFSETFROM:+0200
TZOFFSETTO:+0100
TZNAME:CET
DTSTART:20251026T010000
END:STANDARD
BEGIN:DAYLIGHT
TZOFFSETFROM:+0100
TZOFFSETTO:+0200
TZNAME:CEST
DTSTART:20260329T010000
END:DAYLIGHT
BEGIN:STANDARD
TZOFFSETFROM:+0200
TZOFFSETTO:+0100
TZNAME:CET
DTSTART:20261025T010000
END:STANDARD
BEGIN:DAYLIGHT
TZOFFSETFROM:+0100
TZOFFSETTO:+0200
TZNAME:CEST
DTSTART:20270328T010000
END:DAYLIGHT
BEGIN:STANDARD
TZOFFSETFROM:+0200
TZOFFSETTO:+0100
TZNAME:CET
DTSTART:20271031T010000
END:STANDARD
END:VTIMEZONE
BEGIN:VEVENT
DTSTART;TZID=Europe/Paris:20260423T180000
DTEND;TZID=Europe/Paris:20260423T180000
DTSTAMP:20260424T042032
CREATED:20260412T144414Z
LAST-MODIFIED:20260412T144414Z
UID:6487-1776967200-1776967200@unc-alpes.fr
SUMMARY:Conférence
DESCRIPTION:Screenshot
URL:https://unc-alpes.fr/event/conference-4/
END:VEVENT
BEGIN:VEVENT
DTSTART;TZID=Europe/Paris:20260423T173000
DTEND;TZID=Europe/Paris:20260423T173000
DTSTAMP:20260424T042032
CREATED:20260414T074155Z
LAST-MODIFIED:20260414T074315Z
UID:6498-1776965400-1776965400@unc-alpes.fr
SUMMARY:Conférence à Morges
DESCRIPTION:
URL:https://unc-alpes.fr/event/conference-a-morges/
END:VEVENT
BEGIN:VEVENT
DTSTART;TZID=Europe/Paris:20260418T080000
DTEND;TZID=Europe/Paris:20260418T170000
DTSTAMP:20260424T042032
CREATED:20251108T140707Z
LAST-MODIFIED:20251119T174721Z
UID:5359-1776499200-1776531600@unc-alpes.fr
SUMMARY:AG UNC 74\, la Balme de Sillingy
DESCRIPTION:
URL:https://unc-alpes.fr/event/ag-unc-74-la-balme-de-sillingy/
LOCATION:LA BALME DE SILLINGY\, Salle Daviet\, LA BALME DE SILLINGY\, 74330\, France
END:VEVENT
BEGIN:VEVENT
DTSTART;TZID=Europe/Paris:20260416T190000
DTEND;TZID=Europe/Paris:20260416T210000
DTSTAMP:20260424T042032
CREATED:20260326T140757Z
LAST-MODIFIED:20260326T140846Z
UID:6415-1776366000-1776373200@unc-alpes.fr
SUMMARY:Conférence du Lions Club
DESCRIPTION:Invitation conférence Lions Club
URL:https://unc-alpes.fr/event/conference-du-lions-club/
END:VEVENT
BEGIN:VEVENT
DTSTART;TZID=Europe/Paris:20260415T080000
DTEND;TZID=Europe/Paris:20260415T170000
DTSTAMP:20260424T042032
CREATED:20260122T203003Z
LAST-MODIFIED:20260206T122745Z
UID:6072-1776240000-1776272400@unc-alpes.fr
SUMMARY:AG de l'UNC Arve et Salève
DESCRIPTION:
URL:https://unc-alpes.fr/event/ag-de-lunc-arve-et-saleve-2/
END:VEVENT
BEGIN:VEVENT
DTSTART;TZID=Europe/Paris:20260412T110000
DTEND;TZID=Europe/Paris:20260412T170000
DTSTAMP:20260424T042032
CREATED:20251219T192417Z
LAST-MODIFIED:20251219T192417Z
UID:5925-1775991600-1776013200@unc-alpes.fr
SUMMARY:Création de la République espagnole
DESCRIPTION:
URL:https://unc-alpes.fr/event/creation-de-la-republique-espagnole/
END:VEVENT
BEGIN:VEVENT
DTSTART;TZID=Europe/Paris:20260412T080000
DTEND;TZID=Europe/Paris:20260412T170000
DTSTAMP:20260424T042032
CREATED:20260130T160543Z
LAST-MODIFIED:20260130T160543Z
UID:6134-1775980800-1776013200@unc-alpes.fr
SUMMARY:AG de l'UNC Dingy Saint Clair
DESCRIPTION:
URL:https://unc-alpes.fr/event/ag-de-lunc-dingy-saint-clair/
END:VEVENT
BEGIN:VEVENT
DTSTART;TZID=Europe/Paris:20260411T080000
DTEND;TZID=Europe/Paris:20260411T170000
DTSTAMP:20260424T042032
CREATED:20251212T201737Z
LAST-MODIFIED:20251212T201737Z
UID:5846-1775894400-1775926800@unc-alpes.fr
SUMMARY:AG de l'UNC Cruseilles
DESCRIPTION:
URL:https://unc-alpes.fr/event/ag-de-lunc-cruseilles-2/
END:VEVENT
BEGIN:VEVENT
DTSTART;TZID=Europe/Paris:20260411T080000
DTEND;TZID=Europe/Paris:20260411T170000
DTSTAMP:20260424T042032
CREATED:20251108T140536Z
LAST-MODIFIED:20251108T140536Z
UID:5357-1775894400-1775926800@unc-alpes.fr
SUMMARY:AG UNC Thorens-Glières
DESCRIPTION:
URL:https://unc-alpes.fr/event/ag-unc-thorens-glieres/
END:VEVENT
BEGIN:VEVENT
DTSTART;TZID=Europe/Paris:20260410T200000
DTEND;TZID=Europe/Paris:20260410T200000
DTSTAMP:20260424T042032
CREATED:20260319T142208Z
LAST-MODIFIED:20260319T142208Z
UID:6398-1775851200-1775851200@unc-alpes.fr
SUMMARY:conférence sur L'HISTOIRE DE LA MILICE par Monsieur Michel GERMAIN
DESCRIPTION:78dd2b5d-e82f-41d8-9555-fedf93f3ed76\nMesdames\, Messieurs \nLe président et les membres du bureau du Comité du Souvenir Français Vallée Verte – Quatre Rivières vous invitent à assister à la conférence sur L’HISTOIRE DE LA MILICE par Monsieur Michel GERMAIN\, le : \nVENDREDI 10 AVRIL 2026 A 20 HEURES 00 \nA LA SALLE DES FETES\, route de la Verne\, 74250 MARCELLAZ \nOUVERT A TOUS – ENTREE LIBRE \nNous sollicitons de votre part de bien vouloir faire paraître cette annonce sur vos sites internet de vos associations et tous moyen de diffusion à votre disposition. Merci \nNous comptons sur vous pour diffuser largement auprès de vos proches\, de vos amis et connaissances. \nCordialement \n\nRené PERRISSIN \nDélégué Général Adjoint Souvenir français pour la Haute-Savoie\nPrésident du Comité Vallée Verte – Quatre Rivières\nTel. 06.07.49.65.26
URL:https://unc-alpes.fr/event/conference-sur-lhistoire-de-la-milice-par-monsieur-michel-germain/
END:VEVENT
BEGIN:VEVENT
DTSTART;TZID=Europe/Paris:20260410T080000
DTEND;TZID=Europe/Paris:20260410T170000
DTSTAMP:20260424T042032
CREATED:20260315T194422Z
LAST-MODIFIED:20260315T194422Z
UID:6392-1775808000-1775840400@unc-alpes.fr
SUMMARY:AG de l'UNC La Clusaz
DESCRIPTION:
URL:https://unc-alpes.fr/event/ag-de-lunc-la-clusaz/
END:VEVENT
BEGIN:VEVENT
DTSTART;TZID=Europe/Paris:20260407T080000
DTEND;TZID=Europe/Paris:20260407T170000
DTSTAMP:20260424T042032
CREATED:20260106T140938Z
LAST-MODIFIED:20260217T124647Z
UID:6000-1775548800-1775581200@unc-alpes.fr
SUMMARY:AG UNC Les Voirons
DESCRIPTION:
URL:https://unc-alpes.fr/event/ag-unc-les-voirons/
END:VEVENT
BEGIN:VEVENT
DTSTART;TZID=Europe/Paris:20260404T100000
DTEND;TZID=Europe/Paris:20260404T170000
DTSTAMP:20260424T042032
CREATED:20260219T081249Z
LAST-MODIFIED:20260219T081249Z
UID:6255-1775296800-1775322000@unc-alpes.fr
SUMMARY:COMMÉMORATION  DE LA TRAGÉDIE DU 1er  AVRIL 1944 AU GIFFRE
DESCRIPTION:Invitation Commémoration Giffre 04042026
URL:https://unc-alpes.fr/event/commemoration-de-la-tragedie-du-1er-avril-1944-au-giffre/
END:VEVENT
BEGIN:VEVENT
DTSTART;TZID=Europe/Paris:20260329T103000
DTEND;TZID=Europe/Paris:20260329T170000
DTSTAMP:20260424T042032
CREATED:20251219T191747Z
LAST-MODIFIED:20260323T211429Z
UID:5921-1774780200-1774803600@unc-alpes.fr
SUMMARY:Combat des Glières
DESCRIPTION:20260306-NP-27BCA-EM-OSA-NDS2026-205-CEREMONIE-DU-82E-ANNIVERSAIRE-DES-COMBATS-DES-GLIERES-V2
URL:https://unc-alpes.fr/event/combat-des-glieres/
END:VEVENT
BEGIN:VEVENT
DTSTART;TZID=Europe/Paris:20260329T080000
DTEND;TZID=Europe/Paris:20260329T170000
DTSTAMP:20260424T042032
CREATED:20260212T135017Z
LAST-MODIFIED:20260217T124751Z
UID:6198-1774771200-1774803600@unc-alpes.fr
SUMMARY:AG de l'UNC Seyssel
DESCRIPTION:
URL:https://unc-alpes.fr/event/ag-de-lunc-seyssel-2/
END:VEVENT
BEGIN:VEVENT
DTSTART;TZID=Europe/Paris:20260328T080000
DTEND;TZID=Europe/Paris:20260329T170000
DTSTAMP:20260424T042032
CREATED:20260324T153424Z
LAST-MODIFIED:20260324T153424Z
UID:6406-1774684800-1774803600@unc-alpes.fr
SUMMARY:Journées Portes Ouvertes Résidence Seniors Domitys à Rumilly
DESCRIPTION:JPO 28.29 MARS
URL:https://unc-alpes.fr/event/journees-portes-ouvertes-residence-seniors-domitys-a-rumilly/
END:VEVENT
BEGIN:VEVENT
DTSTART;TZID=Europe/Paris:20260328T080000
DTEND;TZID=Europe/Paris:20260328T170000
DTSTAMP:20260424T042032
CREATED:20260304T180447Z
LAST-MODIFIED:20260304T180535Z
UID:6313-1774684800-1774717200@unc-alpes.fr
SUMMARY:Mort du CNE ANJOT
DESCRIPTION:NAVES\n\n\nFILLIERES\n\n\nDINGY\n\n\n\n\n\n\nALEX\n\n\nLA BALME DE THUY\n\n\nTHONES
URL:https://unc-alpes.fr/event/mort-du-cne-anjot/
END:VEVENT
BEGIN:VEVENT
DTSTART;TZID=Europe/Paris:20260328T080000
DTEND;TZID=Europe/Paris:20260328T170000
DTSTAMP:20260424T042032
CREATED:20260217T124932Z
LAST-MODIFIED:20260217T124932Z
UID:6229-1774684800-1774717200@unc-alpes.fr
SUMMARY:AG de l'UNC Evian
DESCRIPTION:
URL:https://unc-alpes.fr/event/ag-de-lunc-evian-2/
END:VEVENT
BEGIN:VEVENT
DTSTART;TZID=Europe/Paris:20260328T080000
DTEND;TZID=Europe/Paris:20260328T170000
DTSTAMP:20260424T042032
CREATED:20260118T201911Z
LAST-MODIFIED:20260118T201911Z
UID:6054-1774684800-1774717200@unc-alpes.fr
SUMMARY:AG de l'UNc Vallée Verte
DESCRIPTION:
URL:https://unc-alpes.fr/event/ag-de-lunc-vallee-verte/
END:VEVENT
BEGIN:VEVENT
DTSTART;TZID=Europe/Paris:20260327T080000
DTEND;TZID=Europe/Paris:20260327T170000
DTSTAMP:20260424T042032
CREATED:20251201T172801Z
LAST-MODIFIED:20251201T172801Z
UID:5768-1774598400-1774630800@unc-alpes.fr
SUMMARY:AG de l'UNC Meythet
DESCRIPTION:
URL:https://unc-alpes.fr/event/ag-de-lunc-meythet-2/
END:VEVENT
BEGIN:VEVENT
DTSTART;TZID=Europe/Paris:20260321T080000
DTEND;TZID=Europe/Paris:20260321T170000
DTSTAMP:20260424T042032
CREATED:20251108T140444Z
LAST-MODIFIED:20260303T214805Z
UID:5355-1774080000-1774112400@unc-alpes.fr
SUMMARY:AG UNC Porte des Bauges
DESCRIPTION:
URL:https://unc-alpes.fr/event/ag-unc-porte-des-bauges/
END:VEVENT
BEGIN:VEVENT
DTSTART;TZID=Europe/Paris:20260320T080000
DTEND;TZID=Europe/Paris:20260320T170000
DTSTAMP:20260424T042032
CREATED:20260217T105631Z
LAST-MODIFIED:20260217T105631Z
UID:6214-1773993600-1774026000@unc-alpes.fr
SUMMARY:AG de l'UNC Argonay
DESCRIPTION:
URL:https://unc-alpes.fr/event/ag-de-lunc-argonay-2/
END:VEVENT
BEGIN:VEVENT
DTSTART;TZID=Europe/Paris:20260314T100000
DTEND;TZID=Europe/Paris:20260314T170000
DTSTAMP:20260424T042032
CREATED:20260217T123219Z
LAST-MODIFIED:20260217T123219Z
UID:6227-1773482400-1773507600@unc-alpes.fr
SUMMARY:REUNION DU SECTEUR ISERE
DESCRIPTION:
URL:https://unc-alpes.fr/event/reunion-du-secteur-isere/
END:VEVENT
BEGIN:VEVENT
DTSTART;TZID=Europe/Paris:20260313T200000
DTEND;TZID=Europe/Paris:20260313T220000
DTSTAMP:20260424T042032
CREATED:20260302T191101Z
LAST-MODIFIED:20260302T191114Z
UID:6293-1773432000-1773439200@unc-alpes.fr
SUMMARY:CONFERENCE "21 FEVRIER 1916 DEBUT DE LA BATAILLE DE VERDUN"
DESCRIPTION:5239c001-81a5-4d87-a09b-e0cc38bef1ed (1)
URL:https://unc-alpes.fr/event/conference-21-fevrier-1916-debut-de-la-bataille-de-verdun/
END:VEVENT
BEGIN:VEVENT
DTSTART;TZID=Europe/Paris:20260311T110000
DTEND;TZID=Europe/Paris:20260311T170000
DTSTAMP:20260424T042032
CREATED:20251219T191214Z
LAST-MODIFIED:20260304T065135Z
UID:5917-1773226800-1773248400@unc-alpes.fr
SUMMARY:cérémonie nationale en hommage aux victimes des attentats terroristes.
DESCRIPTION:20260311 Invit Pref victimes terroristes20260211- cérémonie 11-03-2026
URL:https://unc-alpes.fr/event/journee-nationale-dhommage-aux-victimes-du-terrorisme/
END:VEVENT
BEGIN:VEVENT
DTSTART;TZID=Europe/Paris:20260309T180000
DTEND;TZID=Europe/Paris:20260309T180000
DTSTAMP:20260424T042032
CREATED:20251219T191023Z
LAST-MODIFIED:20251219T191023Z
UID:5913-1773079200-1773079200@unc-alpes.fr
SUMMARY:Mort de Tom Morel
DESCRIPTION:
URL:https://unc-alpes.fr/event/mort-de-tom-morel/
END:VEVENT
BEGIN:VEVENT
DTSTART;TZID=Europe/Paris:20260309T080000
DTEND;TZID=Europe/Paris:20260309T170000
DTSTAMP:20260424T042032
CREATED:20260304T180737Z
LAST-MODIFIED:20260304T180737Z
UID:6318-1773043200-1773075600@unc-alpes.fr
SUMMARY:Hommage aux fusillés du PETIT BORNAND
DESCRIPTION:
URL:https://unc-alpes.fr/event/hommage-aux-fusilles-du-petit-bornand/
END:VEVENT
BEGIN:VEVENT
DTSTART;TZID=Europe/Paris:20260308T103000
DTEND;TZID=Europe/Paris:20260308T103000
DTSTAMP:20260424T042032
CREATED:20260220T133655Z
LAST-MODIFIED:20260220T133704Z
UID:6276-1772965800-1772965800@unc-alpes.fr
SUMMARY:Cérémonie d'hommage en l'honneur du Lieutenant Tom Morel
DESCRIPTION:Ceremonie Tom Morel 08 03 2026 Copy
URL:https://unc-alpes.fr/event/ceremonie-dhommage-en-lhonneur-du-lieutenant-tom-morel/
LOCATION:Entremont route de la Résistance\, Route de la Résistance\, ENTREMONT\, 74130\, France
END:VEVENT
BEGIN:VEVENT
DTSTART;TZID=Europe/Paris:20260307T080000
DTEND;TZID=Europe/Paris:20260307T170000
DTSTAMP:20260424T042032
CREATED:20251205T180421Z
LAST-MODIFIED:20251205T180423Z
UID:5799-1772870400-1772902800@unc-alpes.fr
SUMMARY:AG UNC LA ROCHE SUR FORON
DESCRIPTION:
URL:https://unc-alpes.fr/event/ag-unc-la-roche-sur-foron/
END:VEVENT
BEGIN:VEVENT
DTSTART;TZID=Europe/Paris:20260305T180000
DTEND;TZID=Europe/Paris:20260305T200000
DTSTAMP:20260424T042032
CREATED:20260216T164010Z
LAST-MODIFIED:20260216T164010Z
UID:6211-1772733600-1772740800@unc-alpes.fr
SUMMARY:Soirée conférence : Les jumelages annéciens et le jumelage Annecy-Bayreuth par Michel Amoudry
DESCRIPTION:AnnConf260305Amoudry
URL:https://unc-alpes.fr/event/soiree-conference-les-jumelages-anneciens-et-le-jumelage-annecy-bayreuth-par-michel-amoudry/
END:VEVENT
END:VCALENDAR