BEGIN:VCALENDAR
VERSION:2.0
PRODID:-// - ECPv6.15.20//NONSGML v1.0//EN
CALSCALE:GREGORIAN
METHOD:PUBLISH
X-ORIGINAL-URL:https://unc-alpes.fr
X-WR-CALDESC:Évènements pour 
REFRESH-INTERVAL;VALUE=DURATION:PT1H
X-Robots-Tag:noindex
X-PUBLISHED-TTL:PT1H
BEGIN:VTIMEZONE
TZID:Europe/Paris
BEGIN:DAYLIGHT
TZOFFSETFROM:+0100
TZOFFSETTO:+0200
TZNAME:CEST
DTSTART:20250330T010000
END:DAYLIGHT
BEGIN:STANDARD
TZOFFSETFROM:+0200
TZOFFSETTO:+0100
TZNAME:CET
DTSTART:20251026T010000
END:STANDARD
BEGIN:DAYLIGHT
TZOFFSETFROM:+0100
TZOFFSETTO:+0200
TZNAME:CEST
DTSTART:20260329T010000
END:DAYLIGHT
BEGIN:STANDARD
TZOFFSETFROM:+0200
TZOFFSETTO:+0100
TZNAME:CET
DTSTART:20261025T010000
END:STANDARD
BEGIN:DAYLIGHT
TZOFFSETFROM:+0100
TZOFFSETTO:+0200
TZNAME:CEST
DTSTART:20270328T010000
END:DAYLIGHT
BEGIN:STANDARD
TZOFFSETFROM:+0200
TZOFFSETTO:+0100
TZNAME:CET
DTSTART:20271031T010000
END:STANDARD
END:VTIMEZONE
BEGIN:VEVENT
DTSTART;TZID=Europe/Paris:20260328T080000
DTEND;TZID=Europe/Paris:20260329T170000
DTSTAMP:20260424T072354
CREATED:20260324T153424Z
LAST-MODIFIED:20260324T153424Z
UID:6406-1774684800-1774803600@unc-alpes.fr
SUMMARY:Journées Portes Ouvertes Résidence Seniors Domitys à Rumilly
DESCRIPTION:JPO 28.29 MARS
URL:https://unc-alpes.fr/event/journees-portes-ouvertes-residence-seniors-domitys-a-rumilly/
END:VEVENT
BEGIN:VEVENT
DTSTART;TZID=Europe/Paris:20260329T080000
DTEND;TZID=Europe/Paris:20260329T170000
DTSTAMP:20260424T072354
CREATED:20260212T135017Z
LAST-MODIFIED:20260217T124751Z
UID:6198-1774771200-1774803600@unc-alpes.fr
SUMMARY:AG de l'UNC Seyssel
DESCRIPTION:
URL:https://unc-alpes.fr/event/ag-de-lunc-seyssel-2/
END:VEVENT
BEGIN:VEVENT
DTSTART;TZID=Europe/Paris:20260329T103000
DTEND;TZID=Europe/Paris:20260329T170000
DTSTAMP:20260424T072354
CREATED:20251219T191747Z
LAST-MODIFIED:20260323T211429Z
UID:5921-1774780200-1774803600@unc-alpes.fr
SUMMARY:Combat des Glières
DESCRIPTION:20260306-NP-27BCA-EM-OSA-NDS2026-205-CEREMONIE-DU-82E-ANNIVERSAIRE-DES-COMBATS-DES-GLIERES-V2
URL:https://unc-alpes.fr/event/combat-des-glieres/
END:VEVENT
END:VCALENDAR