BEGIN:VCALENDAR
VERSION:2.0
PRODID:-// - ECPv6.15.20//NONSGML v1.0//EN
CALSCALE:GREGORIAN
METHOD:PUBLISH
X-ORIGINAL-URL:https://unc-alpes.fr
X-WR-CALDESC:Évènements pour 
REFRESH-INTERVAL;VALUE=DURATION:PT1H
X-Robots-Tag:noindex
X-PUBLISHED-TTL:PT1H
BEGIN:VTIMEZONE
TZID:Europe/Paris
BEGIN:DAYLIGHT
TZOFFSETFROM:+0100
TZOFFSETTO:+0200
TZNAME:CEST
DTSTART:20250330T010000
END:DAYLIGHT
BEGIN:STANDARD
TZOFFSETFROM:+0200
TZOFFSETTO:+0100
TZNAME:CET
DTSTART:20251026T010000
END:STANDARD
BEGIN:DAYLIGHT
TZOFFSETFROM:+0100
TZOFFSETTO:+0200
TZNAME:CEST
DTSTART:20260329T010000
END:DAYLIGHT
BEGIN:STANDARD
TZOFFSETFROM:+0200
TZOFFSETTO:+0100
TZNAME:CET
DTSTART:20261025T010000
END:STANDARD
BEGIN:DAYLIGHT
TZOFFSETFROM:+0100
TZOFFSETTO:+0200
TZNAME:CEST
DTSTART:20270328T010000
END:DAYLIGHT
BEGIN:STANDARD
TZOFFSETFROM:+0200
TZOFFSETTO:+0100
TZNAME:CET
DTSTART:20271031T010000
END:STANDARD
END:VTIMEZONE
BEGIN:VEVENT
DTSTART;TZID=Europe/Paris:20260305T140000
DTEND;TZID=Europe/Paris:20260305T170000
DTSTAMP:20260424T072436
CREATED:20260217T123006Z
LAST-MODIFIED:20260217T123006Z
UID:6225-1772719200-1772730000@unc-alpes.fr
SUMMARY:Comité distinctions de l'UNC 74
DESCRIPTION:
URL:https://unc-alpes.fr/event/comite-distinctions-de-lunc-74-2/
END:VEVENT
BEGIN:VEVENT
DTSTART;TZID=Europe/Paris:20260305T180000
DTEND;TZID=Europe/Paris:20260305T200000
DTSTAMP:20260424T072436
CREATED:20260216T164010Z
LAST-MODIFIED:20260216T164010Z
UID:6211-1772733600-1772740800@unc-alpes.fr
SUMMARY:Soirée conférence : Les jumelages annéciens et le jumelage Annecy-Bayreuth par Michel Amoudry
DESCRIPTION:AnnConf260305Amoudry
URL:https://unc-alpes.fr/event/soiree-conference-les-jumelages-anneciens-et-le-jumelage-annecy-bayreuth-par-michel-amoudry/
END:VEVENT
END:VCALENDAR