BEGIN:VCALENDAR
VERSION:2.0
PRODID:-// - ECPv6.15.20//NONSGML v1.0//EN
CALSCALE:GREGORIAN
METHOD:PUBLISH
X-ORIGINAL-URL:https://unc-alpes.fr
X-WR-CALDESC:Évènements pour 
REFRESH-INTERVAL;VALUE=DURATION:PT1H
X-Robots-Tag:noindex
X-PUBLISHED-TTL:PT1H
BEGIN:VTIMEZONE
TZID:Europe/Paris
BEGIN:DAYLIGHT
TZOFFSETFROM:+0100
TZOFFSETTO:+0200
TZNAME:CEST
DTSTART:20250330T010000
END:DAYLIGHT
BEGIN:STANDARD
TZOFFSETFROM:+0200
TZOFFSETTO:+0100
TZNAME:CET
DTSTART:20251026T010000
END:STANDARD
BEGIN:DAYLIGHT
TZOFFSETFROM:+0100
TZOFFSETTO:+0200
TZNAME:CEST
DTSTART:20260329T010000
END:DAYLIGHT
BEGIN:STANDARD
TZOFFSETFROM:+0200
TZOFFSETTO:+0100
TZNAME:CET
DTSTART:20261025T010000
END:STANDARD
BEGIN:DAYLIGHT
TZOFFSETFROM:+0100
TZOFFSETTO:+0200
TZNAME:CEST
DTSTART:20270328T010000
END:DAYLIGHT
BEGIN:STANDARD
TZOFFSETFROM:+0200
TZOFFSETTO:+0100
TZNAME:CET
DTSTART:20271031T010000
END:STANDARD
END:VTIMEZONE
BEGIN:VEVENT
DTSTART;TZID=Europe/Paris:20260221T080000
DTEND;TZID=Europe/Paris:20260222T170000
DTSTAMP:20260424T104950
CREATED:20251108T140055Z
LAST-MODIFIED:20260106T140702Z
UID:5345-1771660800-1771779600@unc-alpes.fr
SUMMARY:AG UNC Saint Martin Bellevue
DESCRIPTION:
URL:https://unc-alpes.fr/event/ag-unc-saint-martin-bellevue/
END:VEVENT
BEGIN:VEVENT
DTSTART;TZID=Europe/Paris:20260222T080000
DTEND;TZID=Europe/Paris:20260222T170000
DTSTAMP:20260424T104950
CREATED:20251108T140131Z
LAST-MODIFIED:20251108T140131Z
UID:5347-1771747200-1771779600@unc-alpes.fr
SUMMARY:AG UNC Rumilly
DESCRIPTION:
URL:https://unc-alpes.fr/event/ag-unc-rumilly/
END:VEVENT
END:VCALENDAR