BEGIN:VCALENDAR
VERSION:2.0
PRODID:-// - ECPv6.15.20//NONSGML v1.0//EN
CALSCALE:GREGORIAN
METHOD:PUBLISH
X-ORIGINAL-URL:https://unc-alpes.fr
X-WR-CALDESC:Évènements pour 
REFRESH-INTERVAL;VALUE=DURATION:PT1H
X-Robots-Tag:noindex
X-PUBLISHED-TTL:PT1H
BEGIN:VTIMEZONE
TZID:Europe/Paris
BEGIN:DAYLIGHT
TZOFFSETFROM:+0100
TZOFFSETTO:+0200
TZNAME:CEST
DTSTART:20250330T010000
END:DAYLIGHT
BEGIN:STANDARD
TZOFFSETFROM:+0200
TZOFFSETTO:+0100
TZNAME:CET
DTSTART:20251026T010000
END:STANDARD
BEGIN:DAYLIGHT
TZOFFSETFROM:+0100
TZOFFSETTO:+0200
TZNAME:CEST
DTSTART:20260329T010000
END:DAYLIGHT
BEGIN:STANDARD
TZOFFSETFROM:+0200
TZOFFSETTO:+0100
TZNAME:CET
DTSTART:20261025T010000
END:STANDARD
BEGIN:DAYLIGHT
TZOFFSETFROM:+0100
TZOFFSETTO:+0200
TZNAME:CEST
DTSTART:20270328T010000
END:DAYLIGHT
BEGIN:STANDARD
TZOFFSETFROM:+0200
TZOFFSETTO:+0100
TZNAME:CET
DTSTART:20271031T010000
END:STANDARD
END:VTIMEZONE
BEGIN:VEVENT
DTSTART;TZID=Europe/Paris:20260221T080000
DTEND;TZID=Europe/Paris:20260221T170000
DTSTAMP:20260424T090052
CREATED:20260106T131655Z
LAST-MODIFIED:20260106T131655Z
UID:5996-1771660800-1771693200@unc-alpes.fr
SUMMARY:AG de l'UNC Cluses
DESCRIPTION:
URL:https://unc-alpes.fr/event/ag-de-lunc-cluses-2/
END:VEVENT
BEGIN:VEVENT
DTSTART;TZID=Europe/Paris:20260221T080000
DTEND;TZID=Europe/Paris:20260221T170000
DTSTAMP:20260424T090052
CREATED:20260122T203123Z
LAST-MODIFIED:20260122T203123Z
UID:6074-1771660800-1771693200@unc-alpes.fr
SUMMARY:AG de l'UNC du Salève
DESCRIPTION:
URL:https://unc-alpes.fr/event/ag-de-lunc-du-saleve/
END:VEVENT
BEGIN:VEVENT
DTSTART;TZID=Europe/Paris:20260221T080000
DTEND;TZID=Europe/Paris:20260221T170000
DTSTAMP:20260424T090052
CREATED:20260217T122532Z
LAST-MODIFIED:20260217T122532Z
UID:6217-1771660800-1771693200@unc-alpes.fr
SUMMARY:AG de l'UNC St Martin Bellevue
DESCRIPTION:
URL:https://unc-alpes.fr/event/ag-de-lunc-st-martin-bellevue-2/
END:VEVENT
BEGIN:VEVENT
DTSTART;TZID=Europe/Paris:20260221T080000
DTEND;TZID=Europe/Paris:20260222T170000
DTSTAMP:20260424T090052
CREATED:20251108T140055Z
LAST-MODIFIED:20260106T140702Z
UID:5345-1771660800-1771779600@unc-alpes.fr
SUMMARY:AG UNC Saint Martin Bellevue
DESCRIPTION:
URL:https://unc-alpes.fr/event/ag-unc-saint-martin-bellevue/
END:VEVENT
END:VCALENDAR