BEGIN:VCALENDAR
VERSION:2.0
PRODID:-// - ECPv6.15.20//NONSGML v1.0//EN
CALSCALE:GREGORIAN
METHOD:PUBLISH
X-ORIGINAL-URL:https://unc-alpes.fr
X-WR-CALDESC:Évènements pour 
REFRESH-INTERVAL;VALUE=DURATION:PT1H
X-Robots-Tag:noindex
X-PUBLISHED-TTL:PT1H
BEGIN:VTIMEZONE
TZID:Europe/Paris
BEGIN:DAYLIGHT
TZOFFSETFROM:+0100
TZOFFSETTO:+0200
TZNAME:CEST
DTSTART:20250330T010000
END:DAYLIGHT
BEGIN:STANDARD
TZOFFSETFROM:+0200
TZOFFSETTO:+0100
TZNAME:CET
DTSTART:20251026T010000
END:STANDARD
BEGIN:DAYLIGHT
TZOFFSETFROM:+0100
TZOFFSETTO:+0200
TZNAME:CEST
DTSTART:20260329T010000
END:DAYLIGHT
BEGIN:STANDARD
TZOFFSETFROM:+0200
TZOFFSETTO:+0100
TZNAME:CET
DTSTART:20261025T010000
END:STANDARD
BEGIN:DAYLIGHT
TZOFFSETFROM:+0100
TZOFFSETTO:+0200
TZNAME:CEST
DTSTART:20270328T010000
END:DAYLIGHT
BEGIN:STANDARD
TZOFFSETFROM:+0200
TZOFFSETTO:+0100
TZNAME:CET
DTSTART:20271031T010000
END:STANDARD
END:VTIMEZONE
BEGIN:VEVENT
DTSTART;TZID=Europe/Paris:20260207T080000
DTEND;TZID=Europe/Paris:20260207T170000
DTSTAMP:20260424T090054
CREATED:20260122T202740Z
LAST-MODIFIED:20260122T202740Z
UID:6068-1770451200-1770483600@unc-alpes.fr
SUMMARY:AG de l'UNC Chartreuse
DESCRIPTION:
URL:https://unc-alpes.fr/event/ag-de-lunc-chartreuse/
END:VEVENT
BEGIN:VEVENT
DTSTART;TZID=Europe/Paris:20260207T083000
DTEND;TZID=Europe/Paris:20260207T140000
DTSTAMP:20260424T090054
CREATED:20260115T141041Z
LAST-MODIFIED:20260115T141041Z
UID:6030-1770453000-1770472800@unc-alpes.fr
SUMMARY:Conseil d'Administration UNC 74
DESCRIPTION:
URL:https://unc-alpes.fr/event/conseil-dadministration-unc-74-2/
LOCATION:Maison du Combattant et de la Mémoire 13 bis Boulvard du Fier 74000\, 13 bis Boulevard du Fier\, ANNECY\, 74000\, France
END:VEVENT
END:VCALENDAR