BEGIN:VCALENDAR
VERSION:2.0
PRODID:-// - ECPv6.15.20//NONSGML v1.0//EN
CALSCALE:GREGORIAN
METHOD:PUBLISH
X-ORIGINAL-URL:https://unc-alpes.fr
X-WR-CALDESC:Évènements pour 
REFRESH-INTERVAL;VALUE=DURATION:PT1H
X-Robots-Tag:noindex
X-PUBLISHED-TTL:PT1H
BEGIN:VTIMEZONE
TZID:Europe/Paris
BEGIN:DAYLIGHT
TZOFFSETFROM:+0100
TZOFFSETTO:+0200
TZNAME:CEST
DTSTART:20240331T010000
END:DAYLIGHT
BEGIN:STANDARD
TZOFFSETFROM:+0200
TZOFFSETTO:+0100
TZNAME:CET
DTSTART:20241027T010000
END:STANDARD
BEGIN:DAYLIGHT
TZOFFSETFROM:+0100
TZOFFSETTO:+0200
TZNAME:CEST
DTSTART:20250330T010000
END:DAYLIGHT
BEGIN:STANDARD
TZOFFSETFROM:+0200
TZOFFSETTO:+0100
TZNAME:CET
DTSTART:20251026T010000
END:STANDARD
BEGIN:DAYLIGHT
TZOFFSETFROM:+0100
TZOFFSETTO:+0200
TZNAME:CEST
DTSTART:20260329T010000
END:DAYLIGHT
BEGIN:STANDARD
TZOFFSETFROM:+0200
TZOFFSETTO:+0100
TZNAME:CET
DTSTART:20261025T010000
END:STANDARD
END:VTIMEZONE
BEGIN:VEVENT
DTSTART;TZID=Europe/Paris:20251111T080000
DTEND;TZID=Europe/Paris:20251111T120000
DTSTAMP:20260424T141105
CREATED:20251022T181202Z
LAST-MODIFIED:20251106T071303Z
UID:5231-1762848000-1762862400@unc-alpes.fr
SUMMARY:11 novembre
DESCRIPTION:NB : la cérémonie commémorative qui sera célébrée à Meythet aura lieu à 10h00\, Rue de l’Aérodrome\, et non à 09h00 comme indiqué sur le carton. \nInvitation_ceremonies_Armistice_11novembre2025_v2\nNB : la cérémonie commémorative qui sera célébrée à Meythet aura lieu à 10h00\, Rue de l’Aérodrome\, et non à 09h00 comme indiqué sur le carton. \n20251105_NP_DMD74_Cérémonies-11-novembre-2025-Annecy-Note finale
URL:https://unc-alpes.fr/event/11-novembre/
END:VEVENT
END:VCALENDAR