BEGIN:VCALENDAR
VERSION:2.0
PRODID:-// - ECPv6.15.20//NONSGML v1.0//EN
CALSCALE:GREGORIAN
METHOD:PUBLISH
X-ORIGINAL-URL:https://unc-alpes.fr
X-WR-CALDESC:Évènements pour 
REFRESH-INTERVAL;VALUE=DURATION:PT1H
X-Robots-Tag:noindex
X-PUBLISHED-TTL:PT1H
BEGIN:VTIMEZONE
TZID:Europe/Paris
BEGIN:DAYLIGHT
TZOFFSETFROM:+0100
TZOFFSETTO:+0200
TZNAME:CEST
DTSTART:20240331T010000
END:DAYLIGHT
BEGIN:STANDARD
TZOFFSETFROM:+0200
TZOFFSETTO:+0100
TZNAME:CET
DTSTART:20241027T010000
END:STANDARD
BEGIN:DAYLIGHT
TZOFFSETFROM:+0100
TZOFFSETTO:+0200
TZNAME:CEST
DTSTART:20250330T010000
END:DAYLIGHT
BEGIN:STANDARD
TZOFFSETFROM:+0200
TZOFFSETTO:+0100
TZNAME:CET
DTSTART:20251026T010000
END:STANDARD
BEGIN:DAYLIGHT
TZOFFSETFROM:+0100
TZOFFSETTO:+0200
TZNAME:CEST
DTSTART:20260329T010000
END:DAYLIGHT
BEGIN:STANDARD
TZOFFSETFROM:+0200
TZOFFSETTO:+0100
TZNAME:CET
DTSTART:20261025T010000
END:STANDARD
END:VTIMEZONE
BEGIN:VEVENT
DTSTART;TZID=Europe/Paris:20251108T080000
DTEND;TZID=Europe/Paris:20251110T170000
DTSTAMP:20260424T143041
CREATED:20251031T064620Z
LAST-MODIFIED:20251031T064620Z
UID:5268-1762588800-1762794000@unc-alpes.fr
SUMMARY:Rencontres du film des Résistances - Morette
DESCRIPTION:Rencontres du film des Résistances \nWeek-end de préouverture les 8\, 9 et 11 novembre 2025 \nSite de Morette – musée départemental de la Résistance haut-savoyarde \n Le Conseil départemental de la Haute-Savoie\, partenaire des Rencontres du film des Résistances est heureux de vous proposer un week-end de préouverture\, rythmé par des projections\, des rencontres et des animations. \nEn avant-première\, samedi 8 novembre à 16h30\, découvrez le film d’animation Allah n’est pas obligé\, de Zaven Najjar\, sélectionné au festival international du film d’animation d’Annecy 2025. D’après le roman de Ahmadou Kourouma. (1h17\, à partir de 13 ans) \nA l’issue de la projection\, un temps d’échanges sera animé par Louise Naudot de CITIA/Festival International du film d’animation d’Annecy qui en dévoilera le processus de création. \nDimanche 9 novembre à 16h\, c’est le film documentaire Ascq 1944 : les martyrs du Nord\, de Germain et Robin Aguesse qui sera projeté (1h13\, à partir de 13 ans). \nLa séance sera suivie d’un échange avec l’association du souvenir des déportés de Saint-Eustache (74). \n Profitez aussi des animations et visites guidées sur le Site de Morette\, musée départemental de la Résistance haut-savoyarde\,  les 8\, 9 et 11 novembre. \nRetrouvez toute la programmation en pièce-jointe ! \nSITE DE MORETTE – 74230 La Balme-de-Thuy – Renseignements au 04 50 33 49 50 ou reservationsitesdesglieres@hautesavoie.fr – www.hautesavoie.fr
URL:https://unc-alpes.fr/event/rencontres-du-film-des-resistances-morette/
END:VEVENT
END:VCALENDAR