BEGIN:VCALENDAR
VERSION:2.0
PRODID:-// - ECPv6.15.20//NONSGML v1.0//EN
CALSCALE:GREGORIAN
METHOD:PUBLISH
X-ORIGINAL-URL:https://unc-alpes.fr
X-WR-CALDESC:Évènements pour 
REFRESH-INTERVAL;VALUE=DURATION:PT1H
X-Robots-Tag:noindex
X-PUBLISHED-TTL:PT1H
BEGIN:VTIMEZONE
TZID:Europe/Paris
BEGIN:DAYLIGHT
TZOFFSETFROM:+0100
TZOFFSETTO:+0200
TZNAME:CEST
DTSTART:20240331T010000
END:DAYLIGHT
BEGIN:STANDARD
TZOFFSETFROM:+0200
TZOFFSETTO:+0100
TZNAME:CET
DTSTART:20241027T010000
END:STANDARD
BEGIN:DAYLIGHT
TZOFFSETFROM:+0100
TZOFFSETTO:+0200
TZNAME:CEST
DTSTART:20250330T010000
END:DAYLIGHT
BEGIN:STANDARD
TZOFFSETFROM:+0200
TZOFFSETTO:+0100
TZNAME:CET
DTSTART:20251026T010000
END:STANDARD
BEGIN:DAYLIGHT
TZOFFSETFROM:+0100
TZOFFSETTO:+0200
TZNAME:CEST
DTSTART:20260329T010000
END:DAYLIGHT
BEGIN:STANDARD
TZOFFSETFROM:+0200
TZOFFSETTO:+0100
TZNAME:CET
DTSTART:20261025T010000
END:STANDARD
END:VTIMEZONE
BEGIN:VEVENT
DTSTART;TZID=Europe/Paris:20251025T100000
DTEND;TZID=Europe/Paris:20251025T170000
DTSTAMP:20260424T160324
CREATED:20251003T134947Z
LAST-MODIFIED:20251003T135306Z
UID:5130-1761386400-1761411600@unc-alpes.fr
SUMMARY:l'inauguration du panneau historique des Fusillés du Noiret
DESCRIPTION:Invitation_Inuaugration_Panneau_Historique_Cruseilles
URL:https://unc-alpes.fr/event/linauguration-du-panneau-historique-des-fusilles-du-noiret/
END:VEVENT
BEGIN:VEVENT
DTSTART;TZID=Europe/Paris:20251025T133000
DTEND;TZID=Europe/Paris:20251025T173000
DTSTAMP:20260424T160324
CREATED:20251005T175214Z
LAST-MODIFIED:20251007T161742Z
UID:5140-1761399000-1761413400@unc-alpes.fr
SUMMARY:REUNION DU SECTEUR DE ST JULIEN EN GENEVOIS - salle Le Salève
DESCRIPTION:
URL:https://unc-alpes.fr/event/reunion-du-secteur-de-st-julien-en-genevois-salle-le-saleve/
END:VEVENT
END:VCALENDAR