BEGIN:VCALENDAR
VERSION:2.0
PRODID:-// - ECPv6.15.20//NONSGML v1.0//EN
CALSCALE:GREGORIAN
METHOD:PUBLISH
X-ORIGINAL-URL:https://unc-alpes.fr
X-WR-CALDESC:Évènements pour 
REFRESH-INTERVAL;VALUE=DURATION:PT1H
X-Robots-Tag:noindex
X-PUBLISHED-TTL:PT1H
BEGIN:VTIMEZONE
TZID:Europe/Paris
BEGIN:DAYLIGHT
TZOFFSETFROM:+0100
TZOFFSETTO:+0200
TZNAME:CEST
DTSTART:20240331T010000
END:DAYLIGHT
BEGIN:STANDARD
TZOFFSETFROM:+0200
TZOFFSETTO:+0100
TZNAME:CET
DTSTART:20241027T010000
END:STANDARD
BEGIN:DAYLIGHT
TZOFFSETFROM:+0100
TZOFFSETTO:+0200
TZNAME:CEST
DTSTART:20250330T010000
END:DAYLIGHT
BEGIN:STANDARD
TZOFFSETFROM:+0200
TZOFFSETTO:+0100
TZNAME:CET
DTSTART:20251026T010000
END:STANDARD
BEGIN:DAYLIGHT
TZOFFSETFROM:+0100
TZOFFSETTO:+0200
TZNAME:CEST
DTSTART:20260329T010000
END:DAYLIGHT
BEGIN:STANDARD
TZOFFSETFROM:+0200
TZOFFSETTO:+0100
TZNAME:CET
DTSTART:20261025T010000
END:STANDARD
END:VTIMEZONE
BEGIN:VEVENT
DTSTART;VALUE=DATE:20250919
DTEND;VALUE=DATE:20250921
DTSTAMP:20260424T174956
CREATED:20250517T073106Z
LAST-MODIFIED:20250517T073204Z
UID:4650-1758240000-1758412799@unc-alpes.fr
SUMMARY:CÉRÉMONIE DE PASSATION DU DRAPEAU  DES VILLES MÉDAILLÉES DE LA RESISTANCE  A THONES
DESCRIPTION:PROGRAMME PASSATION DRAPEAU\nPRESENTATION PASSATION DRAPEAU
URL:https://unc-alpes.fr/event/ceremonie-de-passation-du-drapeau-des-villes-medaillees-de-la-resistance-a-thones/
END:VEVENT
BEGIN:VEVENT
DTSTART;TZID=Europe/Paris:20250920T170000
DTEND;TZID=Europe/Paris:20250920T170000
DTSTAMP:20260424T174956
CREATED:20250320T085621Z
LAST-MODIFIED:20250821T061937Z
UID:4394-1758387600-1758387600@unc-alpes.fr
SUMMARY:Cérémonie de passation du drapeau des villes médaillées de la Résistance française à Thônes
DESCRIPTION:250703 Invitation passation drapeau AB2CMERF le 20 septembre à Thônes\nPRESENTATION PASSATION DRAPEAU\nPROGRAMME PASSATION DRAPEAU
URL:https://unc-alpes.fr/event/ceremonie-de-passation-du-drapeau-des-villes-medaillees-de-la-resistance-francaise-a-thones/
END:VEVENT
END:VCALENDAR