BEGIN:VCALENDAR
VERSION:2.0
PRODID:-// - ECPv6.15.20//NONSGML v1.0//EN
CALSCALE:GREGORIAN
METHOD:PUBLISH
X-ORIGINAL-URL:https://unc-alpes.fr
X-WR-CALDESC:Évènements pour 
REFRESH-INTERVAL;VALUE=DURATION:PT1H
X-Robots-Tag:noindex
X-PUBLISHED-TTL:PT1H
BEGIN:VTIMEZONE
TZID:Europe/Paris
BEGIN:DAYLIGHT
TZOFFSETFROM:+0100
TZOFFSETTO:+0200
TZNAME:CEST
DTSTART:20240331T010000
END:DAYLIGHT
BEGIN:STANDARD
TZOFFSETFROM:+0200
TZOFFSETTO:+0100
TZNAME:CET
DTSTART:20241027T010000
END:STANDARD
BEGIN:DAYLIGHT
TZOFFSETFROM:+0100
TZOFFSETTO:+0200
TZNAME:CEST
DTSTART:20250330T010000
END:DAYLIGHT
BEGIN:STANDARD
TZOFFSETFROM:+0200
TZOFFSETTO:+0100
TZNAME:CET
DTSTART:20251026T010000
END:STANDARD
BEGIN:DAYLIGHT
TZOFFSETFROM:+0100
TZOFFSETTO:+0200
TZNAME:CEST
DTSTART:20260329T010000
END:DAYLIGHT
BEGIN:STANDARD
TZOFFSETFROM:+0200
TZOFFSETTO:+0100
TZNAME:CET
DTSTART:20261025T010000
END:STANDARD
END:VTIMEZONE
BEGIN:VEVENT
DTSTART;TZID=Europe/Paris:20250820T080000
DTEND;TZID=Europe/Paris:20250820T170000
DTSTAMP:20260424T192016
CREATED:20250717T075315Z
LAST-MODIFIED:20250811T105056Z
UID:4849-1755676800-1755709200@unc-alpes.fr
SUMMARY:Commémoration du maquis des Confins
DESCRIPTION: Le Mercredi 20 Août 2025. \n09 heures  Cérémonie à la Nécropole Nationale de Morette. \n 10 heures 15 Cérémonie aux Monument aux Morts de La Clusaz. \n 11 heures 15 Cérémonie à La Chapelle des Confins. \n 11heures 45  Cérémonie à La Stèle des Confins; \n 12 heures15  Vin d’Honneur offert par la Mairie au Restaurant l’Endryre \n Possibilité de déjeuner au Restaurant l’Endryre. \n Menu 30.€uros. \n Les 2 Comités de Thônes et Annecy Le Vieux offrent les boissons. \n Réservation avant le 15 aout 2025 auprès du Président  \n Philippe Cherpitel  06 76 41 04 80. \n Réseaux et Maquis en Haute-Savoie — Le maquis des Confins de la Clusaz (Le Souvenir Français 74) \nhttps://souvenir74.fr/maquis/le-maquis-des-confins-haute-savoie/
URL:https://unc-alpes.fr/event/commemoration-du-maquis-des-confins/
END:VEVENT
END:VCALENDAR