BEGIN:VCALENDAR
VERSION:2.0
PRODID:-// - ECPv6.15.20//NONSGML v1.0//EN
CALSCALE:GREGORIAN
METHOD:PUBLISH
X-ORIGINAL-URL:https://unc-alpes.fr
X-WR-CALDESC:Évènements pour 
REFRESH-INTERVAL;VALUE=DURATION:PT1H
X-Robots-Tag:noindex
X-PUBLISHED-TTL:PT1H
BEGIN:VTIMEZONE
TZID:Europe/Paris
BEGIN:DAYLIGHT
TZOFFSETFROM:+0100
TZOFFSETTO:+0200
TZNAME:CEST
DTSTART:20240331T010000
END:DAYLIGHT
BEGIN:STANDARD
TZOFFSETFROM:+0200
TZOFFSETTO:+0100
TZNAME:CET
DTSTART:20241027T010000
END:STANDARD
BEGIN:DAYLIGHT
TZOFFSETFROM:+0100
TZOFFSETTO:+0200
TZNAME:CEST
DTSTART:20250330T010000
END:DAYLIGHT
BEGIN:STANDARD
TZOFFSETFROM:+0200
TZOFFSETTO:+0100
TZNAME:CET
DTSTART:20251026T010000
END:STANDARD
BEGIN:DAYLIGHT
TZOFFSETFROM:+0100
TZOFFSETTO:+0200
TZNAME:CEST
DTSTART:20260329T010000
END:DAYLIGHT
BEGIN:STANDARD
TZOFFSETFROM:+0200
TZOFFSETTO:+0100
TZNAME:CET
DTSTART:20261025T010000
END:STANDARD
END:VTIMEZONE
BEGIN:VEVENT
DTSTART;TZID=Europe/Paris:20250720T100000
DTEND;TZID=Europe/Paris:20250720T170000
DTSTAMP:20260424T204611
CREATED:20250702T195757Z
LAST-MODIFIED:20250702T195757Z
UID:4799-1753005600-1753030800@unc-alpes.fr
SUMMARY:Hommage aux Justes de France - Thonon-les-Bains
DESCRIPTION:
URL:https://unc-alpes.fr/event/hommage-aux-justes-de-france-thonon-les-bains/
END:VEVENT
BEGIN:VEVENT
DTSTART;TZID=Europe/Paris:20250720T110000
DTEND;TZID=Europe/Paris:20250720T170000
DTSTAMP:20260424T204611
CREATED:20250630T134839Z
LAST-MODIFIED:20250715T131510Z
UID:4777-1753009200-1753030800@unc-alpes.fr
SUMMARY:J. natle en hommage à la mémoire des victimes des crimes racistes et antisémites de l’Etat français et d’hommage aux Justes de France
DESCRIPTION:250715 Invitation mémoire victime des crimes racistes et antisémites\n20250715-NDS-ONaCVG- 20-07-2025
URL:https://unc-alpes.fr/event/j-natle-en-hommage-a-la-memoire-des-victimes-des-crimes-racistes-et-antisemites-de-letat-francais-et-dhommage-aux-justes-de-france/
END:VEVENT
END:VCALENDAR