BEGIN:VCALENDAR
VERSION:2.0
PRODID:-// - ECPv6.15.20//NONSGML v1.0//EN
CALSCALE:GREGORIAN
METHOD:PUBLISH
X-ORIGINAL-URL:https://unc-alpes.fr
X-WR-CALDESC:Évènements pour 
REFRESH-INTERVAL;VALUE=DURATION:PT1H
X-Robots-Tag:noindex
X-PUBLISHED-TTL:PT1H
BEGIN:VTIMEZONE
TZID:Europe/Paris
BEGIN:DAYLIGHT
TZOFFSETFROM:+0100
TZOFFSETTO:+0200
TZNAME:CEST
DTSTART:20240331T010000
END:DAYLIGHT
BEGIN:STANDARD
TZOFFSETFROM:+0200
TZOFFSETTO:+0100
TZNAME:CET
DTSTART:20241027T010000
END:STANDARD
BEGIN:DAYLIGHT
TZOFFSETFROM:+0100
TZOFFSETTO:+0200
TZNAME:CEST
DTSTART:20250330T010000
END:DAYLIGHT
BEGIN:STANDARD
TZOFFSETFROM:+0200
TZOFFSETTO:+0100
TZNAME:CET
DTSTART:20251026T010000
END:STANDARD
BEGIN:DAYLIGHT
TZOFFSETFROM:+0100
TZOFFSETTO:+0200
TZNAME:CEST
DTSTART:20260329T010000
END:DAYLIGHT
BEGIN:STANDARD
TZOFFSETFROM:+0200
TZOFFSETTO:+0100
TZNAME:CET
DTSTART:20261025T010000
END:STANDARD
END:VTIMEZONE
BEGIN:VEVENT
DTSTART;TZID=Europe/Paris:20250627T090000
DTEND;TZID=Europe/Paris:20250627T170000
DTSTAMP:20260424T222307
CREATED:20250618T173455Z
LAST-MODIFIED:20250618T173455Z
UID:4756-1751014800-1751043600@unc-alpes.fr
SUMMARY:Prise de fonction de Monsieur Stéphane DONNOT\, sous-préfet de l’arrondissement de BONNEVILLE
DESCRIPTION:La prise de fonction de Monsieur Stéphane DONNOT\, sous-préfet de l’arrondissement de BONNEVILLE aura lieu le 27 juin 2025 à 9H00 au monument aux Morts\, Quai des Francs-tireurs à BONNEVILLE.
URL:https://unc-alpes.fr/event/prise-de-fonction-de-monsieur-stephane-donnot-sous-prefet-de-larrondissement-de-bonneville/
END:VEVENT
END:VCALENDAR