BEGIN:VCALENDAR
VERSION:2.0
PRODID:-// - ECPv6.15.20//NONSGML v1.0//EN
CALSCALE:GREGORIAN
METHOD:PUBLISH
X-ORIGINAL-URL:https://unc-alpes.fr
X-WR-CALDESC:Évènements pour 
REFRESH-INTERVAL;VALUE=DURATION:PT1H
X-Robots-Tag:noindex
X-PUBLISHED-TTL:PT1H
BEGIN:VTIMEZONE
TZID:Europe/Paris
BEGIN:DAYLIGHT
TZOFFSETFROM:+0100
TZOFFSETTO:+0200
TZNAME:CEST
DTSTART:20240331T010000
END:DAYLIGHT
BEGIN:STANDARD
TZOFFSETFROM:+0200
TZOFFSETTO:+0100
TZNAME:CET
DTSTART:20241027T010000
END:STANDARD
BEGIN:DAYLIGHT
TZOFFSETFROM:+0100
TZOFFSETTO:+0200
TZNAME:CEST
DTSTART:20250330T010000
END:DAYLIGHT
BEGIN:STANDARD
TZOFFSETFROM:+0200
TZOFFSETTO:+0100
TZNAME:CET
DTSTART:20251026T010000
END:STANDARD
BEGIN:DAYLIGHT
TZOFFSETFROM:+0100
TZOFFSETTO:+0200
TZNAME:CEST
DTSTART:20260329T010000
END:DAYLIGHT
BEGIN:STANDARD
TZOFFSETFROM:+0200
TZOFFSETTO:+0100
TZNAME:CET
DTSTART:20261025T010000
END:STANDARD
END:VTIMEZONE
BEGIN:VEVENT
DTSTART;TZID=Europe/Paris:20250608T110000
DTEND;TZID=Europe/Paris:20250608T120000
DTSTAMP:20260424T221950
CREATED:20250313T091651Z
LAST-MODIFIED:20250602T065842Z
UID:4376-1749380400-1749384000@unc-alpes.fr
SUMMARY:Hommage national aux morts pour la France en Indochine
DESCRIPTION:250520 invitation hommage morts Indo le 8 juin 2025 à Annecy\n2025_05_13_Message UNC_Indochine\n20250527_NP_DMD74_NORG-1155_Cérémonie-Indochine-08-juin-2025-Annecy
URL:https://unc-alpes.fr/event/hommage-national-aux-morts-pour-la-france-en-indochine/
ATTACH;FMTTYPE=image/jpeg:https://unc-alpes.fr/wp-content/uploads/2025/03/Indo.jpg
END:VEVENT
END:VCALENDAR