BEGIN:VCALENDAR
VERSION:2.0
PRODID:-// - ECPv6.15.20//NONSGML v1.0//EN
CALSCALE:GREGORIAN
METHOD:PUBLISH
X-ORIGINAL-URL:https://unc-alpes.fr
X-WR-CALDESC:Évènements pour 
REFRESH-INTERVAL;VALUE=DURATION:PT1H
X-Robots-Tag:noindex
X-PUBLISHED-TTL:PT1H
BEGIN:VTIMEZONE
TZID:Europe/Paris
BEGIN:DAYLIGHT
TZOFFSETFROM:+0100
TZOFFSETTO:+0200
TZNAME:CEST
DTSTART:20240331T010000
END:DAYLIGHT
BEGIN:STANDARD
TZOFFSETFROM:+0200
TZOFFSETTO:+0100
TZNAME:CET
DTSTART:20241027T010000
END:STANDARD
BEGIN:DAYLIGHT
TZOFFSETFROM:+0100
TZOFFSETTO:+0200
TZNAME:CEST
DTSTART:20250330T010000
END:DAYLIGHT
BEGIN:STANDARD
TZOFFSETFROM:+0200
TZOFFSETTO:+0100
TZNAME:CET
DTSTART:20251026T010000
END:STANDARD
BEGIN:DAYLIGHT
TZOFFSETFROM:+0100
TZOFFSETTO:+0200
TZNAME:CEST
DTSTART:20260329T010000
END:DAYLIGHT
BEGIN:STANDARD
TZOFFSETFROM:+0200
TZOFFSETTO:+0100
TZNAME:CET
DTSTART:20261025T010000
END:STANDARD
END:VTIMEZONE
BEGIN:VEVENT
DTSTART;TZID=Europe/Paris:20250407T100000
DTEND;TZID=Europe/Paris:20250407T170000
DTSTAMP:20260425T012121
CREATED:20250331T105037Z
LAST-MODIFIED:20250331T105037Z
UID:4444-1744020000-1744045200@unc-alpes.fr
SUMMARY:Inauguration de la fresque numérique
DESCRIPTION:Invitation (2)
URL:https://unc-alpes.fr/event/inauguration-de-la-fresque-numerique/
END:VEVENT
BEGIN:VEVENT
DTSTART;TZID=Europe/Paris:20250407T102000
DTEND;TZID=Europe/Paris:20250407T170000
DTSTAMP:20260425T012121
CREATED:20250331T151205Z
LAST-MODIFIED:20250403T185003Z
UID:4447-1744021200-1744045200@unc-alpes.fr
SUMMARY:Prise de fonction de la préfète Emmanuelle DUBEE
DESCRIPTION:20250403_NP_DMD74_Note-Cérémonie-Accueil-Préfète-07AVR2025 - VF
URL:https://unc-alpes.fr/event/prise-de-fonction-de-la-prefete-emmanuelle-dubee/
LOCATION:ANNECY\, ANNECY
END:VEVENT
END:VCALENDAR