BEGIN:VCALENDAR
VERSION:2.0
PRODID:-// - ECPv6.15.20//NONSGML v1.0//EN
CALSCALE:GREGORIAN
METHOD:PUBLISH
X-ORIGINAL-URL:https://unc-alpes.fr
X-WR-CALDESC:Évènements pour 
REFRESH-INTERVAL;VALUE=DURATION:PT1H
X-Robots-Tag:noindex
X-PUBLISHED-TTL:PT1H
BEGIN:VTIMEZONE
TZID:Europe/Paris
BEGIN:DAYLIGHT
TZOFFSETFROM:+0100
TZOFFSETTO:+0200
TZNAME:CEST
DTSTART:20240331T010000
END:DAYLIGHT
BEGIN:STANDARD
TZOFFSETFROM:+0200
TZOFFSETTO:+0100
TZNAME:CET
DTSTART:20241027T010000
END:STANDARD
BEGIN:DAYLIGHT
TZOFFSETFROM:+0100
TZOFFSETTO:+0200
TZNAME:CEST
DTSTART:20250330T010000
END:DAYLIGHT
BEGIN:STANDARD
TZOFFSETFROM:+0200
TZOFFSETTO:+0100
TZNAME:CET
DTSTART:20251026T010000
END:STANDARD
BEGIN:DAYLIGHT
TZOFFSETFROM:+0100
TZOFFSETTO:+0200
TZNAME:CEST
DTSTART:20260329T010000
END:DAYLIGHT
BEGIN:STANDARD
TZOFFSETFROM:+0200
TZOFFSETTO:+0100
TZNAME:CET
DTSTART:20261025T010000
END:STANDARD
END:VTIMEZONE
BEGIN:VEVENT
DTSTART;VALUE=DATE:20250317
DTEND;VALUE=DATE:20250329
DTSTAMP:20260425T025535
CREATED:20250320T085948Z
LAST-MODIFIED:20250320T090027Z
UID:4396-1742169600-1743206399@unc-alpes.fr
SUMMARY:Exposition sur le retour des déportés à Thonon
DESCRIPTION:Expo grangette
URL:https://unc-alpes.fr/event/exposition-sur-le-retour-des-deportes-a-thonon/
END:VEVENT
BEGIN:VEVENT
DTSTART;TZID=Europe/Paris:20250327T090000
DTEND;TZID=Europe/Paris:20250327T110000
DTSTAMP:20260425T025535
CREATED:20250324T080134Z
LAST-MODIFIED:20250324T080134Z
UID:4406-1743066000-1743073200@unc-alpes.fr
SUMMARY:Concert 27BCA et Ecole Jean Vallon
DESCRIPTION:A l’initiative de Cran Gevrier Animation\, Centre social de la commune déléguée de Cran-Gevrier\, une séance musicale unique est organisée entre la fanfare du 27BCA et les élèves de l’école du Vallon. \nCelle-ci aura lieu le jeudi 27 mars de 9h à 11h à la salle Jean Moulin. \nCet évènement a pour but de valoriser cette fanfare prestigieuse et d’encourager la pratique musicale auprès des jeunes. A l’occasion de ce fort moment de partage et de convivialité\, les équipes seraient honorées de votre présence. \nSi vous souhaitez participer\, nous vous remercions de vous signaler à cette adresse : proximite-crangevrier@annecy.fr. \nRestant à votre écoute et dans l’attente de vous retrouver\, \nBien cordialement\,
URL:https://unc-alpes.fr/event/concert-27bca-et-ecole-jean-vallon/
END:VEVENT
BEGIN:VEVENT
DTSTART;TZID=Europe/Paris:20250327T180000
DTEND;TZID=Europe/Paris:20250327T203000
DTSTAMP:20260425T025535
CREATED:20250214T205831Z
LAST-MODIFIED:20250214T205937Z
UID:4270-1743098400-1743107400@unc-alpes.fr
SUMMARY:Conférence « Le retour des déportés »
DESCRIPTION:AFFICHE CONFERENCE 27 mars 2025
URL:https://unc-alpes.fr/event/conference-le-retour-des-deportes/
END:VEVENT
END:VCALENDAR