BEGIN:VCALENDAR
VERSION:2.0
PRODID:-// - ECPv6.15.20//NONSGML v1.0//EN
CALSCALE:GREGORIAN
METHOD:PUBLISH
X-ORIGINAL-URL:https://unc-alpes.fr
X-WR-CALDESC:Évènements pour 
REFRESH-INTERVAL;VALUE=DURATION:PT1H
X-Robots-Tag:noindex
X-PUBLISHED-TTL:PT1H
BEGIN:VTIMEZONE
TZID:Europe/Paris
BEGIN:DAYLIGHT
TZOFFSETFROM:+0100
TZOFFSETTO:+0200
TZNAME:CEST
DTSTART:20240331T010000
END:DAYLIGHT
BEGIN:STANDARD
TZOFFSETFROM:+0200
TZOFFSETTO:+0100
TZNAME:CET
DTSTART:20241027T010000
END:STANDARD
BEGIN:DAYLIGHT
TZOFFSETFROM:+0100
TZOFFSETTO:+0200
TZNAME:CEST
DTSTART:20250330T010000
END:DAYLIGHT
BEGIN:STANDARD
TZOFFSETFROM:+0200
TZOFFSETTO:+0100
TZNAME:CET
DTSTART:20251026T010000
END:STANDARD
BEGIN:DAYLIGHT
TZOFFSETFROM:+0100
TZOFFSETTO:+0200
TZNAME:CEST
DTSTART:20260329T010000
END:DAYLIGHT
BEGIN:STANDARD
TZOFFSETFROM:+0200
TZOFFSETTO:+0100
TZNAME:CET
DTSTART:20261025T010000
END:STANDARD
END:VTIMEZONE
BEGIN:VEVENT
DTSTART;VALUE=DATE:20250317
DTEND;VALUE=DATE:20250329
DTSTAMP:20260425T025940
CREATED:20250320T085948Z
LAST-MODIFIED:20250320T090027Z
UID:4396-1742169600-1743206399@unc-alpes.fr
SUMMARY:Exposition sur le retour des déportés à Thonon
DESCRIPTION:Expo grangette
URL:https://unc-alpes.fr/event/exposition-sur-le-retour-des-deportes-a-thonon/
END:VEVENT
BEGIN:VEVENT
DTSTART;TZID=Europe/Paris:20250320T183000
DTEND;TZID=Europe/Paris:20250320T203000
DTSTAMP:20260425T025940
CREATED:20240504T144403Z
LAST-MODIFIED:20250310T072225Z
UID:3096-1742495400-1742502600@unc-alpes.fr
SUMMARY:Conférence CD74 " la restitution des biens spoliés"
DESCRIPTION:Dans le cadre du cycle de conférences organisé par les directions des Archives départementales et de la Culture-Patrimoine du Département en lien avec les commémorations du 80e anniversaire de la Libération\, Monsieur David Zivie présentera la conférence : « La restitution des biens spoliés ».\nHaut fonctionnaire au ministère de la Culture\, David Zivie est responsable de la Mission de recherche et de restitution des biens culturels spoliés (1933-1945) depuis sa création en 2019\, après avoir publié un rapport sur les politiques de recherche des biens spoliés (Des traces subsistent dans des registres\, 2018).\nDe nombreux biens culturels ont subi pillage\, vol\, confiscation… et peuvent aujourd’hui être conservés par de particuliers ou des institutions publiques.\nMonsieur Zivie présentera notamment comment ces biens sont susceptibles d’être identifiés pour ensuite être restitués à leurs propriétaires.\nCette conférence se tiendra le jeudi 20 mars à 18h30 aux Archives départementales. L’entrée est gratuite\, mais la réservation obligatoire au 04 50 33 20 80 ou à archedep@hautesavoie.fr en précisant vos coordonnées téléphoniques.
URL:https://unc-alpes.fr/event/conference-la-restitution-des-biens-spolies/
LOCATION:Archives départementales\, ANNECY
END:VEVENT
BEGIN:VEVENT
DTSTART;TZID=Europe/Paris:20250320T190000
DTEND;TZID=Europe/Paris:20250320T210000
DTSTAMP:20260425T025940
CREATED:20250227T180511Z
LAST-MODIFIED:20250227T180511Z
UID:4322-1742497200-1742504400@unc-alpes.fr
SUMMARY:Conférence « Proche et Moyen-Orient\, un nouveau Yalta ? »
DESCRIPTION:invitation CLD 3
URL:https://unc-alpes.fr/event/conference-proche-et-moyen-orient-un-nouveau-yalta/
END:VEVENT
END:VCALENDAR