BEGIN:VCALENDAR
VERSION:2.0
PRODID:-// - ECPv6.15.20//NONSGML v1.0//EN
CALSCALE:GREGORIAN
METHOD:PUBLISH
X-ORIGINAL-URL:https://unc-alpes.fr
X-WR-CALDESC:Évènements pour 
REFRESH-INTERVAL;VALUE=DURATION:PT1H
X-Robots-Tag:noindex
X-PUBLISHED-TTL:PT1H
BEGIN:VTIMEZONE
TZID:Europe/Paris
BEGIN:DAYLIGHT
TZOFFSETFROM:+0100
TZOFFSETTO:+0200
TZNAME:CEST
DTSTART:20240331T010000
END:DAYLIGHT
BEGIN:STANDARD
TZOFFSETFROM:+0200
TZOFFSETTO:+0100
TZNAME:CET
DTSTART:20241027T010000
END:STANDARD
BEGIN:DAYLIGHT
TZOFFSETFROM:+0100
TZOFFSETTO:+0200
TZNAME:CEST
DTSTART:20250330T010000
END:DAYLIGHT
BEGIN:STANDARD
TZOFFSETFROM:+0200
TZOFFSETTO:+0100
TZNAME:CET
DTSTART:20251026T010000
END:STANDARD
BEGIN:DAYLIGHT
TZOFFSETFROM:+0100
TZOFFSETTO:+0200
TZNAME:CEST
DTSTART:20260329T010000
END:DAYLIGHT
BEGIN:STANDARD
TZOFFSETFROM:+0200
TZOFFSETTO:+0100
TZNAME:CET
DTSTART:20261025T010000
END:STANDARD
END:VTIMEZONE
BEGIN:VEVENT
DTSTART;TZID=Europe/Paris:20250204T083000
DTEND;TZID=Europe/Paris:20250204T093000
DTSTAMP:20260425T043550
CREATED:20250121T125955Z
LAST-MODIFIED:20250121T125955Z
UID:4073-1738657800-1738661400@unc-alpes.fr
SUMMARY:Parrainage de la signature des contrats des EVAT
DESCRIPTION:
URL:https://unc-alpes.fr/event/parrainage-de-la-signature-des-contrats-des-evat/
LOCATION:CIRFA Annecy
END:VEVENT
BEGIN:VEVENT
DTSTART;TZID=Europe/Paris:20250204T180000
DTEND;TZID=Europe/Paris:20250204T200000
DTSTAMP:20260425T043550
CREATED:20250109T093954Z
LAST-MODIFIED:20250109T094050Z
UID:4010-1738692000-1738699200@unc-alpes.fr
SUMMARY:Réunion plénière du bureau de l'UNC 74
DESCRIPTION:
URL:https://unc-alpes.fr/event/reunion-pleniere-du-bureau-de-lunc-74/
END:VEVENT
END:VCALENDAR