BEGIN:VCALENDAR
VERSION:2.0
PRODID:-// - ECPv6.15.20//NONSGML v1.0//EN
CALSCALE:GREGORIAN
METHOD:PUBLISH
X-ORIGINAL-URL:https://unc-alpes.fr
X-WR-CALDESC:Évènements pour 
REFRESH-INTERVAL;VALUE=DURATION:PT1H
X-Robots-Tag:noindex
X-PUBLISHED-TTL:PT1H
BEGIN:VTIMEZONE
TZID:Europe/Paris
BEGIN:DAYLIGHT
TZOFFSETFROM:+0100
TZOFFSETTO:+0200
TZNAME:CEST
DTSTART:20240331T010000
END:DAYLIGHT
BEGIN:STANDARD
TZOFFSETFROM:+0200
TZOFFSETTO:+0100
TZNAME:CET
DTSTART:20241027T010000
END:STANDARD
BEGIN:DAYLIGHT
TZOFFSETFROM:+0100
TZOFFSETTO:+0200
TZNAME:CEST
DTSTART:20250330T010000
END:DAYLIGHT
BEGIN:STANDARD
TZOFFSETFROM:+0200
TZOFFSETTO:+0100
TZNAME:CET
DTSTART:20251026T010000
END:STANDARD
BEGIN:DAYLIGHT
TZOFFSETFROM:+0100
TZOFFSETTO:+0200
TZNAME:CEST
DTSTART:20260329T010000
END:DAYLIGHT
BEGIN:STANDARD
TZOFFSETFROM:+0200
TZOFFSETTO:+0100
TZNAME:CET
DTSTART:20261025T010000
END:STANDARD
END:VTIMEZONE
BEGIN:VEVENT
DTSTART;VALUE=DATE:20250202
DTEND;VALUE=DATE:20250203
DTSTAMP:20260425T044020
CREATED:20241207T184140Z
LAST-MODIFIED:20241207T184536Z
UID:3805-1738454400-1738540799@unc-alpes.fr
SUMMARY:Messe à la mémoire de tous les Morts pour la France et de ceux de l’UNC - Cathédrale Saint-Louis des Invalides -  Ravivage de la Flamme du soldat inconnu sous l’Arc de Triomphe
DESCRIPTION:31/01 au 02/02/2025 : CA de l’UNC – journées des présidents – messe solennelle à la mémoire de tous les Morts pour la France et de ceux de l’UNC en la Cathédrale Saint-Louis des Invalides –  Ravivage de la Flamme du soldat inconnu sous l’Arc de Triomphe
URL:https://unc-alpes.fr/event/messe-a-la-memoire-de-tous-les-morts-pour-la-france-et-de-ceux-de-lunc-cathedrale-saint-louis-des-invalides-ravivage-de-la-flamme-du-soldat-inconnu-sous-larc-de-triomphe/
END:VEVENT
END:VCALENDAR