BEGIN:VCALENDAR
VERSION:2.0
PRODID:-// - ECPv6.15.20//NONSGML v1.0//EN
CALSCALE:GREGORIAN
METHOD:PUBLISH
X-ORIGINAL-URL:https://unc-alpes.fr
X-WR-CALDESC:Évènements pour 
REFRESH-INTERVAL;VALUE=DURATION:PT1H
X-Robots-Tag:noindex
X-PUBLISHED-TTL:PT1H
BEGIN:VTIMEZONE
TZID:Europe/Paris
BEGIN:DAYLIGHT
TZOFFSETFROM:+0100
TZOFFSETTO:+0200
TZNAME:CEST
DTSTART:20240331T010000
END:DAYLIGHT
BEGIN:STANDARD
TZOFFSETFROM:+0200
TZOFFSETTO:+0100
TZNAME:CET
DTSTART:20241027T010000
END:STANDARD
BEGIN:DAYLIGHT
TZOFFSETFROM:+0100
TZOFFSETTO:+0200
TZNAME:CEST
DTSTART:20250330T010000
END:DAYLIGHT
BEGIN:STANDARD
TZOFFSETFROM:+0200
TZOFFSETTO:+0100
TZNAME:CET
DTSTART:20251026T010000
END:STANDARD
BEGIN:DAYLIGHT
TZOFFSETFROM:+0100
TZOFFSETTO:+0200
TZNAME:CEST
DTSTART:20260329T010000
END:DAYLIGHT
BEGIN:STANDARD
TZOFFSETFROM:+0200
TZOFFSETTO:+0100
TZNAME:CET
DTSTART:20261025T010000
END:STANDARD
END:VTIMEZONE
BEGIN:VEVENT
DTSTART;VALUE=DATE:20250131
DTEND;VALUE=DATE:20250201
DTSTAMP:20260425T043902
CREATED:20241210T101412Z
LAST-MODIFIED:20250128T143719Z
UID:3852-1738281600-1738367999@unc-alpes.fr
SUMMARY:AG de l'UNC Salève
DESCRIPTION:
URL:https://unc-alpes.fr/event/ag-de-lunc-saleve/
END:VEVENT
BEGIN:VEVENT
DTSTART;TZID=Europe/Paris:20250131T080000
DTEND;TZID=Europe/Paris:20250131T170000
DTSTAMP:20260425T043902
CREATED:20241207T183647Z
LAST-MODIFIED:20241207T183647Z
UID:3801-1738310400-1738342800@unc-alpes.fr
SUMMARY:CA de l’UNC
DESCRIPTION:31/01 au 02/02/2025 : CA de l’UNC – journées des présidents – messe solennelle à la mémoire de tous les Morts pour la France et de ceux de l’UNC en la Cathédrale Saint-Louis des Invalides –  Ravivage de la Flamme du soldat inconnu sous l’Arc de Triomphe
URL:https://unc-alpes.fr/event/ca-de-lunc/
END:VEVENT
BEGIN:VEVENT
DTSTART;TZID=Europe/Paris:20250131T080000
DTEND;TZID=Europe/Paris:20250131T170000
DTSTAMP:20260425T043902
CREATED:20250128T143538Z
LAST-MODIFIED:20250128T143538Z
UID:4177-1738310400-1738342800@unc-alpes.fr
SUMMARY:CA de l'UNC-siège
DESCRIPTION:
URL:https://unc-alpes.fr/event/ca-de-lunc-siege/
END:VEVENT
END:VCALENDAR