BEGIN:VCALENDAR
VERSION:2.0
PRODID:-// - ECPv6.15.20//NONSGML v1.0//EN
CALSCALE:GREGORIAN
METHOD:PUBLISH
X-ORIGINAL-URL:https://unc-alpes.fr
X-WR-CALDESC:Évènements pour 
REFRESH-INTERVAL;VALUE=DURATION:PT1H
X-Robots-Tag:noindex
X-PUBLISHED-TTL:PT1H
BEGIN:VTIMEZONE
TZID:Europe/Paris
BEGIN:DAYLIGHT
TZOFFSETFROM:+0100
TZOFFSETTO:+0200
TZNAME:CEST
DTSTART:20240331T010000
END:DAYLIGHT
BEGIN:STANDARD
TZOFFSETFROM:+0200
TZOFFSETTO:+0100
TZNAME:CET
DTSTART:20241027T010000
END:STANDARD
BEGIN:DAYLIGHT
TZOFFSETFROM:+0100
TZOFFSETTO:+0200
TZNAME:CEST
DTSTART:20250330T010000
END:DAYLIGHT
BEGIN:STANDARD
TZOFFSETFROM:+0200
TZOFFSETTO:+0100
TZNAME:CET
DTSTART:20251026T010000
END:STANDARD
BEGIN:DAYLIGHT
TZOFFSETFROM:+0100
TZOFFSETTO:+0200
TZNAME:CEST
DTSTART:20260329T010000
END:DAYLIGHT
BEGIN:STANDARD
TZOFFSETFROM:+0200
TZOFFSETTO:+0100
TZNAME:CET
DTSTART:20261025T010000
END:STANDARD
END:VTIMEZONE
BEGIN:VEVENT
DTSTART;VALUE=DATE:20250119
DTEND;VALUE=DATE:20250120
DTSTAMP:20260425T055414
CREATED:20250108T184109Z
LAST-MODIFIED:20250108T184109Z
UID:3994-1737244800-1737331199@unc-alpes.fr
SUMMARY:AG UNC Groisy
DESCRIPTION:
URL:https://unc-alpes.fr/event/ag-unc-groisy/
END:VEVENT
BEGIN:VEVENT
DTSTART;TZID=Europe/Paris:20250119T103000
DTEND;TZID=Europe/Paris:20250119T123000
DTSTAMP:20260425T055414
CREATED:20241216T142046Z
LAST-MODIFIED:20241216T142222Z
UID:3871-1737282600-1737289800@unc-alpes.fr
SUMMARY:81e ANNIVERSAIRE  DE LA MORT DE RICHARD ANDRÈS ET LÉON BOUVARD
DESCRIPTION:Invitation_81eme_anniversaire_MortRAndresLBouvard
URL:https://unc-alpes.fr/event/81e-anniversaire-de-la-mort-de-richard-andres-et-leon-bouvard/
END:VEVENT
END:VCALENDAR