BEGIN:VCALENDAR
VERSION:2.0
PRODID:-// - ECPv6.15.20//NONSGML v1.0//EN
CALSCALE:GREGORIAN
METHOD:PUBLISH
X-ORIGINAL-URL:https://unc-alpes.fr
X-WR-CALDESC:Évènements pour 
REFRESH-INTERVAL;VALUE=DURATION:PT1H
X-Robots-Tag:noindex
X-PUBLISHED-TTL:PT1H
BEGIN:VTIMEZONE
TZID:Europe/Paris
BEGIN:DAYLIGHT
TZOFFSETFROM:+0100
TZOFFSETTO:+0200
TZNAME:CEST
DTSTART:20230326T010000
END:DAYLIGHT
BEGIN:STANDARD
TZOFFSETFROM:+0200
TZOFFSETTO:+0100
TZNAME:CET
DTSTART:20231029T010000
END:STANDARD
BEGIN:DAYLIGHT
TZOFFSETFROM:+0100
TZOFFSETTO:+0200
TZNAME:CEST
DTSTART:20240331T010000
END:DAYLIGHT
BEGIN:STANDARD
TZOFFSETFROM:+0200
TZOFFSETTO:+0100
TZNAME:CET
DTSTART:20241027T010000
END:STANDARD
BEGIN:DAYLIGHT
TZOFFSETFROM:+0100
TZOFFSETTO:+0200
TZNAME:CEST
DTSTART:20250330T010000
END:DAYLIGHT
BEGIN:STANDARD
TZOFFSETFROM:+0200
TZOFFSETTO:+0100
TZNAME:CET
DTSTART:20251026T010000
END:STANDARD
END:VTIMEZONE
BEGIN:VEVENT
DTSTART;TZID=Europe/Paris:20240927T160000
DTEND;TZID=Europe/Paris:20240927T170000
DTSTAMP:20260425T125545
CREATED:20240927T172612Z
LAST-MODIFIED:20240927T172612Z
UID:3315-1727452800-1727456400@unc-alpes.fr
SUMMARY:COMMISSION MEMOIRE ET DHPD
DESCRIPTION:
URL:https://unc-alpes.fr/event/commission-memoire-et-dhpd/
END:VEVENT
BEGIN:VEVENT
DTSTART;TZID=Europe/Paris:20240927T170000
DTEND;TZID=Europe/Paris:20240927T190000
DTSTAMP:20260425T125545
CREATED:20240429T173522Z
LAST-MODIFIED:20240524T142242Z
UID:2996-1727456400-1727463600@unc-alpes.fr
SUMMARY:Conférence ONaCVG "la Toussaint sanglante\, 1er novembre 1954"
DESCRIPTION:par Patrick LECUPRE
URL:https://unc-alpes.fr/event/conference-la-toussaint-sanglante-1er-novembre-1954/
LOCATION:Salle Glière du Conseil Départemental\, 1 rue du 30ème Régiment d'infanterie\, ANNECY
END:VEVENT
END:VCALENDAR