BEGIN:VCALENDAR
VERSION:2.0
PRODID:-// - ECPv6.15.20//NONSGML v1.0//EN
CALSCALE:GREGORIAN
METHOD:PUBLISH
X-ORIGINAL-URL:https://unc-alpes.fr
X-WR-CALDESC:Évènements pour 
REFRESH-INTERVAL;VALUE=DURATION:PT1H
X-Robots-Tag:noindex
X-PUBLISHED-TTL:PT1H
BEGIN:VTIMEZONE
TZID:Europe/Paris
BEGIN:DAYLIGHT
TZOFFSETFROM:+0100
TZOFFSETTO:+0200
TZNAME:CEST
DTSTART:20230326T010000
END:DAYLIGHT
BEGIN:STANDARD
TZOFFSETFROM:+0200
TZOFFSETTO:+0100
TZNAME:CET
DTSTART:20231029T010000
END:STANDARD
BEGIN:DAYLIGHT
TZOFFSETFROM:+0100
TZOFFSETTO:+0200
TZNAME:CEST
DTSTART:20240331T010000
END:DAYLIGHT
BEGIN:STANDARD
TZOFFSETFROM:+0200
TZOFFSETTO:+0100
TZNAME:CET
DTSTART:20241027T010000
END:STANDARD
BEGIN:DAYLIGHT
TZOFFSETFROM:+0100
TZOFFSETTO:+0200
TZNAME:CEST
DTSTART:20250330T010000
END:DAYLIGHT
BEGIN:STANDARD
TZOFFSETFROM:+0200
TZOFFSETTO:+0100
TZNAME:CET
DTSTART:20251026T010000
END:STANDARD
END:VTIMEZONE
BEGIN:VEVENT
DTSTART;TZID=Europe/Paris:20240601T100000
DTEND;TZID=Europe/Paris:20240601T120000
DTSTAMP:20260425T180854
CREATED:20240524T140405Z
LAST-MODIFIED:20240524T142738Z
UID:3234-1717236000-1717243200@unc-alpes.fr
SUMMARY:Conférence ONaCVG "le rôle de la Résistance dans la libération du Territoire (printemps 1944-mai1945)"
DESCRIPTION:par Fabrice GRENARD de la Fondation de la Résistance\nInscription par mail : conferences.onacvg74@gmail.com\n            par téléphone : 04-50-88-40-93
URL:https://unc-alpes.fr/event/conference-le-role-de-la-resistance-dans-la-liberation-du-territoire-printemps-1944-mai1945/
LOCATION:Salle Glière du Conseil Départemental\, 1 rue du 30ème Régiment d'infanterie\, ANNECY
END:VEVENT
END:VCALENDAR