BEGIN:VCALENDAR
VERSION:2.0
PRODID:-// - ECPv6.15.20//NONSGML v1.0//EN
CALSCALE:GREGORIAN
METHOD:PUBLISH
X-ORIGINAL-URL:https://unc-alpes.fr
X-WR-CALDESC:Évènements pour 
REFRESH-INTERVAL;VALUE=DURATION:PT1H
X-Robots-Tag:noindex
X-PUBLISHED-TTL:PT1H
BEGIN:VTIMEZONE
TZID:Europe/Paris
BEGIN:DAYLIGHT
TZOFFSETFROM:+0100
TZOFFSETTO:+0200
TZNAME:CEST
DTSTART:20230326T010000
END:DAYLIGHT
BEGIN:STANDARD
TZOFFSETFROM:+0200
TZOFFSETTO:+0100
TZNAME:CET
DTSTART:20231029T010000
END:STANDARD
BEGIN:DAYLIGHT
TZOFFSETFROM:+0100
TZOFFSETTO:+0200
TZNAME:CEST
DTSTART:20240331T010000
END:DAYLIGHT
BEGIN:STANDARD
TZOFFSETFROM:+0200
TZOFFSETTO:+0100
TZNAME:CET
DTSTART:20241027T010000
END:STANDARD
BEGIN:DAYLIGHT
TZOFFSETFROM:+0100
TZOFFSETTO:+0200
TZNAME:CEST
DTSTART:20250330T010000
END:DAYLIGHT
BEGIN:STANDARD
TZOFFSETFROM:+0200
TZOFFSETTO:+0100
TZNAME:CET
DTSTART:20251026T010000
END:STANDARD
END:VTIMEZONE
BEGIN:VEVENT
DTSTART;TZID=Europe/Paris:20240517T183000
DTEND;TZID=Europe/Paris:20240517T203000
DTSTAMP:20260425T193047
CREATED:20240504T142926Z
LAST-MODIFIED:20240504T142926Z
UID:3084-1715970600-1715977800@unc-alpes.fr
SUMMARY:Conférence "La guerre est aussi une affaire de Femmes"
DESCRIPTION:Le sauvetage et les femmes dans le département de la Haute Savoie\npar Cindy BIESSE historienne\, membre du LARHRA\, chercheure associée  et enseignante en classe préparatoire
URL:https://unc-alpes.fr/event/conference-la-guerre-est-aussi-une-affaire-de-femmes/
LOCATION:Auditorium du Pôle culturel de la visitation\, THONON LES BAINS
END:VEVENT
END:VCALENDAR